BEGIN:VCALENDAR
VERSION:2.0
PRODID:-//Austin Technology Council - ECPv6.11.0.1//NONSGML v1.0//EN
CALSCALE:GREGORIAN
METHOD:PUBLISH
X-WR-CALNAME:Austin Technology Council
X-ORIGINAL-URL:https://www.austintechnologycouncil.org
X-WR-CALDESC:Events for Austin Technology Council
REFRESH-INTERVAL;VALUE=DURATION:PT1H
X-Robots-Tag:noindex
X-PUBLISHED-TTL:PT1H
BEGIN:VTIMEZONE
TZID:America/Chicago
BEGIN:DAYLIGHT
TZOFFSETFROM:-0600
TZOFFSETTO:-0500
TZNAME:CDT
DTSTART:20220313T080000
END:DAYLIGHT
BEGIN:STANDARD
TZOFFSETFROM:-0500
TZOFFSETTO:-0600
TZNAME:CST
DTSTART:20221106T070000
END:STANDARD
END:VTIMEZONE
BEGIN:VEVENT
DTSTART;TZID=America/Chicago:20220217T183000
DTEND;TZID=America/Chicago:20220217T194500
DTSTAMP:20260423T063314
CREATED:20220121T222136Z
LAST-MODIFIED:20220121T231819Z
UID:10001657-1645122600-1645127100@www.austintechnologycouncil.org
SUMMARY:SXSW 2022 Programming Preview with Hugh Forrest
DESCRIPTION:SXSW 2022 is finally coming back in-person (and online)\, after two years of absence (2020) and online-only (2021) programming — and oh\, how the work\, culture\, entertainment\, society\, and conferences have changed! \nJoin us for a programming preview of SXSW and plenty of online discussion with the head honcho of SXSW himself. \nLearn how SXSW 2022 will be different\, and better in the new normal from SXSW Chief Programming Officer and longtime Austin Forum support\, Hugh Forrest.  He’ll discuss with Austin Forum Executive Director\, Jay Boisseau\, and the audience how this year’s programming will address the evolving and emerging themes that influence and shape how we work\, learn\, play\, live\, and more. \n 
URL:https://www.austintechnologycouncil.org/event/sxsw-2022-programming-preview-with-hugh-forrest/
LOCATION:Zoom\, Select a Country:
CATEGORIES:Community Event
ATTACH;FMTTYPE=image/jpeg:https://www.austintechnologycouncil.org/wp-content/uploads/2022/01/sxsw1-scaled.jpeg
ORGANIZER;CN="Austin Forum on Technology &amp%3B Society":MAILTO:info@austinforum.org
END:VEVENT
BEGIN:VEVENT
DTSTART;TZID=America/Chicago:20220201T180000
DTEND;TZID=America/Chicago:20220201T194500
DTSTAMP:20260423T063314
CREATED:20220114T042127Z
LAST-MODIFIED:20220114T042127Z
UID:10001651-1643738400-1643744700@www.austintechnologycouncil.org
SUMMARY:The Present and Future of Gaming
DESCRIPTION:Electronic gaming is a huge industry\, larger even than music and film\, and encompasses options and platforms for everyone: From casual games on smartphones\, to visually realistic games on consoles and PCs\, to massive online games and platforms leveraging data centers and clouds. \nIt has inspired tremendous amounts of content on social media and streaming services\, and has spawned E-sports leagues and competitions. And yet\, gaming should not be thought of solely in terms of entertainment. Advances in games and delivery platforms drive technology advances in components and systems that have benefits in other areas of business and life. And\, gaming techniques can be used to enhance education and learning\, human productivity\, skills development and training\, and more. \nLearn from gaming and design experts Patrick Currey (Farbridge) and Erik Summa (Dell Technologies) about the latest trends and technologies in gaming (including those just announced at CES!)\, how the gaming industry and landscape are changing and its influence on business and society.​
URL:https://www.austintechnologycouncil.org/event/the-present-and-future-of-gaming/
LOCATION:Zoom\, Select a Country:
CATEGORIES:Community Event
ATTACH;FMTTYPE=image/jpeg:https://www.austintechnologycouncil.org/wp-content/uploads/2022/01/florian-olivo-Mf23RF8xArY-unsplash-scaled.jpg
ORGANIZER;CN="Austin Forum on Technology &amp%3B Society":MAILTO:info@austinforum.org
END:VEVENT
BEGIN:VEVENT
DTSTART;TZID=America/Chicago:20220111T080000
DTEND;TZID=America/Chicago:20220111T170000
DTSTAMP:20260423T063314
CREATED:20220114T040250Z
LAST-MODIFIED:20220114T040250Z
UID:10001650-1641888000-1641920400@www.austintechnologycouncil.org
SUMMARY:How Can Tech Companies Support Social Good?
DESCRIPTION:Tech is booming even in the midst of a global pandemic. Many tech companies are achieving better-than-ever revenue and profits\, sending tech stocks soaring. Salaries for tech executives and engineers are rising as well which creates a competitive marketplace for top talent. But this prosperity is not shared by all. In tech\, women and people of color are underrepresented and under compensated. For those not in tech careers/companies pressures on rising costs of living squeeze tight margins even more. These disparities can significantly increase inequities for marginalized communities. \nBut all is not lost. With the proper mindset and tools\, the tech community can both continue to achieve AND contribute to the social good. We are here to share ways that companies and individuals can give back. \nIn this discussion\, moderators (and Austin civic/community leaders) Chelsea Collier and Jessica Sager will share programs and avenues to encourage your next steps. We also welcome the opportunities to add ideas and programs to this discussion. So get ready to get creative and help our community leapfrog the possible!
URL:https://www.austintechnologycouncil.org/event/how-can-tech-companies-support-social-good/
LOCATION:Zoom\, Select a Country:
CATEGORIES:Community Event
ATTACH;FMTTYPE=image/jpeg:https://www.austintechnologycouncil.org/wp-content/uploads/2022/01/mapbox-LJtfV2Dkp4U-unsplash-scaled.jpg
ORGANIZER;CN="Austin Forum on Technology &amp%3B Society":MAILTO:info@austinforum.org
END:VEVENT
END:VCALENDAR