BEGIN:VCALENDAR
VERSION:2.0
PRODID:-//Austin Technology Council - ECPv6.11.0.1//NONSGML v1.0//EN
CALSCALE:GREGORIAN
METHOD:PUBLISH
X-ORIGINAL-URL:https://www.austintechnologycouncil.org
X-WR-CALDESC:Events for Austin Technology Council
REFRESH-INTERVAL;VALUE=DURATION:PT1H
X-Robots-Tag:noindex
X-PUBLISHED-TTL:PT1H
BEGIN:VTIMEZONE
TZID:America/Chicago
BEGIN:DAYLIGHT
TZOFFSETFROM:-0600
TZOFFSETTO:-0500
TZNAME:CDT
DTSTART:20200308T080000
END:DAYLIGHT
BEGIN:STANDARD
TZOFFSETFROM:-0500
TZOFFSETTO:-0600
TZNAME:CST
DTSTART:20201101T070000
END:STANDARD
END:VTIMEZONE
BEGIN:VEVENT
DTSTART;TZID=America/Chicago:20200916T140000
DTEND;TZID=America/Chicago:20200916T170000
DTSTAMP:20260420T043221
CREATED:20200911T220644Z
LAST-MODIFIED:20200911T220644Z
UID:10001860-1600264800-1600275600@www.austintechnologycouncil.org
SUMMARY:Austin Civic Priorities Workshop
DESCRIPTION:Do you want to better understand and help address Austin’s greatest civic challenges? ​\nJoin us as leaders from the City of Austin and other civic organizations share top issues and priorities for Austin at this public event hosted by the Austin Smart City Alliance. Civic leaders will share urgent and important challenges to address to help make Austin better for all\, then we will discuss how ‘smart city’ approaches—collecting data and using analytics to improve operations and decisions—can help address these challenges. \nThis Austin Civic Priorities Workshop is online on Wednesday\, September 16 from 2:00pm to 5:00pm. Registration is free\, and attendance is open to everyone. \nAt this workshop\, City of Austin and other civic organization leaders will share their top three priorities in concise 15 minute presentations that answer the questions: \n\nWhat are the City’s biggest needs?\nWhat are biggest challenges to addressing these needs?\nHow might data and technology help address these needs?\nWhat are the biggest opportunities ahead in this domain/area?\nWhat can companies\, universities\, and other organizations do to help?\n\nAfter all departments/speakers have presented\, we will evaluate the entire set of priorities\, identify the recurring/cross-cutting themes\, and discuss how data and technology—and Austin’s companies\, non-profits\, and universities—may be able to help solve these issues. This will enable our community to work together to formulate potentially high-impact projects. \nFinal speakers and their timeslots will be posted by September 4th. \nAttendance is free and open to all.
URL:https://www.austintechnologycouncil.org/event/austin-civic-priorities-workshop/
LOCATION:Zoom\, Select a Country:
CATEGORIES:Community Event
END:VEVENT
END:VCALENDAR