BEGIN:VCALENDAR
VERSION:2.0
PRODID:-//Austin Technology Council - ECPv6.11.0.1//NONSGML v1.0//EN
CALSCALE:GREGORIAN
METHOD:PUBLISH
X-WR-CALNAME:Austin Technology Council
X-ORIGINAL-URL:https://www.austintechnologycouncil.org
X-WR-CALDESC:Events for Austin Technology Council
REFRESH-INTERVAL;VALUE=DURATION:PT1H
X-Robots-Tag:noindex
X-PUBLISHED-TTL:PT1H
BEGIN:VTIMEZONE
TZID:America/Chicago
BEGIN:DAYLIGHT
TZOFFSETFROM:-0600
TZOFFSETTO:-0500
TZNAME:CDT
DTSTART:20200308T080000
END:DAYLIGHT
BEGIN:STANDARD
TZOFFSETFROM:-0500
TZOFFSETTO:-0600
TZNAME:CST
DTSTART:20201101T070000
END:STANDARD
END:VTIMEZONE
BEGIN:VEVENT
DTSTART;TZID=America/Chicago:20200324T113000
DTEND;TZID=America/Chicago:20200324T133000
DTSTAMP:20260419T113717
CREATED:20200324T184802Z
LAST-MODIFIED:20200324T184802Z
UID:10001437-1585049400-1585056600@www.austintechnologycouncil.org
SUMMARY:FREE MEAL FOR SERVICE INDUSTRY FOLKS
DESCRIPTION:????Service Industry Friends! On Tuesday\, March 24th\, in light of the Covid-19 Pandemic\, and as part of our #TSOGIVING mission to help fight hunger\, @TsoChineseDelivery is offering ✨FREE meals to SERVICE INDUSTRY✨folks in need\, who have lost their jobs from their place of work. \nDetails & Instructions: (Please make sure to read) \n????Location: Tso Chinese Delivery – Arboretum Crossing. 9333 Research Blvd\, Ste E-402 (Next to Concentra Urgent Care)\, Austin\, TX 78759 \n⏰ Time: 11:30am – 1:30pm or until 100 cars have been serviced (Whichever happens first). \n???? Meal Options: Chicken Fried Rice\, General Tso Chicken w/ Steamed Rice\, Broccoli Chicken w/ Steamed Rice \n???? Vegetarian Options will be offered. \n???? 3 Meal maximum per car. Please only ask for as many as you need. \nThere will be a drive-through queue in front of our store. Recipients should stay in their car and wait in the vehicle line\, and drive forward until it’s their turn. \n???? In order to maintain no contact\, recipients are asked to stay in their cars and open their trunk. We will then place their meal(s) in their trunk\, and close it. \n❤️ How to give back: Tso is seeking donations to help offset the expenses of the free meals. 100% of donations will go towards the #tsogiving fund\, whose mission is to help fight hunger. \nVENMO: www.venmo.com/tsogiving\nGOFUNDME: www.gofundme.com/tsogiving\nTSOWEBSITE: www.tsodelivery.com/merch \nPlease share this and tag your service industry friends! Thank you for your support! #TsoGiving
URL:https://www.austintechnologycouncil.org/event/free-meal-for-service-industry-folks/
LOCATION:Tso Chinese Delivery\, 9333 Research Blvd Bldg E\, Ste 402\, Austin\, TX\, 78702\, United States
CATEGORIES:Community Event
ATTACH;FMTTYPE=image/png:https://www.austintechnologycouncil.org/wp-content/uploads/2020/03/Image-from-iOS.png
ORGANIZER;CN="Tso Chinese Delivery":MAILTO:tsogiving@tsodelivery.com
END:VEVENT
END:VCALENDAR