BEGIN:VCALENDAR
VERSION:2.0
PRODID:-//Austin Technology Council - ECPv6.11.0.1//NONSGML v1.0//EN
CALSCALE:GREGORIAN
METHOD:PUBLISH
X-ORIGINAL-URL:https://www.austintechnologycouncil.org
X-WR-CALDESC:Events for Austin Technology Council
REFRESH-INTERVAL;VALUE=DURATION:PT1H
X-Robots-Tag:noindex
X-PUBLISHED-TTL:PT1H
BEGIN:VTIMEZONE
TZID:America/Chicago
BEGIN:DAYLIGHT
TZOFFSETFROM:-0600
TZOFFSETTO:-0500
TZNAME:CDT
DTSTART:20180311T080000
END:DAYLIGHT
BEGIN:STANDARD
TZOFFSETFROM:-0500
TZOFFSETTO:-0600
TZNAME:CST
DTSTART:20181104T070000
END:STANDARD
BEGIN:DAYLIGHT
TZOFFSETFROM:-0600
TZOFFSETTO:-0500
TZNAME:CDT
DTSTART:20190310T080000
END:DAYLIGHT
BEGIN:STANDARD
TZOFFSETFROM:-0500
TZOFFSETTO:-0600
TZNAME:CST
DTSTART:20191103T070000
END:STANDARD
BEGIN:DAYLIGHT
TZOFFSETFROM:-0600
TZOFFSETTO:-0500
TZNAME:CDT
DTSTART:20200308T080000
END:DAYLIGHT
BEGIN:STANDARD
TZOFFSETFROM:-0500
TZOFFSETTO:-0600
TZNAME:CST
DTSTART:20201101T070000
END:STANDARD
BEGIN:DAYLIGHT
TZOFFSETFROM:-0600
TZOFFSETTO:-0500
TZNAME:CDT
DTSTART:20210314T080000
END:DAYLIGHT
BEGIN:STANDARD
TZOFFSETFROM:-0500
TZOFFSETTO:-0600
TZNAME:CST
DTSTART:20211107T070000
END:STANDARD
BEGIN:DAYLIGHT
TZOFFSETFROM:-0600
TZOFFSETTO:-0500
TZNAME:CDT
DTSTART:20220313T080000
END:DAYLIGHT
BEGIN:STANDARD
TZOFFSETFROM:-0500
TZOFFSETTO:-0600
TZNAME:CST
DTSTART:20221106T070000
END:STANDARD
END:VTIMEZONE
BEGIN:VEVENT
DTSTART;TZID=America/Chicago:20220915T090000
DTEND;TZID=America/Chicago:20220915T140000
DTSTAMP:20260422T204850
CREATED:20220826T221024Z
LAST-MODIFIED:20220826T221024Z
UID:10001734-1663232400-1663250400@www.austintechnologycouncil.org
SUMMARY:GroundBreakers Austin Finals
DESCRIPTION:Announcing GroundBreakers Austin\, a startup pitch competition from John Deere and the Austin Technology Incubator showcasing the tech that will feed the world of the future: AgTech\, AI/ML\, sensors\, mobile UI/UX\, fintech\, clean-energy powertrain & more. \nREGISTER NOW \nJoin us on Thursday\, September 15 at Rowling Hall\, UT Austin.
URL:https://www.austintechnologycouncil.org/event/groundbreakers-austin-finals/
LOCATION:The University of Texas at Austin\, 309 East 21st Street\, Austin\, DC\, 78712\, United States
CATEGORIES:Community Event
ATTACH;FMTTYPE=image/jpeg:https://www.austintechnologycouncil.org/wp-content/uploads/2022/08/GBA-finals-horiz-815x416-1.jpg
ORGANIZER;CN="Austin Technology Incubator":MAILTO:info@ati.utexas.edu
END:VEVENT
BEGIN:VEVENT
DTSTART;TZID=America/Chicago:20180726T120000
DTEND;TZID=America/Chicago:20180728T170000
DTSTAMP:20260422T204850
CREATED:20180423T194515Z
LAST-MODIFIED:20180430T150935Z
UID:10001171-1532606400-1532797200@www.austintechnologycouncil.org
SUMMARY:IEEE-USA Future Leaders Forum
DESCRIPTION:IEEE-USA’s 2nd Future Leaders Forum – where some of the brightest minds in industry connect with the leaders of tomorrow. \nA 2+day\, one of a kind conference that provides attendees with interactive learning\, entrepreneurial skills and motivational speakers while taking them on an incredible journey centered around four themes – Lead\, Empower\, Adapt\, and Design. \nThis exciting event will be held this July 26-28 in Austin\, Texas. \nRegistration is now open!
URL:https://www.austintechnologycouncil.org/event/ieee-usa-future-leaders-forum/
LOCATION:The University of Texas at Austin\, 309 East 21st Street\, Austin\, DC\, 78712\, United States
CATEGORIES:Community Event,Featured Event
ATTACH;FMTTYPE=image/jpeg:https://www.austintechnologycouncil.org/wp-content/uploads/2018/04/FLF2016.jpg
ORGANIZER;CN="IEEE-USA":MAILTO:d.iams@ieee.org
END:VEVENT
END:VCALENDAR