BEGIN:VCALENDAR
VERSION:2.0
PRODID:-//Austin Technology Council - ECPv6.11.0.1//NONSGML v1.0//EN
CALSCALE:GREGORIAN
METHOD:PUBLISH
X-WR-CALNAME:Austin Technology Council
X-ORIGINAL-URL:https://www.austintechnologycouncil.org
X-WR-CALDESC:Events for Austin Technology Council
REFRESH-INTERVAL;VALUE=DURATION:PT1H
X-Robots-Tag:noindex
X-PUBLISHED-TTL:PT1H
BEGIN:VTIMEZONE
TZID:America/Chicago
BEGIN:DAYLIGHT
TZOFFSETFROM:-0600
TZOFFSETTO:-0500
TZNAME:CDT
DTSTART:20180311T080000
END:DAYLIGHT
BEGIN:STANDARD
TZOFFSETFROM:-0500
TZOFFSETTO:-0600
TZNAME:CST
DTSTART:20181104T070000
END:STANDARD
BEGIN:DAYLIGHT
TZOFFSETFROM:-0600
TZOFFSETTO:-0500
TZNAME:CDT
DTSTART:20190310T080000
END:DAYLIGHT
BEGIN:STANDARD
TZOFFSETFROM:-0500
TZOFFSETTO:-0600
TZNAME:CST
DTSTART:20191103T070000
END:STANDARD
END:VTIMEZONE
BEGIN:VEVENT
DTSTART;TZID=America/Chicago:20190205T073000
DTEND;TZID=America/Chicago:20190205T093000
DTSTAMP:20260420T042914
CREATED:20190108T154825Z
LAST-MODIFIED:20190108T154825Z
UID:10001517-1549351800-1549359000@www.austintechnologycouncil.org
SUMMARY:Breakfast Workshop: Do you have a Sales Culture?
DESCRIPTION:Do you have a Sales Culture?\nHave breakfast with other sales leaders and attend the “Create a Sales Culture” seminar \nAs sales leaders\, we are always looking for the secret sauce. The best tools for pipeline management and forecasting. The best way to recruit high performing sales champions. Developing a killer “go to market” strategy. \nThere are no quick fixes but there are some simple truths. The most challenging and powerful thing we can do as sales leaders is to create a sales culture that drives performance and attracts the best possible talent. A culture that makes your team wake up every morning hungry to get results and eager to be the best versions of themselves. That’s what a healthy sales culture can create and as the leader; you are the biggest driver of culture. \nIn this two-hour workshop\, we will discuss:\n* How to create high standards that people want to live up to\n* The elements of a sales process that creates deeper more lasting customer relationships\n* Ways to move from metrics to inspiration\n* The keys to creating internal collaboration vs. internal competition\n* Coaching skills that improve performance without creating resentment
URL:https://www.austintechnologycouncil.org/event/breakfast-workshop-do-you-have-a-sales-culture/
LOCATION:The Studio ATX\, 2400 East Cesar Chavez Street\, Suite 212\, Austin\, 78702\, United States
CATEGORIES:Community Event
ORGANIZER;CN="Method Three Events LLC":MAILTO:events@methodthree.com
END:VEVENT
BEGIN:VEVENT
DTSTART;TZID=America/Chicago:20181201T210000
DTEND;TZID=America/Chicago:20181202T030000
DTSTAMP:20260420T042914
CREATED:20180924T191604Z
LAST-MODIFIED:20180924T191604Z
UID:10001501-1543698000-1543719600@www.austintechnologycouncil.org
SUMMARY:The Roaring 20's - The Juice Joint
DESCRIPTION:VIP – $100 | GA – $85\n$90 at the door | Group Discounts Available \nA portion of the funds raised will benefit Latinitas Austin: Latinitas Austin empowers all girls to innovate through media and technology. \nWe invite you to join us to celebrate the end of prohibition\nwhile we empower the next generation of Flappers! \nVIP Doors open at 9PM | Meet the Artist: Emily Mercedes and Whitney Turetzky. You will have a private viewing to meet the artist and hear what inspired them along with a specialty cocktail inspired by the artwork limited to VIP only.\nHeavy Hors d’oeuvres will be served. \nGeneral Admission Doors open at 10PM | You will enjoy craft cocktails\, heavy Hors d’oeuvres and live music from Savannah Red. along with games of chance\, a photo booth and surprise entertainment throughout the evening. The mood will be themed 1920’s so be sure to come in your best flapper dress or zoot suite. \nYou will be fully immersed in the tumultuous era of America with the enforcement of prohibition. But the 20’s were not entirely bad\, it brought about the uprising of women’s rights with flappers paving the way for the current day woman and last but not least the way we party! People went to their local speakeasy all duddied up for a little giggle water and danced the night away. \nMethod Three Events will create an experience for all to relish and invite you to be a part of the journey to a time that changed history and the way we enjoy spirits today. \nLet’s empower our next generation of Flappers! \nThanks to our partners! \nAtxGals | Coco Coquette | Edible Austin \n21+Only | NO REFUNDS – TICKETS MAY BE TRANSFERRED
URL:https://www.austintechnologycouncil.org/event/the-roaring-20s-the-juice-joint/
LOCATION:The Studio ATX\, 2400 East Cesar Chavez Street\, Suite 212\, Austin\, 78702\, United States
ATTACH;FMTTYPE=image/jpeg:https://www.austintechnologycouncil.org/wp-content/uploads/2018/09/Prohibition.jpg
ORGANIZER;CN="Method Three Events LLC":MAILTO:events@methodthree.com
END:VEVENT
BEGIN:VEVENT
DTSTART;TZID=America/Chicago:20181020T180000
DTEND;TZID=America/Chicago:20181020T210000
DTSTAMP:20260420T042914
CREATED:20180924T191539Z
LAST-MODIFIED:20181002T210932Z
UID:10001499-1540058400-1540069200@www.austintechnologycouncil.org
SUMMARY:Eastside Craft Delight Mixology Class
DESCRIPTION:Looking for something different to do on a Saturday? Want something fun and unique?\nThis “DIY Craft Cocktail class” will meet your needs and more! You will have an opportunity to craft three cocktails during this hands-on experience to learn the craft of mixing\, stirring\, garnishing and last but not least\, the art SHAKING!\n\nOctober 20 Class Details\nHalloween themed beverages so you can be the highlight of the evening when you craft delicious “spirits” for your party.\nWe will provide heavy appetizers from area restaurants to keep you satisfied during your mixology journey.\nHow it’ll work: The event is divided into three groups at 6:00 pm\, 7:00 pm\, and 8:00 pm with a maximum of 10 people per time slot. Be sure to select the best time for you to create a crafty beverage with your friends.\nPLEASE ARRIVE AT THE DESIGNATED TIME TO ENSURE YOU RECEIVE THE FULL EXPERIENCE. IF YOU ARRIVE LATE\, YOU FORFEIT YOUR PLACE IN THE ROTATION.\nWith a limited class size\, you’ll have a chance to interact with the mixologist directly with a detailed description of each spirit.\nA portion of funds raised will benefit Seedling.\nSeedling supports children challenged by parental incarceration with innovative\, research-driven\, school-based mentoring.\nhttps://www.facebook.com/events/206252293376519/\n\n21+ ONLY | NO REFUNDS | PRIVATE CLASSES ARE AVAILABLE FOR A SEPARATE FEE\n\nFor questions\, please email: events@methodthree.com
URL:https://www.austintechnologycouncil.org/event/eastside-craft-delight-mixology-class-2/
LOCATION:The Studio ATX\, 2400 East Cesar Chavez Street\, Suite 212\, Austin\, 78702\, United States
ATTACH;FMTTYPE=image/png:https://www.austintechnologycouncil.org/wp-content/uploads/2018/09/June-222F23-5-1.png
ORGANIZER;CN="Method Three Events LLC":MAILTO:events@methodthree.com
END:VEVENT
END:VCALENDAR