BEGIN:VCALENDAR
VERSION:2.0
PRODID:-//Austin Technology Council - ECPv6.11.0.1//NONSGML v1.0//EN
CALSCALE:GREGORIAN
METHOD:PUBLISH
X-WR-CALNAME:Austin Technology Council
X-ORIGINAL-URL:https://www.austintechnologycouncil.org
X-WR-CALDESC:Events for Austin Technology Council
REFRESH-INTERVAL;VALUE=DURATION:PT1H
X-Robots-Tag:noindex
X-PUBLISHED-TTL:PT1H
BEGIN:VTIMEZONE
TZID:America/Chicago
BEGIN:DAYLIGHT
TZOFFSETFROM:-0600
TZOFFSETTO:-0500
TZNAME:CDT
DTSTART:20210314T080000
END:DAYLIGHT
BEGIN:STANDARD
TZOFFSETFROM:-0500
TZOFFSETTO:-0600
TZNAME:CST
DTSTART:20211107T070000
END:STANDARD
BEGIN:DAYLIGHT
TZOFFSETFROM:-0600
TZOFFSETTO:-0500
TZNAME:CDT
DTSTART:20220313T080000
END:DAYLIGHT
BEGIN:STANDARD
TZOFFSETFROM:-0500
TZOFFSETTO:-0600
TZNAME:CST
DTSTART:20221106T070000
END:STANDARD
END:VTIMEZONE
BEGIN:VEVENT
DTSTART;TZID=America/Chicago:20221004T080000
DTEND;TZID=America/Chicago:20221005T170000
DTSTAMP:20260424T144051
CREATED:20220923T014721Z
LAST-MODIFIED:20220923T014721Z
UID:10002067-1664870400-1664989200@www.austintechnologycouncil.org
SUMMARY:Navigate '22
DESCRIPTION:An exclusive annual event hosted by SailPoint that brings together the best and brightest thinkers and practitioners to accelerate the latest in identity security. Join your industry peers\, hear about new technology innovations\, and absorb the latest industry thought leadership. \nREGISTER NOW
URL:https://www.austintechnologycouncil.org/event/navigate-22/
LOCATION:The Fairmont\, 101 Red River St\, Austin\, TX\, 78701\, United States
ORGANIZER;CN="SailPoint":MAILTO:navigate@sailpoint.com
GEO:30.2622245;-97.7385483
X-APPLE-STRUCTURED-LOCATION;VALUE=URI;X-ADDRESS=The Fairmont 101 Red River St Austin TX 78701 United States;X-APPLE-RADIUS=500;X-TITLE=101 Red River St:geo:-97.7385483,30.2622245
END:VEVENT
BEGIN:VEVENT
DTSTART;TZID=America/Chicago:20211108T130000
DTEND;TZID=America/Chicago:20211108T210000
DTSTAMP:20260424T144051
CREATED:20210715T200031Z
LAST-MODIFIED:20211028T230207Z
UID:10001962-1636376400-1636405200@www.austintechnologycouncil.org
SUMMARY:CEO Summit 2021
DESCRIPTION:Austin tech C-Suite executives converge in this year’s monumental Austin Technology Council CEO Summit. The tech industry made a historic impact on 2020. Our reach and ability to support every sector of society is fueling a decade of growth and innovation never seen before. \nAustin is the hub for global tech innovation and will soon be a home and beacon for funders that help drive it. \nCEO Summit\, presented by Workhorse Marketing is an afternoon to evening forum where over 150 of Austin’s leading technology CEOs \n\nNetwork\nLearn about cutting-edge best practices\nShare expertise with peers\nBegin & revive projects that will continue to make Austin a place for small to enterprise tech companies\n\nATC IS COMMITTED TO PROMOTING AND SUPPORTING THE GROWTH OF THE AUSTIN TECH ECOSYSTEM\nIn this spirit\, the day is filled with panels\, breakouts\, happy hours\, networking. The CEO Summit is an exclusive event for C-Suite executives only. If you have questions please reach out to Rachel at rachel@www.austintechnologycouncil.org. \nAgenda:\n1:00 PM || Registration and VIP Facilitated Pre-Summit Networking \n2:30 PM || Panel One: “From Clicks to Coins: Where Your Data is Headed in 2022\,” sponsored by Brain+Trust Partners \n3:20 PM || Panel Two: “Thinking Finnovatively: Thinking About the Innovation in Fintech\,” sponsored by FIS Global \n4:10 PM || Panel Three: “The Great Resignation\,” sponsored by improving \n5:00 PM || Happy Hour\, hosted by IDA Ireland and Armanino \n6:15 PM || Fireside Keynote with Jim Breyer\, Founder and CEO of Breyer Capital\, hosted by Perkins Coie \n7:30 PM || Dinner \n9:00 PM || Closing \nFeatured Keynote: Jim Breyer\n \nJim is the Founder and CEO of Breyer Capital\, a premier venture capital firm based in Austin\, TX and Menlo Park\, CA. Jim has been an early investor in over 40 technology companies that have completed highly successful public offerings or mergers. \nAs a lead investor and Director\, many of these investments\, including Facebook\, returned well over 100 times their cost\, and over a dozen more have returned well over 25 times their cost. \nOver the past several years\, Jim has developed a deep personal and investment interest in long-term oriented entrepreneurs and teams working in artificial/augmented intelligence (AI) and human-assisted intelligence (HAI) and he has made numerous investments in this space. \nJim currently serves on the board of directors of Blackstone (BX) and has previously served as an investor/lead Director at 21st Century Fox\, Dell\, Etsy\, Facebook\, Marvel Entertainment\, Wal-Mart\, and many other highly successful technology companies. \nJim serves on the Advisory Board at the Tsinghua University School of Economics and Management. He is a member of Harvard Business School’s Board of Dean’s Advisors\, a member of Harvard University’s Global Advisory Council since inception; a founding member of the Dean’s Advisory Board at Stanford’s School of Engineering and a Chairman of the Stanford Engineering Venture Fund as well as a Founding Member of the Stanford Institute for Human-Assisted Artificial Intelligence Advisory Board which was launched in March\, 2019. He was formerly a Fellow of Harvard Corporation\, Harvard’s senior governing board. He also is a member of the University of Texas President’s Innovation Board. \nIn addition\, Jim is a long-time active volunteer as a Trustee of SFMOMA\, The Metropolitan Museum of Art in New York\, the American Film Institute (AFI) in Los Angeles\, and Stanford’s Center for Philanthropy and Civil Society (PACS). \nThanks to Our Sponsors:\nWorkhorse Marketing; Consero Global; Digital Realty; Luna Data Solutions; SailPoint Technologies; NetSpend; Perkins Coie LLP; Brain+Trust Partners; FIS Global; improving; IDA Ireland; Armanino LLP; American Airlines; Cherry Bekaert; LightEdge Solutions; Weaver; ZRG Partners
URL:https://www.austintechnologycouncil.org/event/ceo-summit-2021/
LOCATION:The Fairmont\, 101 Red River St\, Austin\, TX\, 78701\, United States
CATEGORIES:ATC Event,Featured Event
ATTACH;FMTTYPE=image/png:https://www.austintechnologycouncil.org/wp-content/uploads/2021/07/CEO-Summit-2021.png
GEO:30.2622245;-97.7385483
X-APPLE-STRUCTURED-LOCATION;VALUE=URI;X-ADDRESS=The Fairmont 101 Red River St Austin TX 78701 United States;X-APPLE-RADIUS=500;X-TITLE=101 Red River St:geo:-97.7385483,30.2622245
END:VEVENT
END:VCALENDAR