BEGIN:VCALENDAR
VERSION:2.0
PRODID:-//Austin Technology Council - ECPv6.11.0.1//NONSGML v1.0//EN
CALSCALE:GREGORIAN
METHOD:PUBLISH
X-WR-CALNAME:Austin Technology Council
X-ORIGINAL-URL:https://www.austintechnologycouncil.org
X-WR-CALDESC:Events for Austin Technology Council
REFRESH-INTERVAL;VALUE=DURATION:PT1H
X-Robots-Tag:noindex
X-PUBLISHED-TTL:PT1H
BEGIN:VTIMEZONE
TZID:America/Los_Angeles
BEGIN:DAYLIGHT
TZOFFSETFROM:-0800
TZOFFSETTO:-0700
TZNAME:PDT
DTSTART:20170312T100000
END:DAYLIGHT
BEGIN:STANDARD
TZOFFSETFROM:-0700
TZOFFSETTO:-0800
TZNAME:PST
DTSTART:20171105T090000
END:STANDARD
END:VTIMEZONE
BEGIN:VEVENT
DTSTART;TZID=America/Los_Angeles:20171129T080000
DTEND;TZID=America/Los_Angeles:20171130T170000
DTSTAMP:20260420T022656
CREATED:20171110T171450Z
LAST-MODIFIED:20171110T171450Z
UID:10001078-1511942400-1512061200@www.austintechnologycouncil.org
SUMMARY:IoT Tech Expo
DESCRIPTION:ClearBlade is a Gold Sponsor of the IoT Tech Expo North America event\, bringing together key industries from across America for 2 days of top level content and discussion around the latest innovations within the Internet of Things and covering Manufacturing\, Transport\, Health\, Logistics\, Government\, Energy and Automotive. \nCEO Eric Simone will be part of a panel on November 29th at 9:50am Panel: Creating a competitive edge with the IIoT\nCTO Aaron Allsbrook will present a session on November 29th at 1:40pm with Aparna Jue\, Product Manager\, Stanley Black & Decker\, Inc.: Bringing IoT into Industrial Environments
URL:https://www.austintechnologycouncil.org/event/iot-tech-expo/
LOCATION:Santa Clara Convention Center\, 5001 Great America Pkwy\, Santa Clara\, CA\, 95054\, United States
CATEGORIES:Community Event
ATTACH;FMTTYPE=image/jpeg:https://www.austintechnologycouncil.org/wp-content/uploads/2017/11/cb_events_img-iottech.jpg
ORGANIZER;CN="IoT Tech Expo":MAILTO:info@iottechexpo.com
END:VEVENT
END:VCALENDAR