BEGIN:VCALENDAR
VERSION:2.0
PRODID:-//Austin Technology Council - ECPv6.11.0.1//NONSGML v1.0//EN
CALSCALE:GREGORIAN
METHOD:PUBLISH
X-WR-CALNAME:Austin Technology Council
X-ORIGINAL-URL:https://www.austintechnologycouncil.org
X-WR-CALDESC:Events for Austin Technology Council
REFRESH-INTERVAL;VALUE=DURATION:PT1H
X-Robots-Tag:noindex
X-PUBLISHED-TTL:PT1H
BEGIN:VTIMEZONE
TZID:America/Chicago
BEGIN:DAYLIGHT
TZOFFSETFROM:-0600
TZOFFSETTO:-0500
TZNAME:CDT
DTSTART:20190310T080000
END:DAYLIGHT
BEGIN:STANDARD
TZOFFSETFROM:-0500
TZOFFSETTO:-0600
TZNAME:CST
DTSTART:20191103T070000
END:STANDARD
END:VTIMEZONE
BEGIN:VEVENT
DTSTART;TZID=America/Chicago:20190221T121500
DTEND;TZID=America/Chicago:20190221T180000
DTSTAMP:20260420T133632
CREATED:20190114T202710Z
LAST-MODIFIED:20190114T202710Z
UID:10001519-1550751300-1550772000@www.austintechnologycouncil.org
SUMMARY:Digital Analytics Association Austin Symposium
DESCRIPTION:About the DAA Austin Symposium\nWho: Analytics and Marketing Professionals\nWhat: DAA Austin Symposium \nDAA Symposia bring together digital analytics\, web analytics\, marketing and business professionals for a day of learning\, knowledge-sharing and networking. \nA collaboration between the DAA and our member-driven chapters\, DAA Symposia combine world-class industry speakers with local digital analytics professionals in conversations that are both timely and forward-thinking\, providing attendees with actionable insights they can implement immediately in their day-to-day role. These events provide a convenient\, cost-effective opportunity to further your industry knowledge\, as well as actively contribute your unique experiences and expertise within the analytics community.
URL:https://www.austintechnologycouncil.org/event/digital-analytics-association-austin-symposium/
LOCATION:IBM\, 11501 Burnet Road\, Austin\, TX\, 78758\, United States
CATEGORIES:Community Event
ATTACH;FMTTYPE=image/jpeg:https://www.austintechnologycouncil.org/wp-content/uploads/2019/01/daa-austin-event-page-1.jpg
ORGANIZER;CN="Austin Technology Council":MAILTO:info@www.austintechnologycouncil.org
END:VEVENT
END:VCALENDAR