BEGIN:VCALENDAR
VERSION:2.0
PRODID:-//Austin Technology Council - ECPv6.11.0.1//NONSGML v1.0//EN
CALSCALE:GREGORIAN
METHOD:PUBLISH
X-ORIGINAL-URL:https://www.austintechnologycouncil.org
X-WR-CALDESC:Events for Austin Technology Council
REFRESH-INTERVAL;VALUE=DURATION:PT1H
X-Robots-Tag:noindex
X-PUBLISHED-TTL:PT1H
BEGIN:VTIMEZONE
TZID:America/Chicago
BEGIN:DAYLIGHT
TZOFFSETFROM:-0600
TZOFFSETTO:-0500
TZNAME:CDT
DTSTART:20250309T080000
END:DAYLIGHT
BEGIN:STANDARD
TZOFFSETFROM:-0500
TZOFFSETTO:-0600
TZNAME:CST
DTSTART:20251102T070000
END:STANDARD
END:VTIMEZONE
BEGIN:VEVENT
DTSTART;TZID=America/Chicago:20250122T113000
DTEND;TZID=America/Chicago:20250122T130000
DTSTAMP:20260424T134906
CREATED:20250108T161501Z
LAST-MODIFIED:20250108T161502Z
UID:10002137-1737545400-1737550800@www.austintechnologycouncil.org
SUMMARY:Tech Along I-35 / Austin to San Antonio Corridor Luncheon
DESCRIPTION:We’re partnering with ACG and Tech Bloc for a special lunch in in the heart of the Texas Innovation Corridor focusing on “Growing Tech Opportunities Along I-35”. Our panelists will include Terry Zrubek\, Deputy Executive Director\, Economic Development & Tourism Office – Office of Texas Governor Greg Abbott\, Harold Strong\, Executive Director of STAR Park at Texas State\, & Ileana Gonzalez\, CEO of Tech Bloc. This event is sponsored by Dykema.  Thom Singer\, CEO at ATC will moderate the panel.  \nEarly Bird Reg. Rates available through Thursday\, January 16th: ATC Members @ $60./Non-Members @ $95. Late Registration Rates begin on Friday\, January 17th thru 5PM on Tuesday\, January 21st (or until we sell out): ATC Members @ $70./Non-Members @ $105. \nDate/Time: Wednesday\, January 22\, 2025\, 11:30AM-1PM \nLocation: Holiday Inn San Marcos\, located @ 105 Bintu Dr.\, San Marcos\, 78666. Free parking is available onsite. \nAttire: Business or Business Casual. \nDietary Restrictions – While some dietary restrictions are based on medical conditions\, allergies\, or religious convictions that must be strictly observed\, others may be based on personal preferences. It’s important to differentiate between the two to ensure we address everyone’s needs appropriately. Please ensure any dietary requests that are submitted are based on restrictions and not preferences. \nCancellation Policy – Cancellations received in writing to thom@AustinTechnologyCouncil.org by Thursday\, January 16th will receive a full refund. There are no refunds for cancellations received after Thurs. Jan. 16th. If you are an ATC Member unable to attend\, you can transfer your registration to another person for this same event. If the person attending in your place is not an ATC Member\, they will need to pay an additional fee to bring them up to the non-member rate to attend. \nYour registration for this event acts as an audio/video release and includes your permission for ACG Austin/San Antonio to use your image and comments captured on audio\, video or photographic formats while attending the event for marketing and promotional purposes. \nIf you have questions or need last minute assistance\, please email Sara Singer\, ACG Austin/San Antonio Chapter Executive @ acgasa@acg.org or send a text to 512-970-0417 \n  \nREGISTER NOW
URL:https://www.austintechnologycouncil.org/event/tech-along-i-35-austin-to-san-antonio-corridor-luncheon/
LOCATION:Holiday Inn San Marcos\, 105 Bintu Dr.\, San Marcos\, TX\, 78666\, United States
CATEGORIES:ATC Event,Community Event,Featured Event
ATTACH;FMTTYPE=image/png:https://www.austintechnologycouncil.org/wp-content/uploads/2025/01/Add-a-subheading-8.png
ORGANIZER;CN="Austin Technology Council":MAILTO:info@www.austintechnologycouncil.org
GEO:29.8599041;-97.9514499
X-APPLE-STRUCTURED-LOCATION;VALUE=URI;X-ADDRESS=Holiday Inn San Marcos 105 Bintu Dr. San Marcos TX 78666 United States;X-APPLE-RADIUS=500;X-TITLE=105 Bintu Dr.:geo:-97.9514499,29.8599041
END:VEVENT
END:VCALENDAR