BEGIN:VCALENDAR
VERSION:2.0
PRODID:-//Austin Technology Council - ECPv6.11.0.1//NONSGML v1.0//EN
CALSCALE:GREGORIAN
METHOD:PUBLISH
X-ORIGINAL-URL:https://www.austintechnologycouncil.org
X-WR-CALDESC:Events for Austin Technology Council
REFRESH-INTERVAL;VALUE=DURATION:PT1H
X-Robots-Tag:noindex
X-PUBLISHED-TTL:PT1H
BEGIN:VTIMEZONE
TZID:America/Chicago
BEGIN:DAYLIGHT
TZOFFSETFROM:-0600
TZOFFSETTO:-0500
TZNAME:CDT
DTSTART:20190310T080000
END:DAYLIGHT
BEGIN:STANDARD
TZOFFSETFROM:-0500
TZOFFSETTO:-0600
TZNAME:CST
DTSTART:20191103T070000
END:STANDARD
END:VTIMEZONE
BEGIN:VEVENT
DTSTART;TZID=America/Chicago:20191206T130000
DTEND;TZID=America/Chicago:20191206T160000
DTSTAMP:20260420T145427
CREATED:20191104T203838Z
LAST-MODIFIED:20191104T205106Z
UID:10001716-1575637200-1575648000@www.austintechnologycouncil.org
SUMMARY:Xtreme Xperience with RingCentral
DESCRIPTION:At RingCentral\, we understand today’s consumers want fast\, hassle-free\, personalized interactions across multiple-channels—driving even the most traditional industries to shift gears towards a customer-centric philosophy. Join us at Driveway Austin to learn how RingCentral can put your company in the pole position by transforming your customer experience. \n\n\n\n1:00–1:15 p.m. — Welcome and check-in\n\n\n\n\n\n\n1:15–1:50 p.m. — RingCentral Customer Experience presentation\n\n\n\n\n\n\n1:50–3:00 p.m. — Driver pre-briefing and driving experience\n\n\n\n\n\n\n3:00–4:00 p.m. — Networking and reception
URL:https://www.austintechnologycouncil.org/event/xtreme-xperience-with-ringcentral/
LOCATION:Driveway Austin Motorsports\, 8400 Delwau Ln\, Austin\, TX\, 78725\, United States
CATEGORIES:Community Event
ATTACH;FMTTYPE=image/png:https://www.austintechnologycouncil.org/wp-content/uploads/2019/11/ATC-–-RingCentralLogo.png
END:VEVENT
END:VCALENDAR