BEGIN:VCALENDAR
VERSION:2.0
PRODID:-//Austin Technology Council - ECPv6.11.0.1//NONSGML v1.0//EN
CALSCALE:GREGORIAN
METHOD:PUBLISH
X-WR-CALNAME:Austin Technology Council
X-ORIGINAL-URL:https://www.austintechnologycouncil.org
X-WR-CALDESC:Events for Austin Technology Council
REFRESH-INTERVAL;VALUE=DURATION:PT1H
X-Robots-Tag:noindex
X-PUBLISHED-TTL:PT1H
BEGIN:VTIMEZONE
TZID:America/Chicago
BEGIN:DAYLIGHT
TZOFFSETFROM:-0600
TZOFFSETTO:-0500
TZNAME:CDT
DTSTART:20210314T080000
END:DAYLIGHT
BEGIN:STANDARD
TZOFFSETFROM:-0500
TZOFFSETTO:-0600
TZNAME:CST
DTSTART:20211107T070000
END:STANDARD
END:VTIMEZONE
BEGIN:VEVENT
DTSTART;TZID=America/Chicago:20211102T180000
DTEND;TZID=America/Chicago:20211102T194500
DTSTAMP:20260419T073605
CREATED:20211020T192537Z
LAST-MODIFIED:20211020T192537Z
UID:10001638-1635876000-1635882300@www.austintechnologycouncil.org
SUMMARY:Quantum Computing: Transformational Capability
DESCRIPTION:Computing has become pervasive in our lives\, with microprocessors of many types\, scales\, and characteristics powering everything from home devices to high performance computing systems\, from digital sensors to data centers\, from cars to cloud computing services. Persistent exponential advances in microprocessors and semiconductor technologies present more performance at less cost and lower power consumption annually. However\, there are important applications in healthcare\, energy\, environment\, security\, and more for which the annual increases in microprocessors remain woefully insufficient. Researchers\, technology companies\, government agencies\, and others around the world are eager to discover and develop new methods of computing that can offer orders of magnitude greater performance for these societally important applications–and the leading candidate is now quantum computing. \nWhat is quantum computing? Is it ‘real’\, and what makes it promising for these kinds of applications? What are the scientific principles that underpin it? What are the technologies and companies that are most promising now? How will it complement ‘classical’ computing technologies? When will it offer real impact for your company or organization (and your competitors) and what should you start doing to prepare for quantum computing? Our panel of experts–whurley of Strangeworks\, Aparna Prabhakar of IBM\, and Ken Durazzo of Dell Technologies–will answer these questions and more\, including yours! \n​Join us in-person or on Zoom for this great conversation!
URL:https://www.austintechnologycouncil.org/event/quantum-computing-transformational-capability/
LOCATION:Austin Central Library\, 710 W Cesar Chavez St\, Austin\, TX\, 78701\, United States
ATTACH;FMTTYPE=image/jpeg:https://www.austintechnologycouncil.org/wp-content/uploads/2021/10/quantum.jpeg
ORGANIZER;CN="Austin Forum on Technology &amp%3B Society":MAILTO:info@austinforum.org
END:VEVENT
END:VCALENDAR