BEGIN:VCALENDAR
VERSION:2.0
PRODID:-//Austin Technology Council - ECPv6.11.0.1//NONSGML v1.0//EN
CALSCALE:GREGORIAN
METHOD:PUBLISH
X-ORIGINAL-URL:https://www.austintechnologycouncil.org
X-WR-CALDESC:Events for Austin Technology Council
REFRESH-INTERVAL;VALUE=DURATION:PT1H
X-Robots-Tag:noindex
X-PUBLISHED-TTL:PT1H
BEGIN:VTIMEZONE
TZID:America/Chicago
BEGIN:DAYLIGHT
TZOFFSETFROM:-0600
TZOFFSETTO:-0500
TZNAME:CDT
DTSTART:20200308T080000
END:DAYLIGHT
BEGIN:STANDARD
TZOFFSETFROM:-0500
TZOFFSETTO:-0600
TZNAME:CST
DTSTART:20201101T070000
END:STANDARD
END:VTIMEZONE
BEGIN:VEVENT
DTSTART;TZID=America/Chicago:20200911T080000
DTEND;TZID=America/Chicago:20200930T170000
DTSTAMP:20260419T215550
CREATED:20200911T191831Z
LAST-MODIFIED:20200911T191831Z
UID:10001859-1599811200-1601485200@www.austintechnologycouncil.org
SUMMARY:Digital Jobs Career Summit
DESCRIPTION:This online summit is designed to give job seekers and tech ladder climbers a competitive advantage in this ever-changing career marketplace. \nOur experts and mentors will be providing industry secrets\, tools\, and best practices to help you cut through the crap and get ahead. \nYou’ll get unlimited access to all sessions for 30 days OR a full year (your choice!) \n\n\n\n\n\n100% ONLINE watch when you want\, where you want\n\n\n\n\n\n\n\n\n\n\n\n\n\n\n\n\nLearn exclusive strategies and actions you can take NOW\n\n\n\n\nREGISTER
URL:https://www.austintechnologycouncil.org/event/digital-jobs-career-summit/
LOCATION:Online\, Select a Country:
CATEGORIES:Community Event
ATTACH;FMTTYPE=image/jpeg:https://www.austintechnologycouncil.org/wp-content/uploads/2020/09/summit-ad-5.jpg
END:VEVENT
END:VCALENDAR