BEGIN:VCALENDAR
VERSION:2.0
PRODID:-//Austin Technology Council - ECPv6.11.0.1//NONSGML v1.0//EN
CALSCALE:GREGORIAN
METHOD:PUBLISH
X-ORIGINAL-URL:https://www.austintechnologycouncil.org
X-WR-CALDESC:Events for Austin Technology Council
REFRESH-INTERVAL;VALUE=DURATION:PT1H
X-Robots-Tag:noindex
X-PUBLISHED-TTL:PT1H
BEGIN:VTIMEZONE
TZID:America/Chicago
BEGIN:DAYLIGHT
TZOFFSETFROM:-0600
TZOFFSETTO:-0500
TZNAME:CDT
DTSTART:20200308T080000
END:DAYLIGHT
BEGIN:STANDARD
TZOFFSETFROM:-0500
TZOFFSETTO:-0600
TZNAME:CST
DTSTART:20201101T070000
END:STANDARD
END:VTIMEZONE
BEGIN:VEVENT
DTSTART;TZID=America/Chicago:20200204T073000
DTEND;TZID=America/Chicago:20200204T090000
DTSTAMP:20260419T231643
CREATED:20191209T214914Z
LAST-MODIFIED:20191209T214914Z
UID:10001430-1580801400-1580806800@www.austintechnologycouncil.org
SUMMARY:Feb 4 Women In Tech Roundtable
DESCRIPTION:ROUNDTABLE: WOMEN IN TECH\n“PHILANTHROPY”\nMonthly breakfasts targeted to specific groups within the Austin technology community to come together in a small group of 25-40. These events include a featured speaker who kicks off open discussion amongst attendees. \nAGENDA\n7:30 – 8:00 AM Networking over light breakfast \n8:00 – 9:00 AM Program: Facilitator may have a short presentation with the bulk of the conversation being an open discussion between guests. \nFAQs\nHow can I contact the organizer with any questions? \nPlease e-mail info@www.austintechnologycouncil.org with any questions. \nEmail info@www.austintechnologycouncil.org for information about sponsoring this event.
URL:https://www.austintechnologycouncil.org/event/feb-4-women-in-tech-roundtable/
CATEGORIES:ATC Event
ATTACH;FMTTYPE=image/png:https://www.austintechnologycouncil.org/wp-content/uploads/2019/12/24-WTR.png
ORGANIZER;CN="Austin Technology Council":MAILTO:info@www.austintechnologycouncil.org
END:VEVENT
BEGIN:VEVENT
DTSTART;TZID=America/Chicago:20200107T073000
DTEND;TZID=America/Chicago:20200107T090000
DTSTAMP:20260419T231643
CREATED:20191209T214109Z
LAST-MODIFIED:20191226T160822Z
UID:10001429-1578382200-1578387600@www.austintechnologycouncil.org
SUMMARY:Women In Tech: Negotiating Your Salary
DESCRIPTION:ROUNDTABLE: WOMEN IN TECH\n“NEGOTIATING YOUR SALARY”\nWomen constantly make strides to bridge the gender pay gap. Technology companies can lead the pack when in comes to equal pay. ATC presents a breakfast roundtable with facilitator Madhavi Rao\, Chief Strategy Officer\, Valkyrie\, to kick off the conversation about implementing tangible and proactive initiatives that lead to equitable pay in your company. In addition\, we’ll touch on resources available to emlpoyees that ensure they are getting paid what they’re worth in the Austin tech sector. \nMonthly breakfasts targeted to specific groups within the Austin technology community to come together in a small group of 25-40. These events include a featured speaker who kicks off open discussion amongst attendees. \nAGENDA\n7:30 – 8:00 AM Networking over light breakfast \n8:00 – 9:00 AM Program: Facilitator may have a short presentation with the bulk of the conversation being an open discussion between guests. \nFAQs\nHow can I contact the organizer with any questions? \nPlease e-mail info@www.austintechnologycouncil.org with any questions.
URL:https://www.austintechnologycouncil.org/event/jan-7-women-in-tech-roundtable/
LOCATION:Calavista\, 3700 N Capital of Texas Hwy #450\, Austin\, TX\, 78746\, United States
CATEGORIES:ATC Event,Featured Event
ATTACH;FMTTYPE=image/png:https://www.austintechnologycouncil.org/wp-content/uploads/2019/12/Jan-7-Women-in-Tech.png
ORGANIZER;CN="Austin Technology Council":MAILTO:info@www.austintechnologycouncil.org
END:VEVENT
END:VCALENDAR