BEGIN:VCALENDAR
VERSION:2.0
PRODID:-//Austin Technology Council - ECPv6.11.0.1//NONSGML v1.0//EN
CALSCALE:GREGORIAN
METHOD:PUBLISH
X-ORIGINAL-URL:https://www.austintechnologycouncil.org
X-WR-CALDESC:Events for Austin Technology Council
REFRESH-INTERVAL;VALUE=DURATION:PT1H
X-Robots-Tag:noindex
X-PUBLISHED-TTL:PT1H
BEGIN:VTIMEZONE
TZID:America/Chicago
BEGIN:DAYLIGHT
TZOFFSETFROM:-0600
TZOFFSETTO:-0500
TZNAME:CDT
DTSTART:20180311T080000
END:DAYLIGHT
BEGIN:STANDARD
TZOFFSETFROM:-0500
TZOFFSETTO:-0600
TZNAME:CST
DTSTART:20181104T070000
END:STANDARD
END:VTIMEZONE
BEGIN:VEVENT
DTSTART;VALUE=DATE:20180911
DTEND;VALUE=DATE:20180913
DTSTAMP:20260422T204447
CREATED:20180905T205115Z
LAST-MODIFIED:20180905T205115Z
UID:10001484-1536624000-1536796799@www.austintechnologycouncil.org
SUMMARY:Data Center Austin Conference
DESCRIPTION:The Data Center Austin Conference (DCAC) is more akin to South by Southwest (SXSW) for the data center industry\, than your average run-of-the-mill data center conference. Just as SXSW helps “creative people achieve their goals\,” likewise\, DCAC helps bring the most relevant thought leaders in the data center industry under one roof\, in order to collaborate\, innovate\, and motivate. \nThese individuals will discuss what they are doing to support technological developments that are changing the world. \nBy understanding the current needs\, investments\, and visions of the most highly advanced tech companies such as Uber\, Microsoft\, and Facebook\, others in the industry can better equip themselves for tomorrow’s demands in technology.
URL:https://www.austintechnologycouncil.org/event/data-center-austin-conference/
LOCATION:Brazos Hall\, 204 E 4th St\, Austin\, Texas\, 78701
CATEGORIES:Community Event
ATTACH;FMTTYPE=image/jpeg:https://www.austintechnologycouncil.org/wp-content/uploads/2018/09/DCACeventbriteBrazos.jpeg
END:VEVENT
END:VCALENDAR