BEGIN:VCALENDAR
VERSION:2.0
PRODID:-//Austin Technology Council - ECPv6.11.0.1//NONSGML v1.0//EN
CALSCALE:GREGORIAN
METHOD:PUBLISH
X-WR-CALNAME:Austin Technology Council
X-ORIGINAL-URL:https://www.austintechnologycouncil.org
X-WR-CALDESC:Events for Austin Technology Council
REFRESH-INTERVAL;VALUE=DURATION:PT1H
X-Robots-Tag:noindex
X-PUBLISHED-TTL:PT1H
BEGIN:VTIMEZONE
TZID:America/Chicago
BEGIN:DAYLIGHT
TZOFFSETFROM:-0600
TZOFFSETTO:-0500
TZNAME:CDT
DTSTART:20200308T080000
END:DAYLIGHT
BEGIN:STANDARD
TZOFFSETFROM:-0500
TZOFFSETTO:-0600
TZNAME:CST
DTSTART:20201101T070000
END:STANDARD
END:VTIMEZONE
BEGIN:VEVENT
DTSTART;TZID=America/Chicago:20200817T080000
DTEND;TZID=America/Chicago:20200817T170000
DTSTAMP:20260419T123636
CREATED:20200817T174641Z
LAST-MODIFIED:20200817T174641Z
UID:10001838-1597651200-1597683600@www.austintechnologycouncil.org
SUMMARY:Anthem | ai Modernizing Behavioral Health Hack
DESCRIPTION:Create solutions for those struggling with mental health during difficult times\, such as a global pandemic and in the fight for equality. Help to improve the lives of especially vulnerable groups to overcome barriers like stigma\, cost\, awareness\, and access to support. Access exclusive Anthem | ai data sets\, employ innovative thinking\, and compete for the $20k prize pool for top projects. Join and create a solution to modernize behavioral health.
URL:https://www.austintechnologycouncil.org/event/anthem-ai-modernizing-behavioral-health-hack/
CATEGORIES:Community Event
ATTACH;FMTTYPE=image/png:https://www.austintechnologycouncil.org/wp-content/uploads/2020/08/52678936-0-BMA-AnthemdateLayer-2.png
END:VEVENT
END:VCALENDAR