BEGIN:VCALENDAR
VERSION:2.0
PRODID:-//Austin Technology Council - ECPv6.11.0.1//NONSGML v1.0//EN
CALSCALE:GREGORIAN
METHOD:PUBLISH
X-ORIGINAL-URL:https://www.austintechnologycouncil.org
X-WR-CALDESC:Events for Austin Technology Council
REFRESH-INTERVAL;VALUE=DURATION:PT1H
X-Robots-Tag:noindex
X-PUBLISHED-TTL:PT1H
BEGIN:VTIMEZONE
TZID:America/Chicago
BEGIN:DAYLIGHT
TZOFFSETFROM:-0600
TZOFFSETTO:-0500
TZNAME:CDT
DTSTART:20250309T080000
END:DAYLIGHT
BEGIN:STANDARD
TZOFFSETFROM:-0500
TZOFFSETTO:-0600
TZNAME:CST
DTSTART:20251102T070000
END:STANDARD
END:VTIMEZONE
BEGIN:VEVENT
DTSTART;TZID=America/Chicago:20250506T181500
DTEND;TZID=America/Chicago:20250506T194500
DTSTAMP:20260423T190103
CREATED:20250409T122719Z
LAST-MODIFIED:20250409T122719Z
UID:10002170-1746555300-1746560700@www.austintechnologycouncil.org
SUMMARY:The Importance of UX in the Age of AI
DESCRIPTION:Our daily lives now involve almost continuous interactions with technologies via their interfaces. Artificial intelligence is changing the way we interact with some technologies: AI lets us talk to our devices naturally\, using everyday language and gestures. However\, not all interfaces are AI\, and just having AI embedded does not ensure productivity\, simplicity\, and enjoyment for all use cases. Thus\, user experience (UX) design is important to ensure our increasingly technology-enabled lives are productive\, efficient\, and enjoyable. In this presentation\, experienced UX designer Erik Summa will share how UX continues to play an important role in making technologies useful and enjoyable\, and especially how AI is changing UX and the way we design technologies for the maximum benefit of humans. \nErik Summa is an AI Experience Leader at Dell Technologies who specializes in designing intuitive human-AI interactions through natural interfaces. With 15+ years in the creative industry and over five years mentoring future designers\, he transforms complex AI capabilities into seamless\, human-centered experiences. \nSumma is an AI Experience Leader at Dell Technologies who specializes in designing intuitive human-AI interactions through natural interfaces. With 15+ years in the creative industry and over five years mentoring future designers\, he transforms complex AI capabilities into seamless\, human-centered experiences.
URL:https://www.austintechnologycouncil.org/event/the-importance-of-ux-in-the-age-of-ai/
LOCATION:The Center for Government and Civic Service\, ACC Rio Grande: Building 3000\, 1218 West Avenue\, Austin\, T\, 78701\, United States
CATEGORIES:Community Event
ORGANIZER;CN="Austin Forum on Technology &amp%3B Society":MAILTO:info@austinforum.org
END:VEVENT
END:VCALENDAR