BEGIN:VCALENDAR
VERSION:2.0
PRODID:-//Austin Technology Council - ECPv6.11.0.1//NONSGML v1.0//EN
CALSCALE:GREGORIAN
METHOD:PUBLISH
X-ORIGINAL-URL:https://www.austintechnologycouncil.org
X-WR-CALDESC:Events for Austin Technology Council
REFRESH-INTERVAL;VALUE=DURATION:PT1H
X-Robots-Tag:noindex
X-PUBLISHED-TTL:PT1H
BEGIN:VTIMEZONE
TZID:America/Chicago
BEGIN:DAYLIGHT
TZOFFSETFROM:-0600
TZOFFSETTO:-0500
TZNAME:CDT
DTSTART:20230312T080000
END:DAYLIGHT
BEGIN:STANDARD
TZOFFSETFROM:-0500
TZOFFSETTO:-0600
TZNAME:CST
DTSTART:20231105T070000
END:STANDARD
END:VTIMEZONE
BEGIN:VEVENT
DTSTART;TZID=America/Chicago:20230726T191500
DTEND;TZID=America/Chicago:20230726T203000
DTSTAMP:20260424T202242
CREATED:20230721T175026Z
LAST-MODIFIED:20230721T175026Z
UID:10002108-1690398900-1690403400@www.austintechnologycouncil.org
SUMMARY:Discussion of "The Genesis Machine: Our Quest to Rewrite Life in the Age of Synthetic Biology"
DESCRIPTION:For our July monthly online discussion\, SXSW Co-President & Chief Programming Officer\, Hugh Forrest\, will lead us in a conversation about synthetic biology\, genetic engineering\, and how these advancements will affect our lives. \nAmy Webb’s and Andrew Hessel’s book The Genesis Machine: Our Quest to Rewrite Life in the Age of Synthetic Biology\, acts as our springboard as we dive into this field and how computers are used to rewrite genetic code. This advancement opens a world of opportunities\, ranging from growing hamburger meat in a lab to creating vaccines for COVID. While hamburger patties are small in the scheme of life\, the technology behind it can lengthen lives\, as it will be an essential part in eradicating some of humans’ greatest threats\, such as food insecurity\, climate change\, and disease on a much grander scale. A longer\, healthier life is something anyone can get excited about\, but genetic engineering comes with risks as large as biological wars and extinctions. Join us as we explore the implications this has on the infrastructure of society (good and bad) and how we may avoid the risks that come with redesigning life. \nWe encourage attendees to read the book Genesis Machine: Our Quest to Rewrite Life in the Age of Synthetic Biology\, as it will foster richer\, more in-depth conversations. Reading the book is not a requirement to participate in the event. We look forward to seeing you there!
URL:https://www.austintechnologycouncil.org/event/discussion-of-the-genesis-machine-our-quest-to-rewrite-life-in-the-age-of-synthetic-biology/
LOCATION:Online via zoom\, TX\, United States
CATEGORIES:Community Event
ATTACH;FMTTYPE=image/jpeg:https://www.austintechnologycouncil.org/wp-content/uploads/2023/06/misinformation2-1-scaled.jpg
ORGANIZER;CN="Austin Forum on Technology &amp%3B Society":MAILTO:info@austinforum.org
END:VEVENT
END:VCALENDAR