BEGIN:VCALENDAR
VERSION:2.0
PRODID:-//Austin Technology Council - ECPv6.11.0.1//NONSGML v1.0//EN
CALSCALE:GREGORIAN
METHOD:PUBLISH
X-ORIGINAL-URL:https://www.austintechnologycouncil.org
X-WR-CALDESC:Events for Austin Technology Council
REFRESH-INTERVAL;VALUE=DURATION:PT1H
X-Robots-Tag:noindex
X-PUBLISHED-TTL:PT1H
BEGIN:VTIMEZONE
TZID:America/Chicago
BEGIN:DAYLIGHT
TZOFFSETFROM:-0600
TZOFFSETTO:-0500
TZNAME:CDT
DTSTART:20220313T080000
END:DAYLIGHT
BEGIN:STANDARD
TZOFFSETFROM:-0500
TZOFFSETTO:-0600
TZNAME:CST
DTSTART:20221106T070000
END:STANDARD
END:VTIMEZONE
BEGIN:VEVENT
DTSTART;TZID=America/Chicago:20220922T191500
DTEND;TZID=America/Chicago:20220922T203000
DTSTAMP:20260425T135549
CREATED:20220916T185609Z
LAST-MODIFIED:20220916T191153Z
UID:10002064-1663874100-1663878600@www.austintechnologycouncil.org
SUMMARY:Discussion of "Stories\, Dice\, and Rocks That Think: How Humans Learned to See the Future and Shape It"
DESCRIPTION:In this month’s book discussion\, we are excited to have author (and entrepreneur\, futurist\, speaker\, and past Austin Forum presenter and podcast interviewee!) Byron Reese lead a discussion of his new book: Stories\, Dice\, and Rock That Think: How Humans Learned to See the Future and Shape It.” Byron is a fantastic author on technology and humanity topics\, and this is a great chance for interactive discussion about a wide range of topics aligned with the Austin Forum mission. You do not have to read the book to attend\, but we strongly encourage it! \nREGISTER NOW
URL:https://www.austintechnologycouncil.org/event/discussion-of-stories-dice-and-rocks-that-think-how-humans-learned-to-see-the-future-and-shape-it/
LOCATION:Online via zoom\, TX\, United States
CATEGORIES:Community Event
ATTACH;FMTTYPE=image/png:https://www.austintechnologycouncil.org/wp-content/uploads/2022/09/storiesdicefinalgraphic-1.png
ORGANIZER;CN="Austin Forum on Technology &amp%3B Society":MAILTO:info@austinforum.org
END:VEVENT
END:VCALENDAR