BEGIN:VCALENDAR
VERSION:2.0
PRODID:-//Austin Technology Council - ECPv6.11.0.1//NONSGML v1.0//EN
CALSCALE:GREGORIAN
METHOD:PUBLISH
X-ORIGINAL-URL:https://www.austintechnologycouncil.org
X-WR-CALDESC:Events for Austin Technology Council
REFRESH-INTERVAL;VALUE=DURATION:PT1H
X-Robots-Tag:noindex
X-PUBLISHED-TTL:PT1H
BEGIN:VTIMEZONE
TZID:America/Chicago
BEGIN:DAYLIGHT
TZOFFSETFROM:-0600
TZOFFSETTO:-0500
TZNAME:CDT
DTSTART:20250309T080000
END:DAYLIGHT
BEGIN:STANDARD
TZOFFSETFROM:-0500
TZOFFSETTO:-0600
TZNAME:CST
DTSTART:20251102T070000
END:STANDARD
END:VTIMEZONE
BEGIN:VEVENT
DTSTART;TZID=America/Chicago:20250605T181500
DTEND;TZID=America/Chicago:20250605T194500
DTSTAMP:20260421T173150
CREATED:20250515T161405Z
LAST-MODIFIED:20250515T161405Z
UID:10002213-1749147300-1749152700@www.austintechnologycouncil.org
SUMMARY:Decoding the Quantum Revolution
DESCRIPTION:Get ready to unravel the mysteries and immense potential of quantum computing at our next Austin Forum event\, featuring a special presentation by whurley\, the visionary CEO and co-founder of Austin’s own quantum computing powerhouse\, Strangeworks! \nQuantum computing\, once a futuristic dream\, is rapidly becoming a tangible reality with the power to revolutionize industries and drive unprecedented scientific discovery. Join us for an insightful evening as whurley guides us through the fascinating landscape of this groundbreaking technology. \nHe will delve into: \nThe Current Quantum Frontier: Understand where quantum computing stands today – the key advancements\, the leading hardware and software players\, and the real-world applications already being explored.\nThe Promise of Transformation: Explore the potential for quantum computing to unlock solutions to currently intractable problems across fields like medicine\, materials science\, finance\, artificial intelligence\, and beyond. Discover the transformative innovations on the horizon.\nNavigating the Quantum Challenges: Gain a clear perspective on the significant hurdles that remain in making quantum computing mainstream\, from hardware stability and error correction to software development and accessibility.\nPreparing for the Quantum Leap: Learn practical steps you can take now to understand the fundamentals of quantum computing and position yourself or your organization to be ready for the imminent quantum revolution. No prior quantum physics degree required!\nFollowing whurley’s engaging presentation\, we’ll open the floor for a Q&A session\, offering you the chance to directly engage with a leading expert in the field. This will be followed by a networking reception (if in person) or virtual networking opportunities (if online)\, providing a valuable space to connect with fellow tech enthusiasts\, researchers\, and industry professionals interested in the quantum realm. \nWhether you’re a seasoned technologist\, a curious innovator\, or simply eager to understand the next paradigm shift in computing\, this Austin Forum event is your gateway to demystifying quantum computing and understanding its profound implications for our future. \nDon’t miss this opportunity to learn from a true pioneer in the quantum revolution!
URL:https://www.austintechnologycouncil.org/event/decoding-the-quantum-revolution/
LOCATION:Austin Central Library\, 5203 Hedgewood Dr\, Austin\, TX\, 78745\, United States
CATEGORIES:Community Event
ORGANIZER;CN="Austin Forum on Technology &amp%3B Society":MAILTO:info@austinforum.org
END:VEVENT
END:VCALENDAR