BEGIN:VCALENDAR
VERSION:2.0
PRODID:-//Austin Technology Council - ECPv6.11.0.1//NONSGML v1.0//EN
CALSCALE:GREGORIAN
METHOD:PUBLISH
X-ORIGINAL-URL:https://www.austintechnologycouncil.org
X-WR-CALDESC:Events for Austin Technology Council
REFRESH-INTERVAL;VALUE=DURATION:PT1H
X-Robots-Tag:noindex
X-PUBLISHED-TTL:PT1H
BEGIN:VTIMEZONE
TZID:America/Chicago
BEGIN:DAYLIGHT
TZOFFSETFROM:-0600
TZOFFSETTO:-0500
TZNAME:CDT
DTSTART:20250309T080000
END:DAYLIGHT
BEGIN:STANDARD
TZOFFSETFROM:-0500
TZOFFSETTO:-0600
TZNAME:CST
DTSTART:20251102T070000
END:STANDARD
END:VTIMEZONE
BEGIN:VEVENT
DTSTART;TZID=America/Chicago:20250918T180000
DTEND;TZID=America/Chicago:20250918T200000
DTSTAMP:20260421T080306
CREATED:20250328T160733Z
LAST-MODIFIED:20250328T160801Z
UID:10002151-1758218400-1758225600@www.austintechnologycouncil.org
SUMMARY:ACG ASA's Awards and Toast to PE/VC Reception
DESCRIPTION:Join us for an evening of informal networking\, awards\, wine tasting\, light hors d’oeuvres\, & great conversations as we celebrate the booming middle-market deal community in Central Texas.
URL:https://www.austintechnologycouncil.org/event/acg-asas-awards-toast-to-pe-vc-reception/
LOCATION:Westwood Country Club\, 3803 W 35th St\, AUSTIN\, TX\, 78703\, United States
CATEGORIES:Community Event
ORGANIZER;CN="ACG Austin / San Antonio":MAILTO:acgasa@acg.org
GEO:30.3129952;-97.7717444
X-APPLE-STRUCTURED-LOCATION;VALUE=URI;X-ADDRESS=Westwood Country Club 3803 W 35th St AUSTIN TX 78703 United States;X-APPLE-RADIUS=500;X-TITLE=3803 W 35th St:geo:-97.7717444,30.3129952
END:VEVENT
END:VCALENDAR