BEGIN:VCALENDAR
VERSION:2.0
PRODID:-//Austin Technology Council - ECPv6.11.0.1//NONSGML v1.0//EN
CALSCALE:GREGORIAN
METHOD:PUBLISH
X-ORIGINAL-URL:https://www.austintechnologycouncil.org
X-WR-CALDESC:Events for Austin Technology Council
REFRESH-INTERVAL;VALUE=DURATION:PT1H
X-Robots-Tag:noindex
X-PUBLISHED-TTL:PT1H
BEGIN:VTIMEZONE
TZID:America/Chicago
BEGIN:DAYLIGHT
TZOFFSETFROM:-0600
TZOFFSETTO:-0500
TZNAME:CDT
DTSTART:20250309T080000
END:DAYLIGHT
BEGIN:STANDARD
TZOFFSETFROM:-0500
TZOFFSETTO:-0600
TZNAME:CST
DTSTART:20251102T070000
END:STANDARD
END:VTIMEZONE
BEGIN:VEVENT
DTSTART;TZID=America/Chicago:20251112T113000
DTEND;TZID=America/Chicago:20251112T130000
DTSTAMP:20260420T094712
CREATED:20250331T223111Z
LAST-MODIFIED:20250331T223111Z
UID:10002159-1762947000-1762952400@www.austintechnologycouncil.org
SUMMARY:ACG ASA's Monthly Lunch: Healthcare Panel
DESCRIPTION:Speakers will include John Joyoprayitno of Alafair Biosciences. This event is being sponsored by Corner Capital Partners LLC.
URL:https://www.austintechnologycouncil.org/event/acg-asas-monthly-lunch-healthcare-panel/
LOCATION:Westwood Country Club\, 3803 W 35th St\, AUSTIN\, TX\, 78703\, United States
CATEGORIES:Community Event
ORGANIZER;CN="ACG Austin / San Antonio":MAILTO:acgasa@acg.org
GEO:30.3129952;-97.7717444
X-APPLE-STRUCTURED-LOCATION;VALUE=URI;X-ADDRESS=Westwood Country Club 3803 W 35th St AUSTIN TX 78703 United States;X-APPLE-RADIUS=500;X-TITLE=3803 W 35th St:geo:-97.7717444,30.3129952
END:VEVENT
END:VCALENDAR