BEGIN:VCALENDAR
VERSION:2.0
PRODID:-//Austin Technology Council - ECPv6.11.0.1//NONSGML v1.0//EN
CALSCALE:GREGORIAN
METHOD:PUBLISH
X-ORIGINAL-URL:https://www.austintechnologycouncil.org
X-WR-CALDESC:Events for Austin Technology Council
REFRESH-INTERVAL;VALUE=DURATION:PT1H
X-Robots-Tag:noindex
X-PUBLISHED-TTL:PT1H
BEGIN:VTIMEZONE
TZID:America/Chicago
BEGIN:DAYLIGHT
TZOFFSETFROM:-0600
TZOFFSETTO:-0500
TZNAME:CDT
DTSTART:20250309T080000
END:DAYLIGHT
BEGIN:STANDARD
TZOFFSETFROM:-0500
TZOFFSETTO:-0600
TZNAME:CST
DTSTART:20251102T070000
END:STANDARD
END:VTIMEZONE
BEGIN:VEVENT
DTSTART;TZID=America/Chicago:20250423T191500
DTEND;TZID=America/Chicago:20250423T203000
DTSTAMP:20260424T024217
CREATED:20250409T123407Z
LAST-MODIFIED:20250409T123407Z
UID:10002169-1745435700-1745440200@www.austintechnologycouncil.org
SUMMARY:Discussion of "Artificial Integrity" by Hamilton Mann
DESCRIPTION:Join the Austin Forum for an engaging online discussion of “Artificial Integrity: The Paths to Leading AI Toward a Human-Centered Future” with the author himself\, Hamilton Mann! In this thought-provoking book\, Mann introduces the transformative concept of “Artificial Integrity\,” a framework that emphasizes the importance of ethical and human-centered AI development. \nThis interactive session will delve into the book’s key themes\, including: \nThe limitations of traditional ethical frameworks in addressing the complexities of AI. \nThe importance of aligning AI with human values and societal norms. \nPractical strategies for designing\, implementing\, and continuously aligning AI development to responsibly advance human and artificial co-intelligence. \nHamilton Mann will moderate the discussion\, offering his unique insights and answering audience questions. Don’t miss this opportunity to explore a critical issue surrounding AI—Integrity over Intelligence—and learn how to shape a future where AI enhances\, rather than replaces\, human capabilities. \nMann is a Tech Executive\, Digital and AI for Good Pioneer\, Keynote Speaker\, and the originator of the concept of Artificial Integrity. He serves as Group Vice President at Thales\, where he co-leads the AI initiative and Digital Transformation while also overseeing global Digital Marketing activities. He also serves as a Senior Lecturer at INSEAD and HEC Paris as well as a mentor at the MIT Priscilla King Gray (PKG) Center. He is a doctoral researcher in AI at École Nationale des Ponts et Chaussées – Institut Polytechnique de Paris. He writes regularly for Forbes as an AI columnist and has published articles about AI and its technological and societal implications in prominent academic\, business\, and policy outlets such as Stanford Social Innovation Review (SSIR)\, Knowledge at Wharton\, Leader to Leader (Wiley)\, Dialogue Duke Corporate Education\, INSEAD Knowledge\, the Harvard Business Review France and the European Business Review. He hosts The Hamilton Mann Conversation\, a podcast on Digital and AI for Good\, ranked in the Top 10 for technology thought leadership by Technology Magazine. He was inducted into the Thinkers50 Radar as one of the 30 most prominent rising business thinkers globally.
URL:https://www.austintechnologycouncil.org/event/discussion-of-artificial-integrity-by-hamilton-mann/
CATEGORIES:Community Event
ORGANIZER;CN="Austin Forum on Technology &amp%3B Society":MAILTO:info@austinforum.org
END:VEVENT
END:VCALENDAR