BEGIN:VCALENDAR
VERSION:2.0
PRODID:-//Austin Technology Council - ECPv6.11.0.1//NONSGML v1.0//EN
CALSCALE:GREGORIAN
METHOD:PUBLISH
X-WR-CALNAME:Austin Technology Council
X-ORIGINAL-URL:https://www.austintechnologycouncil.org
X-WR-CALDESC:Events for Austin Technology Council
REFRESH-INTERVAL;VALUE=DURATION:PT1H
X-Robots-Tag:noindex
X-PUBLISHED-TTL:PT1H
BEGIN:VTIMEZONE
TZID:America/Chicago
BEGIN:DAYLIGHT
TZOFFSETFROM:-0600
TZOFFSETTO:-0500
TZNAME:CDT
DTSTART:20230312T080000
END:DAYLIGHT
BEGIN:STANDARD
TZOFFSETFROM:-0500
TZOFFSETTO:-0600
TZNAME:CST
DTSTART:20231105T070000
END:STANDARD
END:VTIMEZONE
BEGIN:VEVENT
DTSTART;TZID=America/Chicago:20230215T183000
DTEND;TZID=America/Chicago:20230215T200000
DTSTAMP:20260424T151048
CREATED:20230202T211507Z
LAST-MODIFIED:20230202T211507Z
UID:10001780-1676485800-1676491200@www.austintechnologycouncil.org
SUMMARY:Digital Identity\, Privacy\, and Trust Meetup
DESCRIPTION:Almost everyone now has many different digital identities\, mostly disconnected from each other—and yet companies are exchanging/selling data and monetizing your personal identity data. Can we simplify how we manage our digital identity and add compensation while enhancing privacy and control of when our data is sold? \nJoin us for the discussion (meetup format) with opening and closing comments from thought leaders\, experts\, and practitioners. Share ideas\, reactions\, and recommendations that may help you\, your company\, or other companies and organizations improve the security and value of digital identities. After the discussion at Capital Factory\, we invite you to join us at Upstairs at Caroline for networking.
URL:https://www.austintechnologycouncil.org/event/digital-identity-privacy-and-trust-meetup/
LOCATION:Capital Factory:  1st Floor | Devvie Room\, 701 Brazos Street\, Austin\, 78701\, United States
CATEGORIES:Community Event
ATTACH;FMTTYPE=image/jpeg:https://www.austintechnologycouncil.org/wp-content/uploads/2023/01/digitalidentity-scaled.jpg
ORGANIZER;CN="Austin Technology Council":MAILTO:info@www.austintechnologycouncil.org
END:VEVENT
END:VCALENDAR