BEGIN:VCALENDAR
VERSION:2.0
PRODID:-//Austin Technology Council - ECPv6.11.0.1//NONSGML v1.0//EN
CALSCALE:GREGORIAN
METHOD:PUBLISH
X-WR-CALNAME:Austin Technology Council
X-ORIGINAL-URL:https://www.austintechnologycouncil.org
X-WR-CALDESC:Events for Austin Technology Council
REFRESH-INTERVAL;VALUE=DURATION:PT1H
X-Robots-Tag:noindex
X-PUBLISHED-TTL:PT1H
BEGIN:VTIMEZONE
TZID:America/Chicago
BEGIN:DAYLIGHT
TZOFFSETFROM:-0600
TZOFFSETTO:-0500
TZNAME:CDT
DTSTART:20260308T080000
END:DAYLIGHT
BEGIN:STANDARD
TZOFFSETFROM:-0500
TZOFFSETTO:-0600
TZNAME:CST
DTSTART:20261101T070000
END:STANDARD
END:VTIMEZONE
BEGIN:VEVENT
DTSTART;TZID=America/Chicago:20260605T093000
DTEND;TZID=America/Chicago:20260605T113000
DTSTAMP:20260422T010512
CREATED:20250919T140139Z
LAST-MODIFIED:20250919T140139Z
UID:10002302-1780651800-1780659000@www.austintechnologycouncil.org
SUMMARY:Launch Pad Job Club Weekly Meeting
DESCRIPTION:We at Launch Pad recognize losing a job can be a real “deer in the headlights” moment. We provide current information on how to conduct a successful job search\, and a community to support you on this journey. \nJob searching is too scary to do alone.
URL:https://www.austintechnologycouncil.org/event/launch-pad-job-club-weekly-meeting/2026-06-05/
END:VEVENT
BEGIN:VEVENT
DTSTART;TZID=America/Chicago:20260612T093000
DTEND;TZID=America/Chicago:20260612T113000
DTSTAMP:20260422T010512
CREATED:20250919T140139Z
LAST-MODIFIED:20250919T140139Z
UID:10002303-1781256600-1781263800@www.austintechnologycouncil.org
SUMMARY:Launch Pad Job Club Weekly Meeting
DESCRIPTION:We at Launch Pad recognize losing a job can be a real “deer in the headlights” moment. We provide current information on how to conduct a successful job search\, and a community to support you on this journey. \nJob searching is too scary to do alone.
URL:https://www.austintechnologycouncil.org/event/launch-pad-job-club-weekly-meeting/2026-06-12/
END:VEVENT
BEGIN:VEVENT
DTSTART;TZID=America/Chicago:20260619T093000
DTEND;TZID=America/Chicago:20260619T113000
DTSTAMP:20260422T010512
CREATED:20250919T140139Z
LAST-MODIFIED:20250919T140139Z
UID:10002304-1781861400-1781868600@www.austintechnologycouncil.org
SUMMARY:Launch Pad Job Club Weekly Meeting
DESCRIPTION:We at Launch Pad recognize losing a job can be a real “deer in the headlights” moment. We provide current information on how to conduct a successful job search\, and a community to support you on this journey. \nJob searching is too scary to do alone.
URL:https://www.austintechnologycouncil.org/event/launch-pad-job-club-weekly-meeting/2026-06-19/
END:VEVENT
BEGIN:VEVENT
DTSTART;TZID=America/Chicago:20260626T093000
DTEND;TZID=America/Chicago:20260626T113000
DTSTAMP:20260422T010512
CREATED:20250919T140139Z
LAST-MODIFIED:20250919T140139Z
UID:10002305-1782466200-1782473400@www.austintechnologycouncil.org
SUMMARY:Launch Pad Job Club Weekly Meeting
DESCRIPTION:We at Launch Pad recognize losing a job can be a real “deer in the headlights” moment. We provide current information on how to conduct a successful job search\, and a community to support you on this journey. \nJob searching is too scary to do alone.
URL:https://www.austintechnologycouncil.org/event/launch-pad-job-club-weekly-meeting/2026-06-26/
END:VEVENT
END:VCALENDAR