BEGIN:VCALENDAR
VERSION:2.0
PRODID:-//Austin Technology Council - ECPv6.11.0.1//NONSGML v1.0//EN
CALSCALE:GREGORIAN
METHOD:PUBLISH
X-WR-CALNAME:Austin Technology Council
X-ORIGINAL-URL:https://www.austintechnologycouncil.org
X-WR-CALDESC:Events for Austin Technology Council
REFRESH-INTERVAL;VALUE=DURATION:PT1H
X-Robots-Tag:noindex
X-PUBLISHED-TTL:PT1H
BEGIN:VTIMEZONE
TZID:America/Chicago
BEGIN:DAYLIGHT
TZOFFSETFROM:-0600
TZOFFSETTO:-0500
TZNAME:CDT
DTSTART:20170312T080000
END:DAYLIGHT
BEGIN:STANDARD
TZOFFSETFROM:-0500
TZOFFSETTO:-0600
TZNAME:CST
DTSTART:20171105T070000
END:STANDARD
END:VTIMEZONE
BEGIN:VEVENT
DTSTART;VALUE=DATE:20170602
DTEND;VALUE=DATE:20170605
DTSTAMP:20260423T184907
CREATED:20170429T170316Z
LAST-MODIFIED:20170429T170316Z
UID:10001205-1496361600-1496620799@www.austintechnologycouncil.org
SUMMARY:ATX Hack for Change 2017
DESCRIPTION:Dates: June 2-4\, 2017\nLocation: St. Edward’s University \nATX Hack for Change\, a 3-day civic hackathon\, is growing in scale every year\, from just 30 hackers in 2013 to now 447 hackers in 2016.​ ​The momentum behind this event is picking up with a vested interest in building a community hub\, but more importantly\, carving the space for active civic engagement and positive change in Austin.​ ​Community members engage one another with their innovative ideas to solve critical social issues; the event attracts C-suite executives\, city employees\, students\, organizers\, developers\, gardeners to coffee baristas. \nLINK: https://www.youtube.com/watch?v=FXLpd6_1y_w
URL:https://www.austintechnologycouncil.org/event/atx-hack-change-2017/
LOCATION:St. Edward University\, 3001 S Congress Ave\, Austin\, 78704\, United States
CATEGORIES:Community Event
ATTACH;FMTTYPE=image/png:https://www.austintechnologycouncil.org/wp-content/uploads/2017/04/ATXHackLogo_Color_Web-with-TM.png
GEO:30.231722;-97.7579406
X-APPLE-STRUCTURED-LOCATION;VALUE=URI;X-ADDRESS=St. Edward University 3001 S Congress Ave Austin 78704 United States;X-APPLE-RADIUS=500;X-TITLE=3001 S Congress Ave:geo:-97.7579406,30.231722
END:VEVENT
BEGIN:VEVENT
DTSTART;TZID=America/Chicago:20170607T080000
DTEND;TZID=America/Chicago:20170607T170000
DTSTAMP:20260423T184907
CREATED:20170428T010528Z
LAST-MODIFIED:20170428T010528Z
UID:10001203-1496822400-1496854800@www.austintechnologycouncil.org
SUMMARY:The Economist Sustainability Summit
DESCRIPTION:REGISTER AND SAVE 15% WITH CODE ATC15\n\n\n\n\n\n\n\n\n\n\n\n\n\n\n\n\n\n\n\n\n\n\n\n\n\n\n\n\n\n\n\n\n\n\n\n\n\n\n\nThe race for business to take the lead for global sustainability efforts is on. What does business leadership on sustainability look like in a profit-driven industry? How can sustainability shift to be more friendly to the bottom line? And how can big business partner with government to achieve significant large-scale progress?\n\n\n\n\n\n\n\n\n\n\n\n\nSAVE 15% REGISTER NOW \n\n\n\n\n\n\n\n\n\n\n\n\n\n\n\n\n\n\n\n\nJoin The Economist and 200 leaders from business\, investment\, politics\, academia and civil society to identify the new business rules of sustainability. Conversations will offer strategies\, ideas and solutions to help decision makers prepare for a sustainable future. \nRegister now and save 15% with code ATC15 \nDownload the programme for full event details.\n\n\n\n\n\n\n\n\n\n\n\nHEAR FROM THE EXPERTS\, INCLUDING:\n\n\n\n\n\n\n\n\n\n\n\n\n\n\n\n\n\n\n\n\n\nSteve Adler\nMayor\nAustin \nLEARN MORE \n\n\n\n\n\n\n\n\n\n\n\n\nCynthia Ringo\nSenior partner\nDBL Partners \nLEARN MORE \n\n\n\n\n\n\n\n\n\n\n\n\nTrisa Thompson\nChief responsibility officer\nDell \nLEARN MORE \n\n\n\n\n\n\n\n\n\n\n\n\n\n\n\n\n\n\n\n\n\n\n\n\n\n\n\n\n\n\n\n\n\n\n\n\n\n\n\n\nREGISTER NOW: SAVE 15% WITH CODE ATC15\n\n\n\n\n\n\n\nSponsors\n\n\n\n\n\n\n\n\n\nDiamond\nSupporting\nSilver\n\n\n\n\n\n\n\n\n\n\n\n\n\n\n\n\n\n\n\n\n\n\n\n\n\n\n\n\n\n\nCONTINUE THE CONVERSATION WITH #ECONSUSTAINABILITY\n\n\n\n\n\n\n\n\n\n\n\n\n\n\n\n\n\n\n\n\n\n\n\n\n\n\nTHE ECONOMIST GROUP \nThe Economist Events is part of the Economist Group. \nThe Economist Group is a global organisation and operates a strict privacy policy around the world. \nPrivacy |Terms of Use \nUnsubscribe from further e-mails about this event \nUnsubscribe from The Economist Events emails \nCONTACT US \nEmail| 212.541.0539 \nThe Economist Group\, 750 Third Avenue\, New York\, NY 10017
URL:https://www.austintechnologycouncil.org/event/economist-sustainability-summit/
LOCATION:Austin Convention Center\, 500 E Cesar Chavez St\, Austin\, 78701\, United States
CATEGORIES:Community Event
ATTACH;FMTTYPE=image/jpeg:https://www.austintechnologycouncil.org/wp-content/uploads/2017/04/sustainability_2017_633x335_nologos_2.jpg
GEO:30.2636408;-97.7394833
X-APPLE-STRUCTURED-LOCATION;VALUE=URI;X-ADDRESS=Austin Convention Center 500 E Cesar Chavez St Austin 78701 United States;X-APPLE-RADIUS=500;X-TITLE=500 E Cesar Chavez St:geo:-97.7394833,30.2636408
END:VEVENT
BEGIN:VEVENT
DTSTART;VALUE=DATE:20170614
DTEND;VALUE=DATE:20170615
DTSTAMP:20260423T184907
CREATED:20170610T164648Z
LAST-MODIFIED:20170610T164648Z
UID:10001227-1497398400-1497484799@www.austintechnologycouncil.org
SUMMARY:The Future of Healthcare
DESCRIPTION:Health Tech Austin presents The Future of Healthcare.\nThought Leaders Will Discuss The Future Of Health Care Reform\, Hospital Partnerships\, Medical Philanthropy\, Prescription Drugs and Health Tech Investing at The Future of Health Care Conference.
URL:https://www.austintechnologycouncil.org/event/the-future-of-healthcare/
LOCATION:Capital Factory (Lobby Level Meeting Conference Room)\, 701 Brazos\, Austin\, TX\, 78701\, United States
CATEGORIES:Community Event
ATTACH;FMTTYPE=image/png:https://www.austintechnologycouncil.org/wp-content/uploads/2017/06/HealthTecAustin.png
ORGANIZER;CN="Insperity":MAILTO:Rachel.Knight@insperity.com
GEO:30.2688755;-97.7405641
X-APPLE-STRUCTURED-LOCATION;VALUE=URI;X-ADDRESS=Capital Factory (Lobby Level Meeting Conference Room) 701 Brazos Austin TX 78701 United States;X-APPLE-RADIUS=500;X-TITLE=701 Brazos:geo:-97.7405641,30.2688755
END:VEVENT
BEGIN:VEVENT
DTSTART;TZID=America/Chicago:20170614T170000
DTEND;TZID=America/Chicago:20170614T200000
DTSTAMP:20260423T184907
CREATED:20170413T205645Z
LAST-MODIFIED:20170531T204201Z
UID:10001202-1497459600-1497470400@www.austintechnologycouncil.org
SUMMARY:CMO Dinner "Creating a Marketing Plan for Growth"
DESCRIPTION:Guest Speakers: Russ Somers\, VP Marketing for Trendkite & Emily Reynolds\, Head of Marketing for Phunware \nThis dinner is open to the marketing executives of ATC companies. This event features subject matter expert speakers addressing best practices\, problem solving\, and thought leadership in a confidential environment. The discussion-style event allows executives to freely exchange ideas and experiences\, have open discussion on emerging trends\, issues\, and new market opportunities\, and promote research that facilitates the advancement of the industry.
URL:https://www.austintechnologycouncil.org/event/cmo-dinner/
LOCATION:Z-Tejas Grill\, 1110 W 6th St.\, Austin\,  78703\, United States
CATEGORIES:ATC Event
ATTACH;FMTTYPE=image/jpeg:https://www.austintechnologycouncil.org/wp-content/uploads/2017/05/CMO-DIN-2-SPONSORS.jpg
ORGANIZER;CN="Austin Technology Council":MAILTO:info@www.austintechnologycouncil.org
GEO:30.2726058;-97.7560511
X-APPLE-STRUCTURED-LOCATION;VALUE=URI;X-ADDRESS=Z-Tejas Grill 1110 W 6th St. Austin  78703 United States;X-APPLE-RADIUS=500;X-TITLE=1110 W 6th St.:geo:-97.7560511,30.2726058
END:VEVENT
BEGIN:VEVENT
DTSTART;TZID=America/Chicago:20170615T180000
DTEND;TZID=America/Chicago:20170615T200000
DTSTAMP:20260423T184907
CREATED:20170610T163934Z
LAST-MODIFIED:20170610T163934Z
UID:10001226-1497549600-1497556800@www.austintechnologycouncil.org
SUMMARY:Insperity Networking Event
DESCRIPTION:Join us for networking\, cocktails\, hors d’oeuvres and a private collection showing at:\nPeter Millar\nThe Domain\n11600 Century Oaks Terrace\nJune 15\, 2017\n6:00 – 8:00 PM\nRSVP to susan.vaughan@insperity.com
URL:https://www.austintechnologycouncil.org/event/insperity-networking-event/
LOCATION:Peter Millar (The Domain)\, 11600 Century Oaks Terrace\, Austin\, TX\, 78758\, Select a Country:
CATEGORIES:Community Event
ATTACH;FMTTYPE=image/jpeg:https://www.austintechnologycouncil.org/wp-content/uploads/2017/06/Peter-Millar-June-15.jpeg
ORGANIZER;CN="Insperity":MAILTO:Rachel.Knight@insperity.com
GEO:30.4031782;-97.7255881
X-APPLE-STRUCTURED-LOCATION;VALUE=URI;X-ADDRESS=Peter Millar (The Domain) 11600 Century Oaks Terrace Austin TX 78758 Select a Country:;X-APPLE-RADIUS=500;X-TITLE=11600 Century Oaks Terrace:geo:-97.7255881,30.4031782
END:VEVENT
BEGIN:VEVENT
DTSTART;TZID=America/Chicago:20170627T160000
DTEND;TZID=America/Chicago:20170627T233000
DTSTAMP:20260423T184907
CREATED:20170620T172529Z
LAST-MODIFIED:20170620T191807Z
UID:10001069-1498579200-1498606200@www.austintechnologycouncil.org
SUMMARY:WeWork Creator Awards
DESCRIPTION:The WeWork Creator Awards are coming to Austin on June 27\, at ACL Live’s Moody Theater!\n\n\n\n\n\nTUESDAY\, JUNE 27\, 4PM – 12AM \n\n\n\n\n\n\n\n\nACL Live at The Moody Theater\, 310 W Willie Nelson Blvd\, Austin\, TX 78701 \nYour community members can RSVP directly at this link: https://creatorawardsaustin.splashthat.com/\nAttendance is free!\n\n\n\n\n\n\n\n\nBe sure to sign up soon—the first 500 RSVPS will receive $10 off at the pop-up market. Your RSVP includes food\, open bar\, and entertainment throughout the night. \nThis event is 21+. You must RSVP to attend. Tickets will not be available at the door. Please remember to bring a valid ID\, and a copy of your ticket (printed or mobile) to enter the event. Any ticket holder unable to present valid ID will not be admitted to this event. \n\n\n\n\n\nThe event begins at 4pm with masterclasses with celebrity influencers\, a career fair\, pop-up market with local food vendors and live music\, followed by the 7PM awards ceremony where $1.5M will be awarded to entrepreneurs of all types and stages various Creators from Austin\, Houston\, Dallas\, Miami\, Atlanta\, San Antonio\, Santa Fe\, to name a few will be competing. \n \nFollowing the awards program\, an after-party featuring The Knocks performing live will be held.\n \nWeWork executives\, Fortune 500 CEOs\, local musicians and celebrity influencers like Sophia Bush (Actress)\, Chef Tyson from Uchi\, Whitney Casey from Finery\, Ruthie Lindsey (Social Influencer) and Alexis Jones will be in attendance\, among many others.\n \nIt’ll for sure be a night filled with inspiration\, entertainment\, and fun.\n\nAttendance is free!
URL:https://www.austintechnologycouncil.org/event/wework-creator-awards/
LOCATION:ACL Live at the Moody Theater\, 310 W Willie Nelson Blvd\, Austin\, TX\, 78701\, United States
CATEGORIES:Community Event
ATTACH;FMTTYPE=image/png:https://www.austintechnologycouncil.org/wp-content/uploads/2017/06/WeWork-Creator-Awards-807.Austin_black-e1498075964351.png
GEO:30.265364;-97.7472739
X-APPLE-STRUCTURED-LOCATION;VALUE=URI;X-ADDRESS=ACL Live at the Moody Theater 310 W Willie Nelson Blvd Austin TX 78701 United States;X-APPLE-RADIUS=500;X-TITLE=310 W Willie Nelson Blvd:geo:-97.7472739,30.265364
END:VEVENT
BEGIN:VEVENT
DTSTART;TZID=America/Chicago:20170628T183000
DTEND;TZID=America/Chicago:20170628T203000
DTSTAMP:20260423T184907
CREATED:20170524T163607Z
LAST-MODIFIED:20170524T163607Z
UID:10001218-1498674600-1498681800@www.austintechnologycouncil.org
SUMMARY:Entrepreneurship: Human Capital Strategy Series at Galvanize
DESCRIPTION:Entrepreneurship: Human Capital Strategy Series at Galvanize\nSponsored by Insperity\nEmployees are the highest cost in almost every business. In order to get the most out of this investment\, entrepreneurs and managers need to develop a Human Capital Strategy that will engage employees and increase productivity. Sound daunting? Not to worry! Galvanize is hosting a free four-part series that will teach you everything you need to know to make your investment in people a profitable\, enjoyable\, and continuously-developing relationship. \nCome develop your Human Capital Strategy with the pros at Insperity\, a Human Capital firm that enable business owners to be more systematic and strategic about the role that people play in the success of a company. \nAll events in this series take place at Galvanize Austin and run from 6:30 to 8:30 pm. Drinks and refreshments will be served. Session descriptions and dates below. \nGot to the event site to see specifics about each event: https://www.eventbrite.com/e/entrepreneurship-human-capital-strategy-series-at-galvanize-tickets-34696710796
URL:https://www.austintechnologycouncil.org/event/entrepreneurship-human-capital-strategy-series-galvanize/2017-06-28/
LOCATION:Galvanize\, 119 Nueces Street\, Austin\, TX\, 78701\, United States
CATEGORIES:Community Event
ATTACH;FMTTYPE=image/jpeg:https://www.austintechnologycouncil.org/wp-content/uploads/2017/05/https-2F2Fcdn.evbuc_.com2Fimages2F315156282F1796826835362F12Foriginal.jpg
GEO:30.2656016;-97.7497388
X-APPLE-STRUCTURED-LOCATION;VALUE=URI;X-ADDRESS=Galvanize 119 Nueces Street Austin TX 78701 United States;X-APPLE-RADIUS=500;X-TITLE=119 Nueces Street:geo:-97.7497388,30.2656016
END:VEVENT
END:VCALENDAR