BEGIN:VCALENDAR
VERSION:2.0
PRODID:-//Austin Technology Council - ECPv6.11.0.1//NONSGML v1.0//EN
CALSCALE:GREGORIAN
METHOD:PUBLISH
X-WR-CALNAME:Austin Technology Council
X-ORIGINAL-URL:https://www.austintechnologycouncil.org
X-WR-CALDESC:Events for Austin Technology Council
REFRESH-INTERVAL;VALUE=DURATION:PT1H
X-Robots-Tag:noindex
X-PUBLISHED-TTL:PT1H
BEGIN:VTIMEZONE
TZID:America/Chicago
BEGIN:DAYLIGHT
TZOFFSETFROM:-0600
TZOFFSETTO:-0500
TZNAME:CDT
DTSTART:20260308T080000
END:DAYLIGHT
BEGIN:STANDARD
TZOFFSETFROM:-0500
TZOFFSETTO:-0600
TZNAME:CST
DTSTART:20261101T070000
END:STANDARD
BEGIN:DAYLIGHT
TZOFFSETFROM:-0600
TZOFFSETTO:-0500
TZNAME:CDT
DTSTART:20270314T080000
END:DAYLIGHT
BEGIN:STANDARD
TZOFFSETFROM:-0500
TZOFFSETTO:-0600
TZNAME:CST
DTSTART:20271107T070000
END:STANDARD
END:VTIMEZONE
BEGIN:VEVENT
DTSTART;TZID=America/Chicago:20260925T093000
DTEND;TZID=America/Chicago:20260925T113000
DTSTAMP:20260422T194431
CREATED:20250919T140139Z
LAST-MODIFIED:20250919T140139Z
UID:10002318-1790328600-1790335800@www.austintechnologycouncil.org
SUMMARY:Launch Pad Job Club Weekly Meeting
DESCRIPTION:We at Launch Pad recognize losing a job can be a real “deer in the headlights” moment. We provide current information on how to conduct a successful job search\, and a community to support you on this journey. \nJob searching is too scary to do alone.
URL:https://www.austintechnologycouncil.org/event/launch-pad-job-club-weekly-meeting/2026-09-25/
END:VEVENT
BEGIN:VEVENT
DTSTART;TZID=America/Chicago:20261002T093000
DTEND;TZID=America/Chicago:20261002T113000
DTSTAMP:20260422T194431
CREATED:20250919T140139Z
LAST-MODIFIED:20250919T140139Z
UID:10002319-1790933400-1790940600@www.austintechnologycouncil.org
SUMMARY:Launch Pad Job Club Weekly Meeting
DESCRIPTION:We at Launch Pad recognize losing a job can be a real “deer in the headlights” moment. We provide current information on how to conduct a successful job search\, and a community to support you on this journey. \nJob searching is too scary to do alone.
URL:https://www.austintechnologycouncil.org/event/launch-pad-job-club-weekly-meeting/2026-10-02/
END:VEVENT
BEGIN:VEVENT
DTSTART;TZID=America/Chicago:20261009T093000
DTEND;TZID=America/Chicago:20261009T113000
DTSTAMP:20260422T194431
CREATED:20250919T140139Z
LAST-MODIFIED:20250919T140139Z
UID:10002320-1791538200-1791545400@www.austintechnologycouncil.org
SUMMARY:Launch Pad Job Club Weekly Meeting
DESCRIPTION:We at Launch Pad recognize losing a job can be a real “deer in the headlights” moment. We provide current information on how to conduct a successful job search\, and a community to support you on this journey. \nJob searching is too scary to do alone.
URL:https://www.austintechnologycouncil.org/event/launch-pad-job-club-weekly-meeting/2026-10-09/
END:VEVENT
BEGIN:VEVENT
DTSTART;TZID=America/Chicago:20261016T093000
DTEND;TZID=America/Chicago:20261016T113000
DTSTAMP:20260422T194431
CREATED:20250919T140139Z
LAST-MODIFIED:20250919T140139Z
UID:10002321-1792143000-1792150200@www.austintechnologycouncil.org
SUMMARY:Launch Pad Job Club Weekly Meeting
DESCRIPTION:We at Launch Pad recognize losing a job can be a real “deer in the headlights” moment. We provide current information on how to conduct a successful job search\, and a community to support you on this journey. \nJob searching is too scary to do alone.
URL:https://www.austintechnologycouncil.org/event/launch-pad-job-club-weekly-meeting/2026-10-16/
END:VEVENT
BEGIN:VEVENT
DTSTART;TZID=America/Chicago:20261023T093000
DTEND;TZID=America/Chicago:20261023T113000
DTSTAMP:20260422T194431
CREATED:20250919T140139Z
LAST-MODIFIED:20250919T140139Z
UID:10002322-1792747800-1792755000@www.austintechnologycouncil.org
SUMMARY:Launch Pad Job Club Weekly Meeting
DESCRIPTION:We at Launch Pad recognize losing a job can be a real “deer in the headlights” moment. We provide current information on how to conduct a successful job search\, and a community to support you on this journey. \nJob searching is too scary to do alone.
URL:https://www.austintechnologycouncil.org/event/launch-pad-job-club-weekly-meeting/2026-10-23/
END:VEVENT
BEGIN:VEVENT
DTSTART;TZID=America/Chicago:20261030T093000
DTEND;TZID=America/Chicago:20261030T113000
DTSTAMP:20260422T194431
CREATED:20250919T140139Z
LAST-MODIFIED:20250919T140139Z
UID:10002323-1793352600-1793359800@www.austintechnologycouncil.org
SUMMARY:Launch Pad Job Club Weekly Meeting
DESCRIPTION:We at Launch Pad recognize losing a job can be a real “deer in the headlights” moment. We provide current information on how to conduct a successful job search\, and a community to support you on this journey. \nJob searching is too scary to do alone.
URL:https://www.austintechnologycouncil.org/event/launch-pad-job-club-weekly-meeting/2026-10-30/
END:VEVENT
BEGIN:VEVENT
DTSTART;TZID=America/Chicago:20261106T093000
DTEND;TZID=America/Chicago:20261106T113000
DTSTAMP:20260422T194431
CREATED:20250919T140139Z
LAST-MODIFIED:20250919T140139Z
UID:10002324-1793957400-1793964600@www.austintechnologycouncil.org
SUMMARY:Launch Pad Job Club Weekly Meeting
DESCRIPTION:We at Launch Pad recognize losing a job can be a real “deer in the headlights” moment. We provide current information on how to conduct a successful job search\, and a community to support you on this journey. \nJob searching is too scary to do alone.
URL:https://www.austintechnologycouncil.org/event/launch-pad-job-club-weekly-meeting/2026-11-06/
END:VEVENT
BEGIN:VEVENT
DTSTART;TZID=America/Chicago:20261113T093000
DTEND;TZID=America/Chicago:20261113T113000
DTSTAMP:20260422T194431
CREATED:20250919T140139Z
LAST-MODIFIED:20250919T140139Z
UID:10002325-1794562200-1794569400@www.austintechnologycouncil.org
SUMMARY:Launch Pad Job Club Weekly Meeting
DESCRIPTION:We at Launch Pad recognize losing a job can be a real “deer in the headlights” moment. We provide current information on how to conduct a successful job search\, and a community to support you on this journey. \nJob searching is too scary to do alone.
URL:https://www.austintechnologycouncil.org/event/launch-pad-job-club-weekly-meeting/2026-11-13/
END:VEVENT
BEGIN:VEVENT
DTSTART;TZID=America/Chicago:20261120T093000
DTEND;TZID=America/Chicago:20261120T113000
DTSTAMP:20260422T194431
CREATED:20250919T140139Z
LAST-MODIFIED:20250919T140139Z
UID:10002326-1795167000-1795174200@www.austintechnologycouncil.org
SUMMARY:Launch Pad Job Club Weekly Meeting
DESCRIPTION:We at Launch Pad recognize losing a job can be a real “deer in the headlights” moment. We provide current information on how to conduct a successful job search\, and a community to support you on this journey. \nJob searching is too scary to do alone.
URL:https://www.austintechnologycouncil.org/event/launch-pad-job-club-weekly-meeting/2026-11-20/
END:VEVENT
BEGIN:VEVENT
DTSTART;TZID=America/Chicago:20261127T093000
DTEND;TZID=America/Chicago:20261127T113000
DTSTAMP:20260422T194431
CREATED:20250919T140139Z
LAST-MODIFIED:20250919T140139Z
UID:10002327-1795771800-1795779000@www.austintechnologycouncil.org
SUMMARY:Launch Pad Job Club Weekly Meeting
DESCRIPTION:We at Launch Pad recognize losing a job can be a real “deer in the headlights” moment. We provide current information on how to conduct a successful job search\, and a community to support you on this journey. \nJob searching is too scary to do alone.
URL:https://www.austintechnologycouncil.org/event/launch-pad-job-club-weekly-meeting/2026-11-27/
END:VEVENT
BEGIN:VEVENT
DTSTART;TZID=America/Chicago:20261204T093000
DTEND;TZID=America/Chicago:20261204T113000
DTSTAMP:20260422T194431
CREATED:20250919T140139Z
LAST-MODIFIED:20250919T140139Z
UID:10002328-1796376600-1796383800@www.austintechnologycouncil.org
SUMMARY:Launch Pad Job Club Weekly Meeting
DESCRIPTION:We at Launch Pad recognize losing a job can be a real “deer in the headlights” moment. We provide current information on how to conduct a successful job search\, and a community to support you on this journey. \nJob searching is too scary to do alone.
URL:https://www.austintechnologycouncil.org/event/launch-pad-job-club-weekly-meeting/2026-12-04/
END:VEVENT
BEGIN:VEVENT
DTSTART;TZID=America/Chicago:20261211T093000
DTEND;TZID=America/Chicago:20261211T113000
DTSTAMP:20260422T194431
CREATED:20250919T140139Z
LAST-MODIFIED:20250919T140139Z
UID:10002329-1796981400-1796988600@www.austintechnologycouncil.org
SUMMARY:Launch Pad Job Club Weekly Meeting
DESCRIPTION:We at Launch Pad recognize losing a job can be a real “deer in the headlights” moment. We provide current information on how to conduct a successful job search\, and a community to support you on this journey. \nJob searching is too scary to do alone.
URL:https://www.austintechnologycouncil.org/event/launch-pad-job-club-weekly-meeting/2026-12-11/
END:VEVENT
BEGIN:VEVENT
DTSTART;TZID=America/Chicago:20261218T093000
DTEND;TZID=America/Chicago:20261218T113000
DTSTAMP:20260422T194431
CREATED:20250919T140139Z
LAST-MODIFIED:20250919T140139Z
UID:10002330-1797586200-1797593400@www.austintechnologycouncil.org
SUMMARY:Launch Pad Job Club Weekly Meeting
DESCRIPTION:We at Launch Pad recognize losing a job can be a real “deer in the headlights” moment. We provide current information on how to conduct a successful job search\, and a community to support you on this journey. \nJob searching is too scary to do alone.
URL:https://www.austintechnologycouncil.org/event/launch-pad-job-club-weekly-meeting/2026-12-18/
END:VEVENT
BEGIN:VEVENT
DTSTART;TZID=America/Chicago:20261225T093000
DTEND;TZID=America/Chicago:20261225T113000
DTSTAMP:20260422T194431
CREATED:20250919T140139Z
LAST-MODIFIED:20250919T140139Z
UID:10002331-1798191000-1798198200@www.austintechnologycouncil.org
SUMMARY:Launch Pad Job Club Weekly Meeting
DESCRIPTION:We at Launch Pad recognize losing a job can be a real “deer in the headlights” moment. We provide current information on how to conduct a successful job search\, and a community to support you on this journey. \nJob searching is too scary to do alone.
URL:https://www.austintechnologycouncil.org/event/launch-pad-job-club-weekly-meeting/2026-12-25/
END:VEVENT
BEGIN:VEVENT
DTSTART;TZID=America/Chicago:20270101T093000
DTEND;TZID=America/Chicago:20270101T113000
DTSTAMP:20260422T194431
CREATED:20250919T140139Z
LAST-MODIFIED:20250919T140139Z
UID:10002332-1798795800-1798803000@www.austintechnologycouncil.org
SUMMARY:Launch Pad Job Club Weekly Meeting
DESCRIPTION:We at Launch Pad recognize losing a job can be a real “deer in the headlights” moment. We provide current information on how to conduct a successful job search\, and a community to support you on this journey. \nJob searching is too scary to do alone.
URL:https://www.austintechnologycouncil.org/event/launch-pad-job-club-weekly-meeting/2027-01-01/
END:VEVENT
BEGIN:VEVENT
DTSTART;TZID=America/Chicago:20270108T093000
DTEND;TZID=America/Chicago:20270108T113000
DTSTAMP:20260422T194431
CREATED:20250919T140139Z
LAST-MODIFIED:20250919T140139Z
UID:10002333-1799400600-1799407800@www.austintechnologycouncil.org
SUMMARY:Launch Pad Job Club Weekly Meeting
DESCRIPTION:We at Launch Pad recognize losing a job can be a real “deer in the headlights” moment. We provide current information on how to conduct a successful job search\, and a community to support you on this journey. \nJob searching is too scary to do alone.
URL:https://www.austintechnologycouncil.org/event/launch-pad-job-club-weekly-meeting/2027-01-08/
END:VEVENT
BEGIN:VEVENT
DTSTART;TZID=America/Chicago:20270115T093000
DTEND;TZID=America/Chicago:20270115T113000
DTSTAMP:20260422T194431
CREATED:20250919T140139Z
LAST-MODIFIED:20250919T140139Z
UID:10002334-1800005400-1800012600@www.austintechnologycouncil.org
SUMMARY:Launch Pad Job Club Weekly Meeting
DESCRIPTION:We at Launch Pad recognize losing a job can be a real “deer in the headlights” moment. We provide current information on how to conduct a successful job search\, and a community to support you on this journey. \nJob searching is too scary to do alone.
URL:https://www.austintechnologycouncil.org/event/launch-pad-job-club-weekly-meeting/2027-01-15/
END:VEVENT
BEGIN:VEVENT
DTSTART;TZID=America/Chicago:20270122T093000
DTEND;TZID=America/Chicago:20270122T113000
DTSTAMP:20260422T194431
CREATED:20250919T140139Z
LAST-MODIFIED:20250919T140139Z
UID:10002335-1800610200-1800617400@www.austintechnologycouncil.org
SUMMARY:Launch Pad Job Club Weekly Meeting
DESCRIPTION:We at Launch Pad recognize losing a job can be a real “deer in the headlights” moment. We provide current information on how to conduct a successful job search\, and a community to support you on this journey. \nJob searching is too scary to do alone.
URL:https://www.austintechnologycouncil.org/event/launch-pad-job-club-weekly-meeting/2027-01-22/
END:VEVENT
BEGIN:VEVENT
DTSTART;TZID=America/Chicago:20270129T093000
DTEND;TZID=America/Chicago:20270129T113000
DTSTAMP:20260422T194431
CREATED:20250919T140139Z
LAST-MODIFIED:20250919T140139Z
UID:10002336-1801215000-1801222200@www.austintechnologycouncil.org
SUMMARY:Launch Pad Job Club Weekly Meeting
DESCRIPTION:We at Launch Pad recognize losing a job can be a real “deer in the headlights” moment. We provide current information on how to conduct a successful job search\, and a community to support you on this journey. \nJob searching is too scary to do alone.
URL:https://www.austintechnologycouncil.org/event/launch-pad-job-club-weekly-meeting/2027-01-29/
END:VEVENT
BEGIN:VEVENT
DTSTART;TZID=America/Chicago:20270205T093000
DTEND;TZID=America/Chicago:20270205T113000
DTSTAMP:20260422T194431
CREATED:20250919T140139Z
LAST-MODIFIED:20250919T140139Z
UID:10002337-1801819800-1801827000@www.austintechnologycouncil.org
SUMMARY:Launch Pad Job Club Weekly Meeting
DESCRIPTION:We at Launch Pad recognize losing a job can be a real “deer in the headlights” moment. We provide current information on how to conduct a successful job search\, and a community to support you on this journey. \nJob searching is too scary to do alone.
URL:https://www.austintechnologycouncil.org/event/launch-pad-job-club-weekly-meeting/2027-02-05/
END:VEVENT
BEGIN:VEVENT
DTSTART;TZID=America/Chicago:20270212T093000
DTEND;TZID=America/Chicago:20270212T113000
DTSTAMP:20260422T194431
CREATED:20250919T140139Z
LAST-MODIFIED:20250919T140139Z
UID:10002338-1802424600-1802431800@www.austintechnologycouncil.org
SUMMARY:Launch Pad Job Club Weekly Meeting
DESCRIPTION:We at Launch Pad recognize losing a job can be a real “deer in the headlights” moment. We provide current information on how to conduct a successful job search\, and a community to support you on this journey. \nJob searching is too scary to do alone.
URL:https://www.austintechnologycouncil.org/event/launch-pad-job-club-weekly-meeting/2027-02-12/
END:VEVENT
BEGIN:VEVENT
DTSTART;TZID=America/Chicago:20270219T093000
DTEND;TZID=America/Chicago:20270219T113000
DTSTAMP:20260422T194431
CREATED:20250919T140139Z
LAST-MODIFIED:20250919T140139Z
UID:10002339-1803029400-1803036600@www.austintechnologycouncil.org
SUMMARY:Launch Pad Job Club Weekly Meeting
DESCRIPTION:We at Launch Pad recognize losing a job can be a real “deer in the headlights” moment. We provide current information on how to conduct a successful job search\, and a community to support you on this journey. \nJob searching is too scary to do alone.
URL:https://www.austintechnologycouncil.org/event/launch-pad-job-club-weekly-meeting/2027-02-19/
END:VEVENT
BEGIN:VEVENT
DTSTART;TZID=America/Chicago:20270226T093000
DTEND;TZID=America/Chicago:20270226T113000
DTSTAMP:20260422T194431
CREATED:20250919T140139Z
LAST-MODIFIED:20250919T140139Z
UID:10002340-1803634200-1803641400@www.austintechnologycouncil.org
SUMMARY:Launch Pad Job Club Weekly Meeting
DESCRIPTION:We at Launch Pad recognize losing a job can be a real “deer in the headlights” moment. We provide current information on how to conduct a successful job search\, and a community to support you on this journey. \nJob searching is too scary to do alone.
URL:https://www.austintechnologycouncil.org/event/launch-pad-job-club-weekly-meeting/2027-02-26/
END:VEVENT
BEGIN:VEVENT
DTSTART;TZID=America/Chicago:20270305T093000
DTEND;TZID=America/Chicago:20270305T113000
DTSTAMP:20260422T194431
CREATED:20250919T140139Z
LAST-MODIFIED:20250919T140139Z
UID:10002341-1804239000-1804246200@www.austintechnologycouncil.org
SUMMARY:Launch Pad Job Club Weekly Meeting
DESCRIPTION:We at Launch Pad recognize losing a job can be a real “deer in the headlights” moment. We provide current information on how to conduct a successful job search\, and a community to support you on this journey. \nJob searching is too scary to do alone.
URL:https://www.austintechnologycouncil.org/event/launch-pad-job-club-weekly-meeting/2027-03-05/
END:VEVENT
BEGIN:VEVENT
DTSTART;TZID=America/Chicago:20270312T093000
DTEND;TZID=America/Chicago:20270312T113000
DTSTAMP:20260422T194431
CREATED:20250919T140139Z
LAST-MODIFIED:20250919T140139Z
UID:10002342-1804843800-1804851000@www.austintechnologycouncil.org
SUMMARY:Launch Pad Job Club Weekly Meeting
DESCRIPTION:We at Launch Pad recognize losing a job can be a real “deer in the headlights” moment. We provide current information on how to conduct a successful job search\, and a community to support you on this journey. \nJob searching is too scary to do alone.
URL:https://www.austintechnologycouncil.org/event/launch-pad-job-club-weekly-meeting/2027-03-12/
END:VEVENT
BEGIN:VEVENT
DTSTART;TZID=America/Chicago:20270319T093000
DTEND;TZID=America/Chicago:20270319T113000
DTSTAMP:20260422T194431
CREATED:20250919T140139Z
LAST-MODIFIED:20250919T140139Z
UID:10002343-1805448600-1805455800@www.austintechnologycouncil.org
SUMMARY:Launch Pad Job Club Weekly Meeting
DESCRIPTION:We at Launch Pad recognize losing a job can be a real “deer in the headlights” moment. We provide current information on how to conduct a successful job search\, and a community to support you on this journey. \nJob searching is too scary to do alone.
URL:https://www.austintechnologycouncil.org/event/launch-pad-job-club-weekly-meeting/2027-03-19/
END:VEVENT
BEGIN:VEVENT
DTSTART;TZID=America/Chicago:20270326T093000
DTEND;TZID=America/Chicago:20270326T113000
DTSTAMP:20260422T194431
CREATED:20250919T140139Z
LAST-MODIFIED:20250919T140139Z
UID:10002344-1806053400-1806060600@www.austintechnologycouncil.org
SUMMARY:Launch Pad Job Club Weekly Meeting
DESCRIPTION:We at Launch Pad recognize losing a job can be a real “deer in the headlights” moment. We provide current information on how to conduct a successful job search\, and a community to support you on this journey. \nJob searching is too scary to do alone.
URL:https://www.austintechnologycouncil.org/event/launch-pad-job-club-weekly-meeting/2027-03-26/
END:VEVENT
BEGIN:VEVENT
DTSTART;TZID=America/Chicago:20270402T093000
DTEND;TZID=America/Chicago:20270402T113000
DTSTAMP:20260422T194431
CREATED:20250919T140139Z
LAST-MODIFIED:20250919T140139Z
UID:10002345-1806658200-1806665400@www.austintechnologycouncil.org
SUMMARY:Launch Pad Job Club Weekly Meeting
DESCRIPTION:We at Launch Pad recognize losing a job can be a real “deer in the headlights” moment. We provide current information on how to conduct a successful job search\, and a community to support you on this journey. \nJob searching is too scary to do alone.
URL:https://www.austintechnologycouncil.org/event/launch-pad-job-club-weekly-meeting/2027-04-02/
END:VEVENT
BEGIN:VEVENT
DTSTART;TZID=America/Chicago:20270409T093000
DTEND;TZID=America/Chicago:20270409T113000
DTSTAMP:20260422T194431
CREATED:20250919T140139Z
LAST-MODIFIED:20250919T140139Z
UID:10002346-1807263000-1807270200@www.austintechnologycouncil.org
SUMMARY:Launch Pad Job Club Weekly Meeting
DESCRIPTION:We at Launch Pad recognize losing a job can be a real “deer in the headlights” moment. We provide current information on how to conduct a successful job search\, and a community to support you on this journey. \nJob searching is too scary to do alone.
URL:https://www.austintechnologycouncil.org/event/launch-pad-job-club-weekly-meeting/2027-04-09/
END:VEVENT
BEGIN:VEVENT
DTSTART;TZID=America/Chicago:20270416T093000
DTEND;TZID=America/Chicago:20270416T113000
DTSTAMP:20260422T194431
CREATED:20250919T140139Z
LAST-MODIFIED:20250919T140139Z
UID:10002347-1807867800-1807875000@www.austintechnologycouncil.org
SUMMARY:Launch Pad Job Club Weekly Meeting
DESCRIPTION:We at Launch Pad recognize losing a job can be a real “deer in the headlights” moment. We provide current information on how to conduct a successful job search\, and a community to support you on this journey. \nJob searching is too scary to do alone.
URL:https://www.austintechnologycouncil.org/event/launch-pad-job-club-weekly-meeting/2027-04-16/
END:VEVENT
END:VCALENDAR