BEGIN:VCALENDAR
VERSION:2.0
PRODID:-//Austin Technology Council - ECPv6.11.0.1//NONSGML v1.0//EN
CALSCALE:GREGORIAN
METHOD:PUBLISH
X-WR-CALNAME:Austin Technology Council
X-ORIGINAL-URL:https://www.austintechnologycouncil.org
X-WR-CALDESC:Events for Austin Technology Council
REFRESH-INTERVAL;VALUE=DURATION:PT1H
X-Robots-Tag:noindex
X-PUBLISHED-TTL:PT1H
BEGIN:VTIMEZONE
TZID:America/Chicago
BEGIN:DAYLIGHT
TZOFFSETFROM:-0600
TZOFFSETTO:-0500
TZNAME:CDT
DTSTART:20220313T080000
END:DAYLIGHT
BEGIN:STANDARD
TZOFFSETFROM:-0500
TZOFFSETTO:-0600
TZNAME:CST
DTSTART:20221106T070000
END:STANDARD
END:VTIMEZONE
BEGIN:VEVENT
DTSTART;TZID=America/Chicago:20220201T000000
DTEND;TZID=America/Chicago:20220228T233000
DTSTAMP:20260424T025732
CREATED:20220121T214002Z
LAST-MODIFIED:20220121T215230Z
UID:10001654-1643673600-1646091000@www.austintechnologycouncil.org
SUMMARY:“Love Your Health:" A Virtual Employee Challenge by HealthCode
DESCRIPTION:“Love Your Health” by HealthCode is a free month-long virtual challenge geared at fostering community and promoting health throughout your organization. \nThe online tool allows challengers to set activity goals\, track their progress\, and see how they measure up against other participants within their organization and beyond. \nClick here to register your organization.\nOnce registered\, your employees can sign-up and join your teams. The tools are completely free\, and there are no penalties for late starts. So\, don’t put off your health any longer. \n  \n“Love Your Health” is from ATC’s member HealthCode\, an Austin-based nonprofit. HealthCode’s mission is to empower people to live healthier\, happier lives free from preventable diseases. \nFor any questions contact: Steve@HealthCode.org
URL:https://www.austintechnologycouncil.org/event/love-your-health-a-virtual-employee-challenge-by-healthcode/
LOCATION:Austin Technology Council HQ\, 301 Congress Avenue\, Suite #31\, Austin\, TX\, 78701\, United States
CATEGORIES:Community Event
ATTACH;FMTTYPE=image/png:https://www.austintechnologycouncil.org/wp-content/uploads/2022/01/820x312-FB-HalfBANNER-Feb-Mar-1-1-21-01.png
ORGANIZER;CN="Austin Technology Council":MAILTO:info@www.austintechnologycouncil.org
GEO:30.2653815;-97.7429327
X-APPLE-STRUCTURED-LOCATION;VALUE=URI;X-ADDRESS=Austin Technology Council HQ 301 Congress Avenue Suite #31 Austin TX 78701 United States;X-APPLE-RADIUS=500;X-TITLE=301 Congress Avenue\, Suite #31:geo:-97.7429327,30.2653815
END:VEVENT
BEGIN:VEVENT
DTSTART;TZID=America/Chicago:20220201T180000
DTEND;TZID=America/Chicago:20220201T194500
DTSTAMP:20260424T025732
CREATED:20220114T042127Z
LAST-MODIFIED:20220114T042127Z
UID:10001651-1643738400-1643744700@www.austintechnologycouncil.org
SUMMARY:The Present and Future of Gaming
DESCRIPTION:Electronic gaming is a huge industry\, larger even than music and film\, and encompasses options and platforms for everyone: From casual games on smartphones\, to visually realistic games on consoles and PCs\, to massive online games and platforms leveraging data centers and clouds. \nIt has inspired tremendous amounts of content on social media and streaming services\, and has spawned E-sports leagues and competitions. And yet\, gaming should not be thought of solely in terms of entertainment. Advances in games and delivery platforms drive technology advances in components and systems that have benefits in other areas of business and life. And\, gaming techniques can be used to enhance education and learning\, human productivity\, skills development and training\, and more. \nLearn from gaming and design experts Patrick Currey (Farbridge) and Erik Summa (Dell Technologies) about the latest trends and technologies in gaming (including those just announced at CES!)\, how the gaming industry and landscape are changing and its influence on business and society.​
URL:https://www.austintechnologycouncil.org/event/the-present-and-future-of-gaming/
LOCATION:Zoom\, Select a Country:
CATEGORIES:Community Event
ATTACH;FMTTYPE=image/jpeg:https://www.austintechnologycouncil.org/wp-content/uploads/2022/01/florian-olivo-Mf23RF8xArY-unsplash-scaled.jpg
ORGANIZER;CN="Austin Forum on Technology &amp%3B Society":MAILTO:info@austinforum.org
END:VEVENT
BEGIN:VEVENT
DTSTART;TZID=America/Chicago:20220203T123000
DTEND;TZID=America/Chicago:20220203T133000
DTSTAMP:20260424T025732
CREATED:20220128T204148Z
LAST-MODIFIED:20220128T204250Z
UID:10001662-1643891400-1643895000@www.austintechnologycouncil.org
SUMMARY:Bridging the gap between black and hispanic communities and the tech industry
DESCRIPTION:Bridging the gap between the Black and Hispanic communities and the technology industry. \nREGISTER NOW\nMeet the Speaker: \nMichael Ward Jr. is a social entrepreneur and aspiring politician that is passionate about technology and socio-economic development. Michael is the President and CEO of Austin Urban Technology Movement (AUTM) and serves on several boards in Central Texas focused on STEM and workforce development. Michael\, who is originally from Miami\, FL\, earned a degree in Political Science and Global Studies at the University of North Carolina at Chapel Hill. He began his career in enterprise sales at Oracle\, concentrating on cloud and on-premise technology. Michael also led Oracle’s Black employee resource group at this time\, with the goal of increasing the upward mobility of Oracle’s Black employees in the United States\, Canada\, and Brazil. \nMichael is particularly interested in workforce development\, education\, and socio-economic development in Black and Hispanic communities. He is tearing down barriers and silos that inhibit those who have been marginalized by the system from being self-sufficient by encouraging community engagement. ​ \nMichael is happily married\, a Tar Heel and Miami Heat fan\, and enjoys traveling and eating home-cooked meals.
URL:https://www.austintechnologycouncil.org/event/bridging-the-gap-between-black-and-hispanic-communities-and-the-tech-industry/
CATEGORIES:Community Event
ORGANIZER;CN="Austin Urban Technology Movement":MAILTO:isa@autmtx.org
END:VEVENT
BEGIN:VEVENT
DTSTART;TZID=America/Chicago:20220210T120000
DTEND;TZID=America/Chicago:20220210T160000
DTSTAMP:20260424T025732
CREATED:20220201T193130Z
LAST-MODIFIED:20220202T154537Z
UID:10001995-1644494400-1644508800@www.austintechnologycouncil.org
SUMMARY:Technology Job Fair
DESCRIPTION:Workforce Solutions Capital Area will be holding a virtual Technology Job Fair on Thursday February 10th\, 2022. This event is open to all employers seeking tech workers. \nRegister Here\nParticipating employers may attend our orientation event to learn how to build your virtual booth on Tuesday\, February 8 at 2 p.m. If you are unable to attend\, check out this video to learn more. \nFor more information please contact:\nTanner Reardon\nJob Fair/Event Lead\n512.748.1161\ntanner.reardon@wfscapitalarea.com \nJeffrey Murchison\nBusiness Solutions Liaison\njeffrey.murchison@wfscapitalarea.com\n512.779.9185\nThank you!
URL:https://www.austintechnologycouncil.org/event/technology-job-fair/
LOCATION:Virtual\, United States
CATEGORIES:Community Event
ATTACH;FMTTYPE=image/png:https://www.austintechnologycouncil.org/wp-content/uploads/2022/02/Technology-Job-Fair-Feb-2022-graphic-for-monitors.png
END:VEVENT
BEGIN:VEVENT
DTSTART;TZID=America/Chicago:20220210T190000
DTEND;TZID=America/Chicago:20220210T193000
DTSTAMP:20260424T025732
CREATED:20220114T030631Z
LAST-MODIFIED:20220114T030631Z
UID:10001989-1644519600-1644521400@www.austintechnologycouncil.org
SUMMARY:IMBA Spring 2022 Information Session
DESCRIPTION:Join us to learn more about why the Invited MBA is the best online\, part-time\, mini MBA program. \nIn just 12 weeks this affordable program will provide you the foundational business skills needed to advance your career. You’ll also develop a growing network of accomplished business professionals and executives. \nSpring 2022 application deadlines are around the corner. Don’t miss this opportunity to learn how you can level up your future.
URL:https://www.austintechnologycouncil.org/event/imba-spring-2022-information-session/
CATEGORIES:Community Event
ATTACH;FMTTYPE=image/jpeg:https://www.austintechnologycouncil.org/wp-content/uploads/2022/01/happy-screenshot-1536x1143-2.jpg
ORGANIZER;CN="Abilitie":MAILTO:lindsey@abilitie.com
END:VEVENT
BEGIN:VEVENT
DTSTART;TZID=America/Chicago:20220216T120000
DTEND;TZID=America/Chicago:20220216T130000
DTSTAMP:20260424T025732
CREATED:20220202T160058Z
LAST-MODIFIED:20220202T160058Z
UID:10001996-1645012800-1645016400@www.austintechnologycouncil.org
SUMMARY:Food\, Not Drugs\, is the Best Medicine with Dr. Joel Fuhrman
DESCRIPTION:Join Dr. Joel Fuhrman and HealthCode for a discussion on nutrition as the foundation to overall health in this upcoming webinar: a”Food\, Not Drugs\, the Best Medicine.” \nREGISTER HERE\nDr. Fuhrman is a board-certified physician with more than 25 years of experience in putting nutrition into practice to increase weight-loss\, reverse illnesses\, and improve overall health. \nAfter the discussiom\,  HealthCode’s CEO Steve Amos will moderate an audience Q&A session with Dr. Fuhrman regarding nutrition\, diets\, and health. \n  \nKick-start your healthy life\, pair this webinar with HealthCode’s February virtual activity event “Love Your Health.” 
URL:https://www.austintechnologycouncil.org/event/food-not-drugs-is-the-best-medicine-with-dr-joel-fuhrman/
LOCATION:Austin Technology Council HQ\, 301 Congress Avenue\, Suite #31\, Austin\, TX\, 78701\, United States
CATEGORIES:Community Event
ATTACH;FMTTYPE=image/jpeg:https://www.austintechnologycouncil.org/wp-content/uploads/2022/01/Dr.-Joel-Fuhrman.jpg
ORGANIZER;CN="Austin Technology Council":MAILTO:info@www.austintechnologycouncil.org
GEO:30.2653815;-97.7429327
X-APPLE-STRUCTURED-LOCATION;VALUE=URI;X-ADDRESS=Austin Technology Council HQ 301 Congress Avenue Suite #31 Austin TX 78701 United States;X-APPLE-RADIUS=500;X-TITLE=301 Congress Avenue\, Suite #31:geo:-97.7429327,30.2653815
END:VEVENT
BEGIN:VEVENT
DTSTART;TZID=America/Chicago:20220217T183000
DTEND;TZID=America/Chicago:20220217T194500
DTSTAMP:20260424T025732
CREATED:20220121T222136Z
LAST-MODIFIED:20220121T231819Z
UID:10001657-1645122600-1645127100@www.austintechnologycouncil.org
SUMMARY:SXSW 2022 Programming Preview with Hugh Forrest
DESCRIPTION:SXSW 2022 is finally coming back in-person (and online)\, after two years of absence (2020) and online-only (2021) programming — and oh\, how the work\, culture\, entertainment\, society\, and conferences have changed! \nJoin us for a programming preview of SXSW and plenty of online discussion with the head honcho of SXSW himself. \nLearn how SXSW 2022 will be different\, and better in the new normal from SXSW Chief Programming Officer and longtime Austin Forum support\, Hugh Forrest.  He’ll discuss with Austin Forum Executive Director\, Jay Boisseau\, and the audience how this year’s programming will address the evolving and emerging themes that influence and shape how we work\, learn\, play\, live\, and more. \n 
URL:https://www.austintechnologycouncil.org/event/sxsw-2022-programming-preview-with-hugh-forrest/
LOCATION:Zoom\, Select a Country:
CATEGORIES:Community Event
ATTACH;FMTTYPE=image/jpeg:https://www.austintechnologycouncil.org/wp-content/uploads/2022/01/sxsw1-scaled.jpeg
ORGANIZER;CN="Austin Forum on Technology &amp%3B Society":MAILTO:info@austinforum.org
END:VEVENT
BEGIN:VEVENT
DTSTART;TZID=America/Chicago:20220217T190000
DTEND;TZID=America/Chicago:20220217T193000
DTSTAMP:20260424T025732
CREATED:20220114T031456Z
LAST-MODIFIED:20220114T031824Z
UID:10001990-1645124400-1645126200@www.austintechnologycouncil.org
SUMMARY:IMBA Spring 2022 Information Session
DESCRIPTION:Join us to learn more about why the Invited MBA is the best online\, part-time\, mini MBA program. \nIn just 12 weeks this affordable program will provide you the foundational business skills needed to advance your career. You’ll also develop a growing network of accomplished business professionals and executives. \nSpring 2022 application deadlines are around the corner. Don’t miss this opportunity to learn how you can level up your future.
URL:https://www.austintechnologycouncil.org/event/imba-spring-2022-information-session-2/
CATEGORIES:Community Event
ATTACH;FMTTYPE=image/jpeg:https://www.austintechnologycouncil.org/wp-content/uploads/2022/01/happy-screenshot-1536x1143-3.jpg
ORGANIZER;CN="Abilitie":MAILTO:lindsey@abilitie.com
END:VEVENT
BEGIN:VEVENT
DTSTART;TZID=America/Chicago:20220222T180000
DTEND;TZID=America/Chicago:20220222T200000
DTSTAMP:20260424T025732
CREATED:20220128T204514Z
LAST-MODIFIED:20220128T204514Z
UID:10001991-1645552800-1645560000@www.austintechnologycouncil.org
SUMMARY:Talking Tech Summit with AUTMHQ
DESCRIPTION:Calling all Black techies\, employees\, and entrepreneurs! \nJoin AUTMHQ on February 22nd for our virtual Talking Tech Summit to celebrate Black excellence and engage with exciting technology. AUTMHQ will hold two separate panels\, each paired with a technology showcase\, to go deep into today’s tech landscape. Our speakers will discuss their contributions to technology and how they are striving to enhance diversity in the industry. Our technological showcase will remove the barrier to access and increase social capital in our community. \nREGISTER NOW
URL:https://www.austintechnologycouncil.org/event/talking-tech-summit-with-autmhq/
LOCATION:Virtual
CATEGORIES:Community Event
ATTACH;FMTTYPE=image/png:https://www.austintechnologycouncil.org/wp-content/uploads/2022/01/techsummit.png
ORGANIZER;CN="Austin Urban Technology Movement":MAILTO:isa@autmtx.org
END:VEVENT
END:VCALENDAR