BEGIN:VCALENDAR
VERSION:2.0
PRODID:-//Austin Technology Council - ECPv6.11.0.1//NONSGML v1.0//EN
CALSCALE:GREGORIAN
METHOD:PUBLISH
X-WR-CALNAME:Austin Technology Council
X-ORIGINAL-URL:https://www.austintechnologycouncil.org
X-WR-CALDESC:Events for Austin Technology Council
REFRESH-INTERVAL;VALUE=DURATION:PT1H
X-Robots-Tag:noindex
X-PUBLISHED-TTL:PT1H
BEGIN:VTIMEZONE
TZID:America/Chicago
BEGIN:DAYLIGHT
TZOFFSETFROM:-0600
TZOFFSETTO:-0500
TZNAME:CDT
DTSTART:20220313T080000
END:DAYLIGHT
BEGIN:STANDARD
TZOFFSETFROM:-0500
TZOFFSETTO:-0600
TZNAME:CST
DTSTART:20221106T070000
END:STANDARD
END:VTIMEZONE
BEGIN:VEVENT
DTSTART;TZID=America/Chicago:20220101T000000
DTEND;TZID=America/Chicago:20220131T233000
DTSTAMP:20260423T221107
CREATED:20211206T225741Z
LAST-MODIFIED:20211206T225741Z
UID:10001983-1640995200-1643671800@www.austintechnologycouncil.org
SUMMARY:iResolve.: Team Building To Kick Off the New Year
DESCRIPTION:Kick-off the New Year Building Your Company’s Culture Through an Employee Activity Wellness Challenge that Works! \niResolve. is a free January virtual activity challenge that connects your employees globally or across the street\, in a fun safe way. As they kick-off the new year on the right foot. Helping to make health resolutions a reality.. \nEach participant receives their own “resolution bib” to write in a resolution. Delivering a fun employee team-building opportunity to start the year; on Zoom or even if in the same room. \nSign up your organization. There are no fees for individuals or organizations\, plus HealthCode’s SaaS platform and communication materials make implementation a snap. https://healthcode.org/organizations \nThe January virtual challenge is a fun way to stay active during these colder winter days\, while staying safely connected. \niResolve. is from the ATC member and Austin-based nonprofit HealthCode\, whose mission is to empower people to live healthier\, happier lives. There are no fees for organizations or individuals to participate. https://healthcode.org \nFor any questions contact: Steve@HealthCode.org
URL:https://www.austintechnologycouncil.org/event/iresolve-team-building-to-kick-off-the-new-year/
CATEGORIES:Community Event
ATTACH;FMTTYPE=image/png:https://www.austintechnologycouncil.org/wp-content/uploads/2021/12/Jan_Feb-728x90-01-1.png
ORGANIZER;CN="HealthCode":MAILTO:Steve@HealthCode.org
END:VEVENT
BEGIN:VEVENT
DTSTART;TZID=America/Chicago:20220104T180000
DTEND;TZID=America/Chicago:20220104T200000
DTSTAMP:20260423T221107
CREATED:20211214T132448Z
LAST-MODIFIED:20211214T132448Z
UID:10001984-1641319200-1641326400@www.austintechnologycouncil.org
SUMMARY:Tech Trends for 2022 (and Beyond!)
DESCRIPTION:Technologies are ubiquitous in our lives: embedded in our homes\, offices\, and vehicles\, and in our schools\, healthcare\, entertainment\, and most other places we go. And yet\, while technologies have become pervasive\, there is no constancy: technology capabilities grow exponentially\, entirely new technology products emerge rapidly\, and the rate of digital transformation in our lives\, companies\, government\, schools\, and more is accelerating. Now\, as we enter 2022\, technologies like cloud computing\, smartphones\, and social media are central to our lives; AI and 5G are maturing and applications are increasing that will change our products\, services\, environments\, and infrastructure; edge computing and blockchain/cryptocurrency/NFT are accelerating rapidly and promise to transform our business\, places\, and commerce; and emerging technologies like metaverse and quantum computing promise radical new capabilities that may utterly revolutionize many aspects of how we live\, work\, and interact. The only constants about technology are accelerating adoption\, innovation\, and transformation\, and thus is it is more important than ever to understand how these technologies will impact and influence lives\, present new opportunities to innovate and compete\, and can nurture our health\, safety\, and property. \nJoin us for this popular annual event as Jay Boisseau\, Executive Director of the Austin Forum on Technology & Society and long-time technology professional and Jay Williams\, technology thought leader and President & CTO for SunVia\, talk with futurist Nancy Giordano\, and Dell Technologies Chief Strategist Matt Baker\, about the technologies—and the applications of them—that will most influence society in 2022 (and beyond)! Join us online or in person to ask questions and meet the experts afterward (if attending in person) for even more discussion!\n​
URL:https://www.austintechnologycouncil.org/event/tech-trends-for-2022-and-beyond/
LOCATION:Austin Central Library\, 710 W. Cesar Chavez Downtown Austin\, Austin\, texas\, 78702\, Select a Country:
CATEGORIES:Community Event
ATTACH;FMTTYPE=image/jpeg:https://www.austintechnologycouncil.org/wp-content/uploads/2021/12/techtrends-scaled.jpg
ORGANIZER;CN="Austin Forum on Technology &amp%3B Society":MAILTO:info@austinforum.org
END:VEVENT
BEGIN:VEVENT
DTSTART;TZID=America/Chicago:20220111T080000
DTEND;TZID=America/Chicago:20220111T170000
DTSTAMP:20260423T221107
CREATED:20220114T040250Z
LAST-MODIFIED:20220114T040250Z
UID:10001650-1641888000-1641920400@www.austintechnologycouncil.org
SUMMARY:How Can Tech Companies Support Social Good?
DESCRIPTION:Tech is booming even in the midst of a global pandemic. Many tech companies are achieving better-than-ever revenue and profits\, sending tech stocks soaring. Salaries for tech executives and engineers are rising as well which creates a competitive marketplace for top talent. But this prosperity is not shared by all. In tech\, women and people of color are underrepresented and under compensated. For those not in tech careers/companies pressures on rising costs of living squeeze tight margins even more. These disparities can significantly increase inequities for marginalized communities. \nBut all is not lost. With the proper mindset and tools\, the tech community can both continue to achieve AND contribute to the social good. We are here to share ways that companies and individuals can give back. \nIn this discussion\, moderators (and Austin civic/community leaders) Chelsea Collier and Jessica Sager will share programs and avenues to encourage your next steps. We also welcome the opportunities to add ideas and programs to this discussion. So get ready to get creative and help our community leapfrog the possible!
URL:https://www.austintechnologycouncil.org/event/how-can-tech-companies-support-social-good/
LOCATION:Zoom\, Select a Country:
CATEGORIES:Community Event
ATTACH;FMTTYPE=image/jpeg:https://www.austintechnologycouncil.org/wp-content/uploads/2022/01/mapbox-LJtfV2Dkp4U-unsplash-scaled.jpg
ORGANIZER;CN="Austin Forum on Technology &amp%3B Society":MAILTO:info@austinforum.org
END:VEVENT
BEGIN:VEVENT
DTSTART;TZID=America/Chicago:20220119T100000
DTEND;TZID=America/Chicago:20220119T110000
DTSTAMP:20260423T221107
CREATED:20220114T042449Z
LAST-MODIFIED:20220114T042449Z
UID:10001652-1642586400-1642590000@www.austintechnologycouncil.org
SUMMARY:Webinar: Does Your Team Have the Right Collaboration Tools?
DESCRIPTION:The hybrid work environment is the new norm\, learn how to ensure you never miss a call\, meeting or important conversation regardless of where you’re working from. \nThe pace of business is fast. To ensure greater productivity across your teams\, they need to be able to communicate from anywhere on any device. \nView this short webinar to learn how the LOGIX Business Voice Cloud solution will help you stay connected with your employees\, partners\, and customers from the office\, the home and all places in between. \nLOGIX Business Voice Cloud is your total business phone and communication suite that enables mobility\, device flexibility\, and a broad array of features\, all delivered from a cloud hosted platform that provides the scalability your business needs to stay agile and ahead of the competition. \nKey Takeaways: \n• Learn how you can effectively stay-in-touch in a variety of ways using presence\, messaging\, voice and video\n• Learn how a cloud-based communications solution can adapt as your business needs change\n• Find out the cost-benefit of using a hosted solution that doesn’t require a large capital outlay\n• Hear about how LOGIX can offer a complete solution to support multiple facets of your hybrid work environment
URL:https://www.austintechnologycouncil.org/event/webinar-does-your-team-have-the-right-collaboration-tools/
LOCATION:Virtual\, United States
CATEGORIES:Community Event
ATTACH;FMTTYPE=image/png:https://www.austintechnologycouncil.org/wp-content/uploads/2022/01/Logo_LargePNG_RGB.png
ORGANIZER;CN="LOGIX Fiber Networks":MAILTO:molly@themonumentgroup.com
END:VEVENT
BEGIN:VEVENT
DTSTART;TZID=America/Chicago:20220119T173000
DTEND;TZID=America/Chicago:20220119T193000
DTSTAMP:20260423T221107
CREATED:20220105T035212Z
LAST-MODIFIED:20220105T035212Z
UID:10001988-1642613400-1642620600@www.austintechnologycouncil.org
SUMMARY:Who's Austin Hiring?
DESCRIPTION:Whether you’re a hiring manager looking for new talent\, or talent looking for new opportunities\, join Austin Women in Technology and Dev10 for the biggest hiring event of the year. \nConnect with leaders from a variety of industries in Austin to talk about who’s hiring\, what they’re looking for\, and so much more. \nNetworking ~ Panel Discussion ~ Q&A Session\nWho’s Hiring ~ Who’s Looking ~ Prizes
URL:https://www.austintechnologycouncil.org/event/whos-austin-hiring/
LOCATION:Virtual via Zoom\, Select a Country:
CATEGORIES:Community Event
ATTACH;FMTTYPE=image/jpeg:https://www.austintechnologycouncil.org/wp-content/uploads/2022/01/AWT-Dev10-Event.jpg
ORGANIZER;CN="Austin Women in Technology - Sponsored by%3A Genesis10/Dev10":MAILTO:info@awtaustin.org
END:VEVENT
END:VCALENDAR