BEGIN:VCALENDAR
VERSION:2.0
PRODID:-//Austin Technology Council - ECPv6.11.0.1//NONSGML v1.0//EN
CALSCALE:GREGORIAN
METHOD:PUBLISH
X-ORIGINAL-URL:https://www.austintechnologycouncil.org
X-WR-CALDESC:Events for Austin Technology Council
REFRESH-INTERVAL;VALUE=DURATION:PT1H
X-Robots-Tag:noindex
X-PUBLISHED-TTL:PT1H
BEGIN:VTIMEZONE
TZID:America/Chicago
BEGIN:DAYLIGHT
TZOFFSETFROM:-0600
TZOFFSETTO:-0500
TZNAME:CDT
DTSTART:20210314T080000
END:DAYLIGHT
BEGIN:STANDARD
TZOFFSETFROM:-0500
TZOFFSETTO:-0600
TZNAME:CST
DTSTART:20211107T070000
END:STANDARD
END:VTIMEZONE
BEGIN:VEVENT
DTSTART;VALUE=DATE:20211101
DTEND;VALUE=DATE:20211202
DTSTAMP:20260423T204533
CREATED:20211027T211224Z
LAST-MODIFIED:20211028T222347Z
UID:10001640-1635724800-1638320399@www.austintechnologycouncil.org
SUMMARY:Global Turkey Trek
DESCRIPTION:Looking for a proven employee engagement event? Join us in November’s global Turkey Trek! \nHealthCode’s November virtual “Turkey Trek” activity event provides a fun\, proven way to stay active and safely connected whether around the globe or across the street. \nClick here to register your organization\nOnce signed up your organization is ready to go for all of HealthCode’s events. \nParticipation Benefits: \n\nEngages participants in physical activity and supports team building. Check out Dun & Bradstreet’s global video\, as the same platform is used for all HealthCode events https://www.youtube.com/watch?v=aPQCDS2a8wo\nProven and growing – Used by 500+ organizations in all 50 states and 30 countries\, such as SailPoint\, Keller Williams\, plus hundreds of companies\, Air Force Units\, state agencies\, cities (Austin\, Round Rock)\, counties (Travis\, Williamson)\, school districts\, universities\, and nonprofits.\nEasy to administer for HR/Wellness leaders Just fill out the quick form found here.\nSimple and fun for participants\nDelivers metrics and results; plus supports “teams” such as by departments or locations\nNo fees\, similar to PBS/NPR there are no required fees to participate or use\n\nContact HealthCode: Steve@HealthCode.org or 512-970-744 \nHealthCode is an Austin based 501 (c)3 nonprofit whose vision is that everyone should enjoy the benefits of a healthier\, happier life free from chronic\, preventable diseases.
URL:https://www.austintechnologycouncil.org/event/global-turkey-trek/2021-11-01/
LOCATION:Austin Technology Council HQ\, 301 Congress Avenue\, Suite #31\, Austin\, TX\, 78701\, United States
CATEGORIES:Community Event
ATTACH;FMTTYPE=image/png:https://www.austintechnologycouncil.org/wp-content/uploads/2021/10/728x90-banner-01-1.png
ORGANIZER;CN="HealthCode":MAILTO:Steve@HealthCode.org
GEO:30.2653815;-97.7429327
X-APPLE-STRUCTURED-LOCATION;VALUE=URI;X-ADDRESS=Austin Technology Council HQ 301 Congress Avenue Suite #31 Austin TX 78701 United States;X-APPLE-RADIUS=500;X-TITLE=301 Congress Avenue\, Suite #31:geo:-97.7429327,30.2653815
END:VEVENT
BEGIN:VEVENT
DTSTART;TZID=America/Chicago:20211202T090000
DTEND;TZID=America/Chicago:20211202T183000
DTSTAMP:20260423T204533
CREATED:20211118T185729Z
LAST-MODIFIED:20211118T185729Z
UID:10001981-1638435600-1638469800@www.austintechnologycouncil.org
SUMMARY:Texas Smart Cities Summit 2021
DESCRIPTION:The Texas Smart Cities Summits bring together leaders from government\, non-profits\, higher education\, and diverse companies to share information on the leading practices in smart cities efforts\, to share ideas and experiences\, and to discuss and plan new efforts to accelerate smart cities development in Texas and across the world. At the Texas Smart Cities Summit\, we will present\, share\, and discuss successful smart city solutions addressing these aspects and collaborate on how to improve and implement them into our communities.
URL:https://www.austintechnologycouncil.org/event/texas-smart-cities-summit-2021/
LOCATION:Austin Central Library\, 710 W. Cesar Chavez Downtown Austin\, Austin\, texas\, 78702\, Select a Country:
CATEGORIES:Community Event
ATTACH;FMTTYPE=image/png:https://www.austintechnologycouncil.org/wp-content/uploads/2021/11/Texas-Smart-Cities-Summit-Logo.png
ORGANIZER;CN="Austin Smart City Alliance":MAILTO:info@austinsmartcity.org
END:VEVENT
BEGIN:VEVENT
DTSTART;TZID=America/Chicago:20211207T000000
DTEND;TZID=America/Chicago:20211209T000000
DTSTAMP:20260423T204533
CREATED:20211001T162100Z
LAST-MODIFIED:20211001T162100Z
UID:10001976-1638835200-1639008000@www.austintechnologycouncil.org
SUMMARY:Venture Summit Virtual Connect
DESCRIPTION:Austin Technology Council is pleased to sponsor and invite you to join us at Venture Summit \ Virtual Connect \nSpecial offer: Register Now & Save 20% off (Use discount code “AUTCVIP”) \n\n\nStartups \ Investors \ Matchmaking \nVenture Summit \ Virtual Connect \n  \n  December 7th – 9th 2021 \n* Call for Top Innovators Details below \nWhether you’re a founder seeking capital and exposure\, or an investor seeking new deals\, Venture Summit \ Virtual Connect presented by youngStartup Ventures – is the event of the year you won’t want to miss. \nA highly productive 3-day venture conference\, this exclusive summit is dedicated to showcasing early stage VCs\, Corporate VCs and angel investors committed to funding venture backed\, emerging and early stage Lifesciences\, Healthcare and MedTech companies as well as showcasing over 100 Top Innovators. \n\nFeatured VCs and experts from our recent summit: \nBozena Adamczyk\, Investment Director\, Truffle Capital | Uri Adoni\, General Partner\, Sanara Capital | Nick Arnold\, Associate\, HG Ventures | Paul Asel\, Managing Partner\, NGP Capital | Assaf Barnea\, CEO\, Sanara Ventures | Tobias Bauer\, Head of Partnerships\, Blockchain Founders Fund | Amman Bhasin\, VC Investor\, PayPal Ventures | Ashish Bhatia\, Angel Investor | Wade Bitaraf\, Founder\, Energy & Sustainability\, Plug and Play | Tanya Boyko\, Principal\, ArcTern Ventures | Dan Burstein\, Managing Partner\, Millennium Technology Value Partners | Adam Carson\, Operating Partner – Fintech\, Point72 Ventures | Matt Caspari\, Partner\, Spike Ventures | André Chabaneix\, Senior Associate\, Blue Bear Capital | Sara Chamberlain\, Managing Director\, Energy Foundry | Iris Chan\, Partner\, Mighty Capital | Shaun Chaudhuri\, Senior Associate\, The Westly Group | Yi Jean Chow\, Investment Principal\, Future Energy Ventures | Diana Ciobanete\, Program Director\, Commons Accel | Michael Cohen\, Investment Director\, SAIC Capital | Amy Coveny\, Managing Partner\, Quake Capital | Alexander Crowell\, Managing Director\, PureTerra Ventures | Linard Daleckis\, Investment Analyst\, iTech Capital | Melissa Demma\, Associate\, Differential Ventures | Jun Deng\, Investment Partner\, Joyance Partners | Eric Dobson\, CEO\, Sheltowee Angel Network | Nissim Dravish\, Venture Partner\, OrbiMed | Amy Dyck\, Associate\, Framework Venture Partners | Denis Efremov\, Principal\, Fort Ross Ventures | Sara Enan\, Investment Associate\, Global Ventures | Shintaro Enomoto\, Principal\, MS&AD Ventures | Raymond Fung\, Associate\, ArcTern Ventures | Stan Fung\, Managing Director\, FarSight Ventures | Gary Gershony\, Founding General Partner\, BayMed Venture Partners | Zilvinas Giedraitis\, Investment Analyst\, Contrarian Ventures | Sam Goldberger\, Managing Partner\, Ambit Health Ventures | Jacqueline Goodman\, Senior Analyst\, SJF Ventures | Michelle Gouveia\, Vice President\, Sandbox Insurtech Ventures | Juliana Green\, Senior Associate\, Unovis Asset Management | Edward Greer\, Corporate Technology Scout\, Dow Chemical | Yashwanth Hemaraj\, Partner\, Benhamou Global Ventures | Thomas Henry\, Co-Founder COO\, Eunike Ventures | Deborah Jackson\, Founder and CEO\, GP\, Plum Alley | Ben Jen\, Managing Director\, Ben Jen Holdings | Gary Jinks\, President\, GLJ Group | Hunter Kettering\, VC Investor\, Republic | Jason Klein\, President\, HBS Alumni Angels | Howard Ko\, Partner\, Morpheus Ventures | Eric Kohlmann\, Principal\, Arc Ventures | Ryan Kole\, Partner\, VCapital | Randall LaVeau\, Founder\, BOSS Capital Partners | James Lee\, Executive Director\, Photonfund | Debbie Lin\, Exec Dir\, Boehringer Ingelheim Venture Fund | Ephraim Lindenbaum\, Managing Director\, Advance Ventures | Charles Ling\, Investment Director\, Tsingyuan Ventures | Darwin Ling\, Founder and General Partner\, Good AI Capital | Ubaldo Mafrici\, VC Analyst\, Aster Capital | Jaione Maiz\, Principal\, Anzu Partners | Ruchit Majmudar\, Senior Analyst\, JetBlue Technology Ventures | Honour Masters\, Associate\, Supernode Ventures | Alex Mayall\, Principal\, Anthemis Group | Christian Miller\, Senior Associate\, Poplar Ventures | David Miller\, Managing Director\, Clean Energy Ventures | Erika Nash\, Investor\, Sorenson Capital | Hamzah Nassif\, Partner\, Real Ventures | Ivan Nikkhoo\, Managing Partner\, Navigate Ventures | Mika Nishimura\, Operational Partner\, Gilde Healthcare | Samir Novruzov\, Venture Analyst\, I2BF Global Ventures | Chris Park\, Investment Director\, UL Ventures | Donna Parr\, Managing Partner\, Cross-Border Impact Ventures | Akhilesh Pathipati\, Partner\, MVM Partners | Cameron Peterkin\, Associate\, BCI Technology Investments | Vincent Pichon\, Investment Director\, Engie New Ventures | Daniel Pinault\, Principal\, Cycle Capital | Allyson Plosko\, Director\, Telosity\, Vinaj Ventures | Jean-Noel Poirier\, Executive Managing Director\, Clean Energy Venture Group | Todd Poole\, Associate Director\, Pathfinder Ventures | Susan Preston\, Managing Partner\, SeaChange Fund | Suraj Rajwani\, CEO\, DoubleRock | Michael Rand\, Managing Director\, WindSail Capital | Owen Reynolds\, Associate\, Expon Capital | Keeton Ross\, Entrepreneur in Residence\, Evok Innovations | Kerry Rupp\, General Partner\, True Wealth Ventures | Brian Schuman\, Principal\, Strategic Investments\, PepsiCo External Innovation | Stephen Shapiro\, Partner\, eHealth Ventures | Simon Sokol\, Investment Associate\, Relay Ventures | Mark Solovy\, Co-President\, MCAP Acquisition Corporation | Vivek Soni\, Venture Partner\, S CAP Clean Tech | Peter Sopher\, Manager\, Investments & Portfolio\, Clean Energy Ventures | Abhinav Tiwari\, General Partner\, Owl Capital | Eran Toledo\, CTO\, Sanara Ventures | Claude Vachet\, Managing Partner\, Cycle Capital | Varun Varma\, VP Investment Operations\, Lightbox | Ilya Velder\, Partner\, Basinghall Partners | Alejandra Vergara\, Associate\, Bee Partners | Eze Vidra\, Managing Partner\, Remagine Ventures | Rohan Wadhwa\, Principal\, Lumos Capital Group | Brian Walsh\, Head\, WIND Ventures | Isaiah Washington\, Investor\, Insight Partners | Tony Zhu\, Venture Associate\, Clean Energy Trust and many more… \n\nSpecial Offer: \nAustin Technology Council has made special arrangement for our network to receive a special discount of 20% off. This conference will be attended by the best people in the industry. Please register early to avoid disappointment.  (Use promo code “ATCVIP”) \nIn addition to providing access to leading Investors\, the conference will feature more than 100 pre-screened venture backed\, emerging and early stage companies seeking capital\, and hardcore networking. \n  \nCall for TOP INNOVATORS! \nGet Noticed > Get Funded > Grow Faster \nA select group of more than 100 Top Innovators will be chosen to present their breakthrough investment opportunities to an exclusive audience of Venture Capitalists\, Corporate Investors\, Private Investors\, Investment Bankers\, and Strategic Partners. \n  \nApply to Present / Nominate a company: \nFor more information or to be considered for one of the Top Innovator slots click here \n  \nWe look forward to seeing you there. \nAustin Technology Council & youngStartup Ventures
URL:https://www.austintechnologycouncil.org/event/venture-summit-virtual-connect/
LOCATION:Virtual event\, Collibra Inc. 61 Broadway\, 31st Floor New York\, NY 10006\, New York\, NY\, N\, 10006\, United States
CATEGORIES:ATC Event,Community Event
ATTACH;FMTTYPE=image/png:https://www.austintechnologycouncil.org/wp-content/uploads/2021/10/Banner-VSVC2021.png
END:VEVENT
BEGIN:VEVENT
DTSTART;TZID=America/Chicago:20211207T120000
DTEND;TZID=America/Chicago:20211207T130000
DTSTAMP:20260423T204533
CREATED:20210817T153613Z
LAST-MODIFIED:20210827T162750Z
UID:10001632-1638878400-1638882000@www.austintechnologycouncil.org
SUMMARY:Texas is IT (TXIT) Apprenticeship Grant Program
DESCRIPTION:Become an Employer Partner with us!\nTexas is IT (TXIT) Apprenticeship Grant Program at Austin Community College\nCreate your future workforce\, improve productivity\, and reduce turnover with a high-quality Apprenticeship program.\nTXIT Apprenticeship Program at Austin Community College will show you how! \nBusiness Benefits of an IT Apprenticeship:\n• Develop highly-skilled employees\n• Reduce Employee turnover Rate\n• Save money\n• Lower the cost of recruitment\n• Defray costs of technical education\n• Salary support for Apprenticeship \nAttend the next TXIT Apprenticeship Employer Partner information session held the first Tuesday of each month. Click the link below to register today!\nhttps://sites.austincc.edu/cs/apprenticeships/employers/\nThe information session will share exciting information about the program\, the business benefits for an IT Apprenticeship\, how to apply\, and you’ll have an opportunity to ask questions you might have about the program.
URL:https://www.austintechnologycouncil.org/event/texas-is-it-txit-apprenticeship-grant-program/2021-12-07/
LOCATION:Texas is IT (TXIT) Apprenticeship Grant program\, Austin Communty College District\, Select a Country:
CATEGORIES:Community Event
ATTACH;FMTTYPE=image/png:https://www.austintechnologycouncil.org/wp-content/uploads/2021/08/TXIT-banner-digital-1.png
GEO:30.267153;-97.7430608
X-APPLE-STRUCTURED-LOCATION;VALUE=URI;X-ADDRESS=Texas is IT (TXIT) Apprenticeship Grant program Austin Communty College District Select a Country:;X-APPLE-RADIUS=500;X-TITLE=Austin Communty College District:geo:-97.7430608,30.267153
END:VEVENT
BEGIN:VEVENT
DTSTART;TZID=America/Chicago:20211207T180000
DTEND;TZID=America/Chicago:20211207T194500
DTSTAMP:20260423T204533
CREATED:20211116T205318Z
LAST-MODIFIED:20211116T205318Z
UID:10001646-1638900000-1638906300@www.austintechnologycouncil.org
SUMMARY:Misinformation & Disinformation: The Problems and Possible Solutions
DESCRIPTION:Misinformation and disinformation have been around as long as people have been seeking to create gains and advantages for themselves and their interests. However\, technologies including the web\, smartphones\, and social media platforms have greatly augmented the potential for creating and spreading misinformation and the effectiveness of organized disinformation campaigns. It has become increasingly difficult to determine the accuracy and authenticity of many kinds of information\, making it much easier to spread inaccurate\, inauthentic content accidentally or unintentionally. This can create and exacerbate divisiveness\, inflame passions and promote mistrust\, and even lead to violent behaviors and deaths. How do we fix the technologies we have created to share information\, and how can we use new technologies—coupled with education and with individual\, societal\, and corporate responsibility—to identify\, reduce\, and fight misinformation and disinformation? Can technology even be part of the solution? What should we all learn\, do\, and share to be part of the solution? ​ \n​Join us in-person or on Zoom for this great conversation!
URL:https://www.austintechnologycouncil.org/event/misinformation-disinformation-the-problems-and-possible-solutions/
LOCATION:Austin Central Library\, 710 W. Cesar Chavez Downtown Austin\, Austin\, texas\, 78702\, Select a Country:
CATEGORIES:Community Event
ATTACH;FMTTYPE=image/jpeg:https://www.austintechnologycouncil.org/wp-content/uploads/2021/11/pexels-negative-space-177557-scaled.jpg
ORGANIZER;CN="Austin Forum on Technology &amp%3B Society":MAILTO:info@austinforum.org
END:VEVENT
END:VCALENDAR