BEGIN:VCALENDAR
VERSION:2.0
PRODID:-//Austin Technology Council - ECPv6.11.0.1//NONSGML v1.0//EN
CALSCALE:GREGORIAN
METHOD:PUBLISH
X-WR-CALNAME:Austin Technology Council
X-ORIGINAL-URL:https://www.austintechnologycouncil.org
X-WR-CALDESC:Events for Austin Technology Council
REFRESH-INTERVAL;VALUE=DURATION:PT1H
X-Robots-Tag:noindex
X-PUBLISHED-TTL:PT1H
BEGIN:VTIMEZONE
TZID:America/Chicago
BEGIN:DAYLIGHT
TZOFFSETFROM:-0600
TZOFFSETTO:-0500
TZNAME:CDT
DTSTART:20210314T080000
END:DAYLIGHT
BEGIN:STANDARD
TZOFFSETFROM:-0500
TZOFFSETTO:-0600
TZNAME:CST
DTSTART:20211107T070000
END:STANDARD
END:VTIMEZONE
BEGIN:VEVENT
DTSTART;VALUE=DATE:20211101
DTEND;VALUE=DATE:20211202
DTSTAMP:20260423T181724
CREATED:20211027T211224Z
LAST-MODIFIED:20211028T222347Z
UID:10001640-1635724800-1638320399@www.austintechnologycouncil.org
SUMMARY:Global Turkey Trek
DESCRIPTION:Looking for a proven employee engagement event? Join us in November’s global Turkey Trek! \nHealthCode’s November virtual “Turkey Trek” activity event provides a fun\, proven way to stay active and safely connected whether around the globe or across the street. \nClick here to register your organization\nOnce signed up your organization is ready to go for all of HealthCode’s events. \nParticipation Benefits: \n\nEngages participants in physical activity and supports team building. Check out Dun & Bradstreet’s global video\, as the same platform is used for all HealthCode events https://www.youtube.com/watch?v=aPQCDS2a8wo\nProven and growing – Used by 500+ organizations in all 50 states and 30 countries\, such as SailPoint\, Keller Williams\, plus hundreds of companies\, Air Force Units\, state agencies\, cities (Austin\, Round Rock)\, counties (Travis\, Williamson)\, school districts\, universities\, and nonprofits.\nEasy to administer for HR/Wellness leaders Just fill out the quick form found here.\nSimple and fun for participants\nDelivers metrics and results; plus supports “teams” such as by departments or locations\nNo fees\, similar to PBS/NPR there are no required fees to participate or use\n\nContact HealthCode: Steve@HealthCode.org or 512-970-744 \nHealthCode is an Austin based 501 (c)3 nonprofit whose vision is that everyone should enjoy the benefits of a healthier\, happier life free from chronic\, preventable diseases.
URL:https://www.austintechnologycouncil.org/event/global-turkey-trek/2021-11-01/
LOCATION:Austin Technology Council HQ\, 301 Congress Avenue\, Suite #31\, Austin\, TX\, 78701\, United States
CATEGORIES:Community Event
ATTACH;FMTTYPE=image/png:https://www.austintechnologycouncil.org/wp-content/uploads/2021/10/728x90-banner-01-1.png
ORGANIZER;CN="HealthCode":MAILTO:Steve@HealthCode.org
GEO:30.2653815;-97.7429327
X-APPLE-STRUCTURED-LOCATION;VALUE=URI;X-ADDRESS=Austin Technology Council HQ 301 Congress Avenue Suite #31 Austin TX 78701 United States;X-APPLE-RADIUS=500;X-TITLE=301 Congress Avenue\, Suite #31:geo:-97.7429327,30.2653815
END:VEVENT
BEGIN:VEVENT
DTSTART;TZID=America/Chicago:20211103T100000
DTEND;TZID=America/Chicago:20211103T110000
DTSTAMP:20260423T181724
CREATED:20211101T231351Z
LAST-MODIFIED:20211101T231351Z
UID:10001642-1635933600-1635937200@www.austintechnologycouncil.org
SUMMARY:The No Numbers Money Talk
DESCRIPTION:Having the money conversations with your family without using numbers? It is easier than it sounds when you have the right tools. \nThis don’t-miss virtual event will provide the Leading Generation (a.k.a. parents and grandparents) with pearls of wisdom and practical tools to help foster successful discussions around philanthropy\, what happens in case of an emergency (ICE)\, and communicating your legacy. \nThese types of discussions are a wonderful opportunity to spend time with family and share values\, priorities\, and strengthen relationships.
URL:https://www.austintechnologycouncil.org/event/the-no-numbers-money-talk/
LOCATION:Zoom Link sent to those who register\, Select a Country:
CATEGORIES:Community Event
ATTACH;FMTTYPE=image/jpeg:https://www.austintechnologycouncil.org/wp-content/uploads/2021/10/no-money.jpg
ORGANIZER;CN="Austin Technology Council":MAILTO:info@www.austintechnologycouncil.org
END:VEVENT
BEGIN:VEVENT
DTSTART;TZID=America/Chicago:20211104T143000
DTEND;TZID=America/Chicago:20211104T153000
DTSTAMP:20260423T181724
CREATED:20211101T231202Z
LAST-MODIFIED:20211101T231202Z
UID:10001641-1636036200-1636039800@www.austintechnologycouncil.org
SUMMARY:Venturi Women's Conference
DESCRIPTION:Join us for a conversation celebrating the unique perspective women bring to financial-decision-making. \nThis 60 minute webinar will feature female advisors from Venturi Private Wealth alongside guest speaker\, Kristen Heaney\, who will share a framework to broaden perspectives about the vital role women can play in their own financial decision-making. Participants will leave this engaging webinar with a number of practical\, customized ideas to increase your financial confidence.
URL:https://www.austintechnologycouncil.org/event/venturi-womens-conference/
LOCATION:Zoom Link sent to those who register\, Select a Country:
CATEGORIES:Community Event
ATTACH;FMTTYPE=image/jpeg:https://www.austintechnologycouncil.org/wp-content/uploads/2021/10/womens.jpg
ORGANIZER;CN="Venturi Private Wealth":MAILTO:info@venturiwealth.com
END:VEVENT
BEGIN:VEVENT
DTSTART;TZID=America/Chicago:20211107T120000
DTEND;TZID=America/Chicago:20211107T130000
DTSTAMP:20260423T181724
CREATED:20210817T153613Z
LAST-MODIFIED:20210827T162750Z
UID:10001631-1636286400-1636290000@www.austintechnologycouncil.org
SUMMARY:Texas is IT (TXIT) Apprenticeship Grant Program
DESCRIPTION:Become an Employer Partner with us!\nTexas is IT (TXIT) Apprenticeship Grant Program at Austin Community College\nCreate your future workforce\, improve productivity\, and reduce turnover with a high-quality Apprenticeship program.\nTXIT Apprenticeship Program at Austin Community College will show you how! \nBusiness Benefits of an IT Apprenticeship:\n• Develop highly-skilled employees\n• Reduce Employee turnover Rate\n• Save money\n• Lower the cost of recruitment\n• Defray costs of technical education\n• Salary support for Apprenticeship \nAttend the next TXIT Apprenticeship Employer Partner information session held the first Tuesday of each month. Click the link below to register today!\nhttps://sites.austincc.edu/cs/apprenticeships/employers/\nThe information session will share exciting information about the program\, the business benefits for an IT Apprenticeship\, how to apply\, and you’ll have an opportunity to ask questions you might have about the program.
URL:https://www.austintechnologycouncil.org/event/texas-is-it-txit-apprenticeship-grant-program/2021-11-07/
LOCATION:Texas is IT (TXIT) Apprenticeship Grant program\, Austin Communty College District\, Select a Country:
CATEGORIES:Community Event
ATTACH;FMTTYPE=image/png:https://www.austintechnologycouncil.org/wp-content/uploads/2021/08/TXIT-banner-digital-1.png
GEO:30.267153;-97.7430608
X-APPLE-STRUCTURED-LOCATION;VALUE=URI;X-ADDRESS=Texas is IT (TXIT) Apprenticeship Grant program Austin Communty College District Select a Country:;X-APPLE-RADIUS=500;X-TITLE=Austin Communty College District:geo:-97.7430608,30.267153
END:VEVENT
BEGIN:VEVENT
DTSTART;TZID=America/Chicago:20211117T173000
DTEND;TZID=America/Chicago:20211117T193000
DTSTAMP:20260423T181724
CREATED:20211112T161826Z
LAST-MODIFIED:20211112T161949Z
UID:10001645-1637170200-1637177400@www.austintechnologycouncil.org
SUMMARY:IEEE High Tech Happy Hour: Bollywood Style
DESCRIPTION:Join us for professional networking\, food\, drink and entertainment\, provided by Austin Shakespeare.\nWe’ll have scenes from Bollywood Twelfth Night performed by actors from Austin Shakespeare\, with music by Nagavalli.\nFamilies welcome. \nRegister Now!
URL:https://www.austintechnologycouncil.org/event/ieee-high-tech-happy-hour-bollywood-style/
LOCATION:Scholz Garten\, 1607 San Jacinto Blvd\, Austin\, TX\, 78701\, United States
CATEGORIES:Community Event,Featured Event
ATTACH;FMTTYPE=image/jpeg:https://www.austintechnologycouncil.org/wp-content/uploads/2021/11/HappyHourSmall2.jpg
ORGANIZER;CN="IEEE":MAILTO:f.behmann@ieee.org
GEO:30.2777918;-97.736908
X-APPLE-STRUCTURED-LOCATION;VALUE=URI;X-ADDRESS=Scholz Garten 1607 San Jacinto Blvd Austin TX 78701 United States;X-APPLE-RADIUS=500;X-TITLE=1607 San Jacinto Blvd:geo:-97.736908,30.2777918
END:VEVENT
BEGIN:VEVENT
DTSTART;TZID=America/Chicago:20211123T103000
DTEND;TZID=America/Chicago:20211123T120000
DTSTAMP:20260423T181724
CREATED:20211018T165418Z
LAST-MODIFIED:20211018T165418Z
UID:10001978-1637663400-1637668800@www.austintechnologycouncil.org
SUMMARY:Smart City Solutions Networking: Future with Last Mile Logistics
DESCRIPTION:Join Berlin and US representatives of the Smart City ecosystem to tackle to the topic of challenges and perspectives of last mile logistics that has already reshaped e-commerce deliveries sector with the 25% increase in 2020. \nREGISTER FOR THE ONLINE EVENT HERE \nWin partners with incentives in : \n\nSolutions for the up-to-date supply chain\nHigher accuracy in scheduling deliveries\nReal time tracking of deliveries\n\nThe smart city ecosystems of the regions are highly innovative. In Berlin\, up to 300 players are working on smart urban solutions. Decision-makers and innovators have the perfect space here to network. \nAgenda: \n17:30 – 17:35 \nOrientation & Welcome words by SIBB e.V. \n17:35 – 17:50 \nWelcoming remarks by Kristina Garcia\, Managing Director of the Berlin Business Office\, USA \nWelcome words by event partners TBA \n17:50 – 18:30 \nExpert Panel: “Future with Last Mile Logistics” \n18:30 – 19:00 \nModerated matchmaking in Zoom Breakout rooms \n19:00 – 19:05 \nClosing remarks
URL:https://www.austintechnologycouncil.org/event/smart-city-solutions-networking-future-with-last-mile-logistics/
CATEGORIES:Community Event
ATTACH;FMTTYPE=image/jpeg:https://www.austintechnologycouncil.org/wp-content/uploads/2021/10/berlin_event.jpeg
LOCATION:
END:VEVENT
END:VCALENDAR