BEGIN:VCALENDAR
VERSION:2.0
PRODID:-//Austin Technology Council - ECPv6.11.0.1//NONSGML v1.0//EN
CALSCALE:GREGORIAN
METHOD:PUBLISH
X-WR-CALNAME:Austin Technology Council
X-ORIGINAL-URL:https://www.austintechnologycouncil.org
X-WR-CALDESC:Events for Austin Technology Council
REFRESH-INTERVAL;VALUE=DURATION:PT1H
X-Robots-Tag:noindex
X-PUBLISHED-TTL:PT1H
BEGIN:VTIMEZONE
TZID:America/Chicago
BEGIN:DAYLIGHT
TZOFFSETFROM:-0600
TZOFFSETTO:-0500
TZNAME:CDT
DTSTART:20210314T080000
END:DAYLIGHT
BEGIN:STANDARD
TZOFFSETFROM:-0500
TZOFFSETTO:-0600
TZNAME:CST
DTSTART:20211107T070000
END:STANDARD
END:VTIMEZONE
BEGIN:VTIMEZONE
TZID:America/Toronto
BEGIN:DAYLIGHT
TZOFFSETFROM:-0500
TZOFFSETTO:-0400
TZNAME:EDT
DTSTART:20210314T070000
END:DAYLIGHT
BEGIN:STANDARD
TZOFFSETFROM:-0400
TZOFFSETTO:-0500
TZNAME:EST
DTSTART:20211107T060000
END:STANDARD
END:VTIMEZONE
BEGIN:VEVENT
DTSTART;TZID=America/Chicago:20210701T010000
DTEND;TZID=America/Chicago:20210731T120000
DTSTAMP:20260425T053043
CREATED:20210629T182736Z
LAST-MODIFIED:20210629T182736Z
UID:10001952-1625101200-1627732800@www.austintechnologycouncil.org
SUMMARY:July's Triathlon in a Month - Employment Engagement
DESCRIPTION:Looking to engage your employees and families\, globally or across the street\, in a fun safe way? \nJoin ATC in July’s “Triathlon in a Month” virtually activity event. Let’s get ATC members on the global public leaderboards! \nWhat counts? That is up to each person\, as they create their own “Tri” – swim\, yoga\, bike\, run\, hike\, CrossFit\, dance\, kayak\, gardening. Provides a fun spin leveraging the summer Olympics. \nSign up your organization and even “groups”. There are no fees for individuals or organizations\, plus HealthCode’s SaaS platform and communication materials make implementation a snap. \nPeople can start at any time and enter activity accomplished as of July 1st. So\, no penalties for late starts in this virtual challenge. \nA great way to keep connected and engage employees during these busy summer days. \nAny questions? Contact steve@healthcode.org 512 970 7443
URL:https://www.austintechnologycouncil.org/event/julys-triathlon-in-a-month-employment-engagement/
LOCATION:Online
CATEGORIES:Community Event
ATTACH;FMTTYPE=image/jpeg:https://www.austintechnologycouncil.org/wp-content/uploads/2021/06/728X90-JulyΓCoAug-half-banner-01-JPG-2-scaled.jpg
END:VEVENT
BEGIN:VEVENT
DTSTART;TZID=America/Chicago:20210701T170000
DTEND;TZID=America/Chicago:20210701T200000
DTSTAMP:20260425T053043
CREATED:20210625T144414Z
LAST-MODIFIED:20210625T145517Z
UID:10001947-1625158800-1625169600@www.austintechnologycouncil.org
SUMMARY:Tech Industry Night at FOTO//HOUSE
DESCRIPTION:FOTO//HOUSE photography/video studio and sound stage will be hosting their next industry night for the Austin tech and innovation sector next Thursday\, July 1\, from 5 – 8 p.m. in their downtown Austin location (1701 Guadalupe St.\, Austin\, Texas 78701).\n\nInterested parties\, including tech and innovation leaders as well as startups\, can tour the space and network.\nSponsored libations will be available.\nTo inquire on how to attend\, please contact:\njmackey@juiceconsulting.com\n(*RSVP is required for entry.)\n\nThe FOTO//HOUSE space is designed for professionals to create and capture their best work in a beautiful\, high-quality\, fully-outfitted professional environment. The studio allows for video shoots\, livestreams\, photo shoots\, podcasts and more.\nFor more information\, see here.\n\nFor media RSVPs or general press inquiries\, please contact:\ntyler@juiceconsulting.com
URL:https://www.austintechnologycouncil.org/event/tech-industry-night-at-the-fotohouse-studio/
LOCATION:FOTOHOUSE Photo & Video Studio\, 1701 Guadalupe St\, Austin\, TX\, 78701\, United States
CATEGORIES:Community Event
ATTACH;FMTTYPE=image/jpeg:https://www.austintechnologycouncil.org/wp-content/uploads/2021/06/unnamed.jpg
GEO:30.2798216;-97.7420522
X-APPLE-STRUCTURED-LOCATION;VALUE=URI;X-ADDRESS=FOTOHOUSE Photo & Video Studio 1701 Guadalupe St Austin TX 78701 United States;X-APPLE-RADIUS=500;X-TITLE=1701 Guadalupe St:geo:-97.7420522,30.2798216
END:VEVENT
BEGIN:VEVENT
DTSTART;TZID=America/Chicago:20210706T080000
DTEND;TZID=America/Chicago:20210708T170000
DTSTAMP:20260425T053043
CREATED:20210517T204708Z
LAST-MODIFIED:20210517T204708Z
UID:10001604-1625558400-1625763600@www.austintechnologycouncil.org
SUMMARY:Venture Summit Virtual Connect Global
DESCRIPTION:We’ll be featuring over 150 venture funds as speakers\, more than 100 Top Innovators as presenters\, and high-level online virtual networking opportunities. \nPartial initial roster of VCs and Angels Confirmed to Speak and Judge: \nBozena Adamczyk\, Investment Director\, Truffle Capital | Uri Adoni\, General Partner\, Sanara Capital | Nick Arnold\, Associate\, HG Ventures | Paul Asel\, Managing Partner\, NGP Capital | Assaf Barnea\, CEO\, Sanara Ventures | Tobias Bauer\, Head of Partnerships\, Blockchain Founders Fund | Amman Bhasin\, VC Investor\, PayPal Ventures | Ashish Bhatia\, Angel Investor | Wade Bitaraf\, Founder\, Energy & Sustainability\, Plug and Play | Tanya Boyko\, Principal\, ArcTern Ventures | Dan Burstein\, Managing Partner\, Millennium Technology Value Partners | Adam Carson\, Operating Partner – Fintech\, Point72 Ventures | Matt Caspari\, Partner\, Spike Ventures | André Chabaneix\, Senior Associate\, Blue Bear Capital | Iris Chan\, Partner\, Mighty Capital | Shaun Chaudhuri\, Senior Associate\, The Westly Group | Yi Jean Chow\, Investment Principal\, Future Energy Ventures | Diana Ciobanete\, Program Director\, Commons Accel | Michael Cohen\, Investment Director\, SAIC Capital | Amy Coveny\, Managing Partner\, Quake Capital | Linard Daleckis\, Investment Analyst\, iTech Capital | Melissa Demma\, Associate\, Differential Ventures | Jun Deng\, Investment Partner\, Joyance Partners | Eric Dobson\, CEO\, Sheltowee Angel Network | Nissim Dravish\, Venture Partner\, OrbiMed | Amy Dyck\, Associate\, Framework Venture Partners | Denis Efremov\, Principal\, Fort Ross Ventures | Sara Enan\, Investment Associate\, Global Ventures | Shintaro Enomoto\, Principal\, MS&AD Ventures | Raymond Fung\, Associate\, ArcTern Ventures | Stan Fung\, Managing Director\, FarSight Ventures | Gary Gershony\, Founding General Partner\, BayMed Venture Partners | Sam Goldberger\, Managing Partner\, Ambit Health Ventures | Jacqueline Goodman\, Senior Analyst\, SJF Ventures | Michelle Gouveia\, Vice President\, Sandbox Insurtech Ventures | Juliana Green\, Senior Associate\, Unovis Asset Management | Edward Greer\, Corporate Technology Scout\, Dow Chemical | Yashwanth Hemaraj\, Partner\, Benhamou Global Ventures | Thomas Henry\, Co-Founder COO\, Eunike Ventures | Deborah Jackson\, Founder and CEO\, GP\, Plum Alley | Ben Jen\, Managing Director\, Ben Jen Holdings | Gary Jinks\, President\, GLJ Group | Hunter Kettering\, VC Investor\, Republic | Jason Klein\, President\, HBS Alumni Angels | Howard Ko\, Partner\, Morpheus Ventures | Eric Kohlmann\, Principal\, Arc Ventures | Randall LaVeau\, Founder\, BOSS Capital Partners | James Lee\, Executive Director\, Photonfund | Debbie Lin\, Exec Dir\, Boehringer Ingelheim Venture Fund | Ephraim Lindenbaum\, Managing Director\, Advance Ventures | Charles Ling\, Investment Director\, Tsingyuan Ventures | Darwin Ling\, Founder and General Partner\, Good AI Capital | Ubaldo Mafrici\, VC Analyst\, Aster Capital | Jaione Maiz\, Principal\, Anzu Partners | Ruchit Majmudar\, Senior Analyst\, JetBlue Technology Ventures | Honour Masters\, Associate\, Supernode Ventures | Christian Miller\, Senior Associate\, Poplar Ventures | David Miller\, Managing Director\, Clean Energy Ventures | Hamzah Nassif\, Partner\, Real Ventures | Ivan Nikkhoo\, Managing Partner\, Navigate Ventures | Samir Novruzov\, Venture Analyst\, I2BF Global Ventures | Chris Park\, Investment Director\, UL Ventures | Donna Parr\, Managing Partner\, Cross-Border Impact Ventures | Akhilesh Pathipati\, Partner\, MVM Partners | Cameron Peterkin\, Associate\, BCI Technology Investments | Vincent Pichon\, Investment Director\, Engie New Ventures | Daniel Pinault\, Principal\, Cycle Capital | Allyson Plosko\, Director\, Telosity\, Vinaj Ventures | Jean-Noel Poirier\, Executive Managing Director\, Clean Energy Venture Group | Todd Poole\, Associate Director\, Pathfinder Ventures | Susan Preston\, Managing Partner\, SeaChange Fund | Suraj Rajwani\, CEO\, DoubleRock | Michael Rand\, Managing Director\, WindSail Capital | Owen Reynolds\, Associate\, Expon Capital | Keeton Ross\, Entrepreneur in Residence\, Evok Innovations | Kerry Rupp\, General Partner\, True Wealth Ventures | Brian Schuman\, Principal\, Strategic Investments\, PepsiCo External Innovation | Stephen Shapiro\, Partner\, eHealth Ventures | Simon Sokol\, Investment Associate\, Relay Ventures | Mark Solovy\, Co-President\, MCAP Acquisition Corporation | Vivek Soni\, Venture Partner\, S CAP Clean Tech | Peter Sopher\, Manager\, Investments & Portfolio\, Clean Energy Ventures | Abhinav Tiwari\, General Partner\, Owl Capital | Eran Toledo\, CTO\, Sanara Ventures | Claude Vachet\, Managing Partner\, Cycle Capital | Varun Varma\, VP Investment Operations\, Lightbox | Ilya Velder\, Partner\, Basinghall Partners | Alejandra Vergara\, Associate\, Bee Partners | Eze Vidra\, Managing Partner\, Remagine Ventures | Rohan Wadhwa\, Principal\, Lumos Capital Group | Brian Walsh\, Head\, WIND Ventures | Isaiah Washington\, Investor\, Insight Partners | Tony Zhu\, Venture Associate\, Clean Energy Trust and many more…
URL:https://www.austintechnologycouncil.org/event/venture-summit-virtual-connect-global/
LOCATION:Online
CATEGORIES:Community Event
ATTACH;FMTTYPE=image/png:https://www.austintechnologycouncil.org/wp-content/uploads/2021/05/Screen-Shot-2021-05-17-at-3.43.17-PM.png
END:VEVENT
BEGIN:VEVENT
DTSTART;TZID=America/Chicago:20210706T120000
DTEND;TZID=America/Chicago:20210706T130000
DTSTAMP:20260425T053043
CREATED:20210702T135136Z
LAST-MODIFIED:20210702T135136Z
UID:10001953-1625572800-1625576400@www.austintechnologycouncil.org
SUMMARY:ACC\, Texas is IT Apprenticeship Employer Partner Information Session
DESCRIPTION:Become an Employer Partner with us!\nTexas is IT (TXIT) Apprenticeship Grant Program at Austin Community College\nCreate your future workforce\, improve productivity\, and reduce turnover with a high-quality apprenticeship program.\nTexas is IT Apprenticeship (TXIT) Grant Program at Austin Community College will show you how!\nSign up now to receive information about our next TXIT business information session at\, https://sites.austincc.edu/cs/apprenticeships/employers/\nThe information session will share exciting information about the program\, the business benefits for an IT Apprenticeship\, how to apply\, and you’ll have an opportunity to ask questions you might have about the program.\nWe look forward to meeting you at our next Employer Partner Information Session!
URL:https://www.austintechnologycouncil.org/event/acc-texas-is-it-apprenticeship-employer-partner-information-session/
CATEGORIES:Community Event
ATTACH;FMTTYPE=image/png:https://www.austintechnologycouncil.org/wp-content/uploads/2021/06/TXIT-banner-digital-1.png
END:VEVENT
BEGIN:VEVENT
DTSTART;TZID=America/Toronto:20210708T100000
DTEND;TZID=America/Toronto:20210708T170000
DTSTAMP:20260425T053043
CREATED:20210625T143356Z
LAST-MODIFIED:20210625T150128Z
UID:10001946-1625738400-1625763600@www.austintechnologycouncil.org
SUMMARY:The Path To Digital Transformation: Embracing Modernization With IoT And Data Consolidation
DESCRIPTION:About This Summit\nMany firms kickstarted business innovation out of necessity to maintain a competitive edge during the pandemic. This business transformation can often feel just beyond your grasp\, but it does not have to be that way! \nJoin the upcoming The Path To Digital Transformation: Embracing Modernization With IoT And Data Consolidation to understand the rapid change associated with the digital world\, discover the opportunities provided by new technologies\, and identify how companies are accelerating companywide transformation through modernization and utilization of IoT devices. \nThis event carves out a space to think and explore how we all need to adapt to this exciting but also challenging digital world\, no matter the stage you are in that journey. \nWhat to expect:\n\nSolution Specialists offering their incredible insights into business and digital transformation and sharing real business use cases.\nLearning opportunities to know how C-level executives are adapting to the digital transformation and what different approaches they are taking.\nExposure to how tech companies understand big data and transform organizations into more efficient and productive entities.\nRemote conference platform that allows you to log in from wherever you may be working.\nInteractive & engaging event that allows you direct communication with the speakers & experts.\n\nWe look forward to see you at the event.
URL:https://www.austintechnologycouncil.org/event/the-path-to-digital-transformation-embracing-modernization-with-iot-and-data-consolidation/
LOCATION:Online event\, Select a Country:
CATEGORIES:Community Event
ATTACH;FMTTYPE=image/png:https://www.austintechnologycouncil.org/wp-content/uploads/2021/06/The-Path-To-Digital-Transformation-Embracing-Modernization-With-IoT-And-Data-Consolidation-1.png
ORGANIZER;CN="Austin Technology Council":MAILTO:info@www.austintechnologycouncil.org
END:VEVENT
BEGIN:VEVENT
DTSTART;TZID=America/Chicago:20210708T110000
DTEND;TZID=America/Chicago:20210708T133000
DTSTAMP:20260425T053043
CREATED:20210629T181420Z
LAST-MODIFIED:20210629T181420Z
UID:10001949-1625742000-1625751000@www.austintechnologycouncil.org
SUMMARY:2021 Strategic Thinking Series by Russ Finney – SESSION: 1
DESCRIPTION:SESSION 1: Five Strategic Actions Businesses are Taking Post-Covid-19\nCompanies are rethinking their H/R policies\, evolving business models\, foundational technologies\, security imperatives\, and electronic marketing approaches. \nJoin us for an Invitation Only C-Level Strategic Thinking series sponsored by The HT Group and Presented by Russ Finney. \nOrganizations are rapidly transforming themselves using both strategic thinking and digital transformation initiatives to achieve higher profits\, increased growth\, and sustained competitiveness. \nThis unique series of lunch and learn events presents an opportunity to look at a much deeper level into the business transformation and technology approaches and methods being used by the cutting edge start-ups and mid-sized companies here in Austin. \nEnjoy a complimentary lunch while learning about strategies of top-performing organizations. \nRegister for the event
URL:https://www.austintechnologycouncil.org/event/2021-strategic-thinking-series-by-russ-finney-session-1/
LOCATION:Norris Conference Centers – Austin\, 2525 West Anderson Lane\, #365\, Austin\, TX\, 78757\, United States
CATEGORIES:Community Event
ATTACH;FMTTYPE=image/jpeg:https://www.austintechnologycouncil.org/wp-content/uploads/2021/06/Russ-Finney_FB.jpg
GEO:30.3550763;-97.7338197
X-APPLE-STRUCTURED-LOCATION;VALUE=URI;X-ADDRESS=Norris Conference Centers – Austin 2525 West Anderson Lane #365 Austin TX 78757 United States;X-APPLE-RADIUS=500;X-TITLE=2525 West Anderson Lane\, #365:geo:-97.7338197,30.3550763
END:VEVENT
BEGIN:VEVENT
DTSTART;TZID=America/Chicago:20210713T180000
DTEND;TZID=America/Chicago:20210713T200000
DTSTAMP:20260425T053043
CREATED:20210610T180134Z
LAST-MODIFIED:20210610T180134Z
UID:10001944-1626199200-1626206400@www.austintechnologycouncil.org
SUMMARY:Bitcoin\, Cryptocurrencies\, and DeFi: The Transformation of Money
DESCRIPTION:​The emergence of bitcoin and other cryptocurrencies is truly transformational and potentially revolutionary. The market capitalization of cryptocurrencies—led by bitcoin—is now over one trillion dollars\, or roughly 1/10th that of gold\, and Goldman Sachs just recognized cryptocurrencies as an asset class. The value is real and now recognized; while there is significant volatility\, that is more due to people not understanding cryptocurrencies and thus being prone to rapidly changing news\, and even hype. Cryptocurrency expects the volatility to diminish with education and understanding\, while the market capitalization continues to climb due to the real value that they present to parties in commerce and transactions. In fact\, the new Decentralized Finance (DeFi) movement is gaining steam\, riding on the properties—and value to users—of cryptocurrencies over traditional money and transactions managed by (and profiting) banks and other third parties. \nAre cryptocurrencies the future of money? Will our economic systems shift towards/to DeFi to maximize the value of money for transactors and eliminate the fee-based middlemen? Is it safe to invest in this movement yet? How can you and your business benefit from bitcoin or other cryptocurrencies\, and how can you help usher in the DeFi era? Join us as Paul Snow\, CEO of Factom\, and Bass Bauman\, Co-organizer of Ethereum Austin and Finance Director at ZenBusiness PBC\, help you understand everything you need to know in this accelerated\, comprehensive overview. Then stay around for an extended Q&A session moderated by Corina Frankie\, Head of Digital Innovation at Troika\, to answer all your questions and go deeper into these technologies and their applications. \nIf you are fully vaccinated\, please join us at a limited capacity at the Austin Central Library located on W. César Chávez St. If you have not received your COVID-19 vaccine\, or would prefer to watch the event online\, we invite you to stream the live event on Zoom. All attendees will need to register on Eventbrite and let us know if you plan to attend in-person or virtually. Both online and in-person attendees will have the opportunity to network and ask the speakers questions.
URL:https://www.austintechnologycouncil.org/event/bitcoin-cryptocurrencies-and-defi-the-transformation-of-money/
LOCATION:Austin Central Library\, 710 W. César Chávez St.\, Austin\, TX\, 78701\, United States
CATEGORIES:Community Event
ATTACH;FMTTYPE=image/png:https://www.austintechnologycouncil.org/wp-content/uploads/2021/06/Bitcoin-Cryptocurrencies-and-DeFi-The-Transformation-of-Money.png
END:VEVENT
BEGIN:VEVENT
DTSTART;TZID=America/Chicago:20210721T103000
DTEND;TZID=America/Chicago:20210721T120000
DTSTAMP:20260425T053043
CREATED:20210629T182026Z
LAST-MODIFIED:20210629T182026Z
UID:10001951-1626863400-1626868800@www.austintechnologycouncil.org
SUMMARY:Movability presents: MOBILITY SUMMIT 2021
DESCRIPTION:As we return to work and recreation\, mobility problems are once again becoming part of everyday life and stand to have a detrimental impact on equity\, the environment\, housing\, job access\, and affordability. How will the private and public sectors address these issues\, and what role can businesses and individuals play\, so that we don’t emerge from the pandemic only to return to the same patterns and problems? \nJoin Movability on July 21 from 10:30 am to 12:00 pm for a virtual Mobility Summit. Confirmed speakers include: \n\nTravis County Judge Andy Brown\nTexan by Nature – Jenny Burden\nHousing Authority of the City of Austin – Catherine Crago\nRed River Cultural District – Cody Cowan\nTexas State Senator Sarah Eckhardt\nTexas State Representative Celia Israel\nWilliamson County Commissioner Cynthia Long\nCity of Kyle Mayor Travis Mitchell\nAssociation for Commuter Transportation Executive Director David Straus
URL:https://www.austintechnologycouncil.org/event/movability-presents-mobility-summit-2021/
LOCATION:Online
CATEGORIES:Community Event
ATTACH;FMTTYPE=image/jpeg:https://www.austintechnologycouncil.org/wp-content/uploads/2021/06/https___cdn.evbuc_.com_images_138975945_359190750251_1_original-1.jpg
END:VEVENT
BEGIN:VEVENT
DTSTART;TZID=America/Chicago:20210721T130000
DTEND;TZID=America/Chicago:20210721T140000
DTSTAMP:20260425T053043
CREATED:20210720T214433Z
LAST-MODIFIED:20210720T214509Z
UID:10001963-1626872400-1626876000@www.austintechnologycouncil.org
SUMMARY:Lessons Learned Live Podcast with Abilitie Founder and CEO\, Bjorn Billhardt
DESCRIPTION:Join us for a LIVE podcast on July 21\, 2021\, 1:00 – 2:00 PM CDT with Founder and CEO Bjorn Billhardt and VP Strategy Matt Confer. They will share Lessons Learned from the last 12 months and predictions for the future of leadership development. \nTopics will include:\n+The transition from in-person to virtual leadership development and how that transition has impacted learner engagement.\n+The impact on company culture as learning and development has led the way in adapting to new technologies\, rapidly and effectively.\n+Our predictions for hybrid learning and how to manage experiences across modalities as the industry shifts in the coming months. \nAbilitie has watched and worked with clients as they’ve pivoted\, adapted\, and totally rethought their approaches to leadership development and training. Join us for an engaging discussion on the road ahead.
URL:https://www.austintechnologycouncil.org/event/lessons-learned-live-podcast-with-abilitie-founder-and-ceo-bjorn-billhardt/
LOCATION:Zoom\, Select a Country:
CATEGORIES:Community Event
ATTACH;FMTTYPE=image/png:https://www.austintechnologycouncil.org/wp-content/uploads/2021/07/Live-Episode-4.png
END:VEVENT
BEGIN:VEVENT
DTSTART;TZID=America/Chicago:20210722T110000
DTEND;TZID=America/Chicago:20210722T133000
DTSTAMP:20260425T053043
CREATED:20210629T181623Z
LAST-MODIFIED:20210629T181623Z
UID:10001950-1626951600-1626960600@www.austintechnologycouncil.org
SUMMARY:2021 Strategic Thinking Series by Russ Finney – SESSION: 2
DESCRIPTION:SESSION 2: Strategic Approaches for Profit\, Sustainability\, and Momentum\nBuilding the strategic underpinnings used by high-performing companies to drive continuous growth and profit. \nJoin us for an Invitation Only C-Level Strategic Thinking series sponsored by The HT Group and Presented by Russ Finney. \nOrganizations are rapidly transforming themselves using both strategic thinking and digital transformation initiatives to achieve higher profits\, increased growth\, and sustained competitiveness. \nThis unique series of lunch and learn events presents an opportunity to look at a much deeper level into the business transformation and technology approaches and methods being used by the cutting edge start-ups and mid-sized companies here in Austin.\nEnjoy a complimentary lunch while learning about strategies of top-performing organizations. \nRegister for the event
URL:https://www.austintechnologycouncil.org/event/2021-strategic-thinking-series-by-russ-finney-session-2/
LOCATION:Norris Conference Centers – Austin\, 2525 West Anderson Lane\, #365\, Austin\, TX\, 78757\, United States
CATEGORIES:Community Event
ATTACH;FMTTYPE=image/jpeg:https://www.austintechnologycouncil.org/wp-content/uploads/2021/06/strategic-thinking-session-2-border-1-scaled.jpg
GEO:30.3550763;-97.7338197
X-APPLE-STRUCTURED-LOCATION;VALUE=URI;X-ADDRESS=Norris Conference Centers – Austin 2525 West Anderson Lane #365 Austin TX 78757 United States;X-APPLE-RADIUS=500;X-TITLE=2525 West Anderson Lane\, #365:geo:-97.7338197,30.3550763
END:VEVENT
BEGIN:VEVENT
DTSTART;TZID=America/Chicago:20210723T120000
DTEND;TZID=America/Chicago:20210723T140000
DTSTAMP:20260425T053043
CREATED:20210628T173732Z
LAST-MODIFIED:20210628T173732Z
UID:10001948-1627041600-1627048800@www.austintechnologycouncil.org
SUMMARY:Austin SaaS Luncheon
DESCRIPTION:Digital Realty owns and operates 267 data centers in 44 global markets\, across 20 countries and on 6 continents\, with 40+MN rentable square feet\, affording Digital Realty the flexibility as well as scalability to meet its customers’ global digital needs now and into the future. Digital Realty is the only Data Center REIT whose debt has an Investment Grade rating; hence\, has a solid financial foundation. \nDigital Realty provides superior Cloud connectivity globally via our Service Exchange offering\, enabling companies to achieve greater throughput and security with all major Cloud Service Providers. \nDigital Realty provides the largest ecosystem of world-class US\, European\, APAC and Asia Pacific carriers; hosting global\, physical connection points for access into the world’s telecommunications networks and Internet backbones. Our solutions provide low latency access to financial exchanges and applications providers; media and content providers; as well as Cloud\, Platform-as-a-Service\, and Software-as-a-Service providers worldwide. Digital Realty’s assets can bolster your technology roadmap\, including Hybrid/Multi Cloud access as well as AI & ML compute-intensive high-power density implementations. \nWe will be hosting a SaaS Luncheon exclusively for C-Suite executives in Austin in July. Our solutions team will be addressing the challenge of data gravity with a data centric architecture approach. \nEmail Star Toups to request an RSVP
URL:https://www.austintechnologycouncil.org/event/austin-saas-luncheon/
LOCATION:Perry’s Steakhouse &amp; Grille\, 11801 Domain BLVD\, Austin\, TX\, 78758\, United States
CATEGORIES:Community Event
ATTACH;FMTTYPE=image/png:https://www.austintechnologycouncil.org/wp-content/uploads/2021/06/Austin-SAAS-Luncheon_Invite_v2_6.28ca.png
GEO:30.4045054;-97.7208907
X-APPLE-STRUCTURED-LOCATION;VALUE=URI;X-ADDRESS=Perry’s Steakhouse &amp; Grille 11801 Domain BLVD Austin TX 78758 United States;X-APPLE-RADIUS=500;X-TITLE=11801 Domain BLVD:geo:-97.7208907,30.4045054
END:VEVENT
END:VCALENDAR