BEGIN:VCALENDAR
VERSION:2.0
PRODID:-//Austin Technology Council - ECPv6.11.0.1//NONSGML v1.0//EN
CALSCALE:GREGORIAN
METHOD:PUBLISH
X-ORIGINAL-URL:https://www.austintechnologycouncil.org
X-WR-CALDESC:Events for Austin Technology Council
REFRESH-INTERVAL;VALUE=DURATION:PT1H
X-Robots-Tag:noindex
X-PUBLISHED-TTL:PT1H
BEGIN:VTIMEZONE
TZID:America/Chicago
BEGIN:DAYLIGHT
TZOFFSETFROM:-0600
TZOFFSETTO:-0500
TZNAME:CDT
DTSTART:20210314T080000
END:DAYLIGHT
BEGIN:STANDARD
TZOFFSETFROM:-0500
TZOFFSETTO:-0600
TZNAME:CST
DTSTART:20211107T070000
END:STANDARD
END:VTIMEZONE
BEGIN:VTIMEZONE
TZID:America/Toronto
BEGIN:DAYLIGHT
TZOFFSETFROM:-0500
TZOFFSETTO:-0400
TZNAME:EDT
DTSTART:20210314T070000
END:DAYLIGHT
BEGIN:STANDARD
TZOFFSETFROM:-0400
TZOFFSETTO:-0500
TZNAME:EST
DTSTART:20211107T060000
END:STANDARD
END:VTIMEZONE
BEGIN:VEVENT
DTSTART;TZID=America/Chicago:20210601T180000
DTEND;TZID=America/Chicago:20210601T200000
DTSTAMP:20260420T164237
CREATED:20210520T142952Z
LAST-MODIFIED:20210520T142952Z
UID:10001606-1622570400-1622577600@www.austintechnologycouncil.org
SUMMARY:Wirelessly Connecting Everyone & Everything\, Everywhere
DESCRIPTION:Smartphones\, sensors\, and a wide array of computing technologies and devices are now pervasive in our personal and professional lives\, but connectivity among these devices and to online resources in distance data centers has almost been taken for granted. However\, the COVID-19 pandemic created a new culture of work-from-home/anywhere\, and new requirements for remote learning/teaching (and most everything else). We became acutely aware of our dependence on connectivity\, weaknesses in performance and reliability\, and gaps affecting those without access. Now\, as we emerge from the pandemic with a renewed appreciation for reliable\, performant connectivity for everyone\, we are also witnessing the emergence of new wireless communications technologies—5G\, WiFi 6\, satellite-based networks\, and more–that promise to help address limitations in performance\, availability to all devices\, weaknesses in coverage\, and gaps in access. Join us for this comprehensive look at connectivity as the fourth utility and how these new technologies can wirelessly connect everyone and everything (computers\, sensors\, devices\, instruments\, etc.)\, everywhere\, as we build more connected homes\, schools\, buildings\, mobility\, cities\, and more.
URL:https://www.austintechnologycouncil.org/event/wirelessly-connecting-everyone-everything-everywhere/
LOCATION:Online
CATEGORIES:Community Event
ATTACH;FMTTYPE=image/png:https://www.austintechnologycouncil.org/wp-content/uploads/2021/05/Wirelessly-Connecting-Everyone-Everything-Everywhere-1.png
END:VEVENT
BEGIN:VEVENT
DTSTART;TZID=America/Chicago:20210607T100000
DTEND;TZID=America/Chicago:20210611T160000
DTSTAMP:20260420T164237
CREATED:20210603T200929Z
LAST-MODIFIED:20210603T201053Z
UID:10001942-1623060000-1623427200@www.austintechnologycouncil.org
SUMMARY:The Improving Edge Conference
DESCRIPTION:Stay on the emerging EDGE of the industry \n\nEngage. Empower. Elevate.\n\n\nImproving Edge was designed from the ground up to bring as much value to the community as possible. By leveraging our long standing relationships and community connections\, we have pulled together a schedule of speakers that should bring value to individuals\, executives\, and team leaders alike. If you are looking for inspiration\, new tips and techniques\, or fellowship in the community then the Improving Edge is for you. \nImproving considers the industry community to be a key stakeholder in our business\, and because of that we aim to share time\, knowledge\, and experience freely to that community. The Improving Edge adds to other programs like lunch and learns and articles to share lessons learned. At a time when so many of us are facing continued struggles\, new problems\, and looking for advice in an ever tightening business environment\, we felt that it was the perfect time to double down on giving back to the community. The collective goal of Improving\, the speakers\, and the whole Edge team is that this conference makes today’s\, and tomorrow’s\, struggles a bit easier for you and your teams to solve.
URL:https://www.austintechnologycouncil.org/event/the-improving-edge-conference/
LOCATION:Online
CATEGORIES:Community Event
ATTACH;FMTTYPE=image/png:https://www.austintechnologycouncil.org/wp-content/uploads/2021/06/Screen-Shot-2021-06-03-at-3.10.12-PM.png
END:VEVENT
BEGIN:VEVENT
DTSTART;TZID=America/Chicago:20210607T173000
DTEND;TZID=America/Chicago:20210607T193000
DTSTAMP:20260420T164237
CREATED:20210517T135252Z
LAST-MODIFIED:20210517T173827Z
UID:10001600-1623087000-1623094200@www.austintechnologycouncil.org
SUMMARY:Austin Fast Start: Social Impact Pitch Event
DESCRIPTION:Austin Fast Start is a pitch competition with a purpose. Every quarter\, we will hear from a new industry and award an unrestricted cash prize and other opportunities to turn these dreams into realities. This quarter is Social Impact. \nAbout Social Impact\nMany businesses are taking on society’s most challenging problems as an integral part of why and how they do business. Social Impact businesses include those that are harnessing the power of business by using profits and growth as a means to a greater end – positive impact for their employees\, our communities\, and the environment. Learn more here. \nPrize Package Snapshot (total package valued at $5\,390) \n\n$2\,500 Cash Prize plus in-kind prizes\nThree months free rent at Capital Factory\nFounder Cohort Program from The Un.Inc\nFinancial or HR Consultation from vcfo\nMarketing Startup Package from Honeycomb\nOne ticket to the 2021 Global RoundUp Conference by 3 Day Startup\nOne Year Corporate Membership to the Austin Young Chamber
URL:https://www.austintechnologycouncil.org/event/austin-fast-start-social-impact-pitch-event/
LOCATION:Online
CATEGORIES:Community Event
ATTACH;FMTTYPE=image/png:https://www.austintechnologycouncil.org/wp-content/uploads/2021/05/event-instaSq-e1621273097343.png
END:VEVENT
BEGIN:VEVENT
DTSTART;TZID=America/Chicago:20210609T123000
DTEND;TZID=America/Chicago:20210609T133000
DTSTAMP:20260420T164237
CREATED:20210525T204041Z
LAST-MODIFIED:20210525T204041Z
UID:10001608-1623241800-1623245400@www.austintechnologycouncil.org
SUMMARY:ATARC- Protecting Bring Your Own (BYO) Mobile Devices within Zero Trust Frameworks
DESCRIPTION:June 9th at 1:30pm ET\nATARC Presents in Partnership with ZIMPERIUM-\nAn open discussion with experts from the National Institute of Standards and Technology (NIST)\, the MITRE Corporation\, and U.S. Department of Defense. \nThe distributed workforce has changed the face of cybersecurity\, bringing enhanced access controls like Zero Trust to the forefront\, enabling employees to be productive anywhere in the world… even on BYO mobile devices. \nRecently\, the National Cybersecurity Center of Excellence (NCCoE) at the National Institute of Standards and Technology (NIST) released a practice guide titled Mobile Device Security: Bring Your Own Device. This NIST guide brings forth what is needed by decision-makers to ensure that BYOD can be executed more securely. \nEach new endpoint accessing internal networks is a risk if left unprotected. In order to securely enable employees to access the data they need on the devices they use the most\, Zero Trust is critical\, and mobile threat defense is a core component for that enablement. \nIf you are responsible for protecting BYO initiatives within Zero Trust frameworks\, please join our webinar to hear: \n– Authors of the NIST practice guide discuss best practices for securing BYO mobile devices\n– Architects at MITRE on how to enhance protection using the MITRE ATT&CK Framework for Mobile\n– Government and industry experts on real-world use cases like the U.S. Department of Defense (DoD) protecting unclassified mobile devices \nPanel: Protecting BYO Mobile Devices within Zero Trust Frameworks \nGema Howell | IT Security Engineer\, Applied Cybersecurity Division\, National Institute of Standards and Technology\nJamie Williams | Cyber Adversarial Engineer\, MITRE\nRick Simon | Cyber Portfolio Project Consultant\, Defense Innovation Unit\, U.S. Department of Defense\nJT Keating | Master Webinar Speaker\, Zimperium\nModerator: Kiersten Patton | Working Group Program Manager\, ATARC
URL:https://www.austintechnologycouncil.org/event/atarc-protecting-bring-your-own-byo-mobile-devices-within-zero-trust-frameworks/
LOCATION:Online
CATEGORIES:Community Event
ATTACH;FMTTYPE=image/png:https://www.austintechnologycouncil.org/wp-content/uploads/2021/05/BYO-ATARC2-3.png
END:VEVENT
BEGIN:VEVENT
DTSTART;TZID=America/Chicago:20210610T143000
DTEND;TZID=America/Chicago:20210610T170000
DTSTAMP:20260420T164237
CREATED:20210430T150304Z
LAST-MODIFIED:20210430T150304Z
UID:10001933-1623335400-1623344400@www.austintechnologycouncil.org
SUMMARY:Venturi Private Wealth- Women’s Conference
DESCRIPTION:Statistics show that women are less likely than their male counterparts to hold a seat at the decision-making table regarding finances and when they do take the seat\, they second-guess their competence*. With females statistically likely to live 6-8 years longer than their male partners on average\, and the fact that they are predicted to receive control of much of the wealth currently in the hands of the baby boomers\, it’s time for women to increase financial confidence and own their seat at the table. If you find yourself desiring to gain greater competence and confidence in financial decision-making\, but aren’t sure where to begin\, this event is for you – we hope to see you there.
URL:https://www.austintechnologycouncil.org/event/venturi-private-wealth-womens-conference/
LOCATION:Online
CATEGORIES:Community Event
ATTACH;FMTTYPE=image/png:https://www.austintechnologycouncil.org/wp-content/uploads/2021/04/Screen-Shot-2021-04-30-at-10.02.34-AM.png
END:VEVENT
BEGIN:VEVENT
DTSTART;TZID=America/Chicago:20210616T110000
DTEND;TZID=America/Chicago:20210616T133000
DTSTAMP:20260420T164237
CREATED:20210608T213553Z
LAST-MODIFIED:20210608T213553Z
UID:10001943-1623841200-1623850200@www.austintechnologycouncil.org
SUMMARY:2021 Mid-Year Employment Law Update
DESCRIPTION:Join us for this FREE Lunch and Learn providing informative Employment Law changes for 2021.\n\n\n\n\n\nAbout this event\n\n\nThere are a ton of changes to employment laws this year as a result of the pandemic and a change in administration. Employers will need to continue to adapt. Does your organization need help sorting through all these changes? Well\, you’re in luck\, because Amy Beckstead of Beckstead Terry\, PLLC has done the hard work and is willing to share what she’s found with you. \nDuring this FREE lunch and learn\, Amy will present on a variety of new and anticipated changes in Texas and federal employment law including: \n\nState and federal law changes on the horizon\, including an update on federal regulatory changes\nReminders about existing COBRA and FFCRA subsidies and their sunset periods\nBest practices for employers bringing workers back in-person\, including OSHA and City of Austin regulations\nRequiring or encouraging vaccinations of employees – considerations for employers\nRemote work best practices for workers continuing to work from home\n\nWe expect to be able to offer HR CE credits for this seminar. \nAt this lunch and learn masks are optional for fully vaccinated individuals and required for non-vaccinated individuals. \nWe have missed you over the past year\, and we’re looking forward to seeing you in person soon.
URL:https://www.austintechnologycouncil.org/event/2021-mid-year-employment-law-update/
LOCATION:Norris Event Center – Austin\, 2525 W. Anderson Lane\, Suite 365\, Austin\, TX\, 78757\, United States
CATEGORIES:Community Event
ATTACH;FMTTYPE=image/png:https://www.austintechnologycouncil.org/wp-content/uploads/2021/06/https___cdn.evbuc_.com_images_135170121_617874053_1_original.png
GEO:30.3552476;-97.7333058
X-APPLE-STRUCTURED-LOCATION;VALUE=URI;X-ADDRESS=Norris Event Center – Austin 2525 W. Anderson Lane Suite 365 Austin TX 78757 United States;X-APPLE-RADIUS=500;X-TITLE=2525 W. Anderson Lane\, Suite 365:geo:-97.7333058,30.3552476
END:VEVENT
BEGIN:VEVENT
DTSTART;TZID=America/Toronto:20210616T140000
DTEND;TZID=America/Toronto:20210616T150000
DTSTAMP:20260420T164237
CREATED:20210603T151004Z
LAST-MODIFIED:20210603T151004Z
UID:10001612-1623852000-1623855600@www.austintechnologycouncil.org
SUMMARY:Communitech Data Hub Workshops: IoT Workshop Series
DESCRIPTION:About this event\nCurious what the Internet of Things (IoT) is all about? Join us for an introduction to IoT systems and applications\, learn how to build and enhance IoT applications\, discover how to safeguard yourself against IoT and server attacks\, and more. \nThe impact of IoT applications is estimated to be $11 trillion – but only if we can secure it. This creates opportunities for companies that can forecast or generate near real-time business insights for those connected devices\, but also presents a challenge to secure data across a web of embedded devices. \nWorkshops will be in an open session format on Zoom from 2 – 3 p.m. ET: \nJune 2\, 2021 – Introduction to IoT with Gurminder Kandola\nJune 16\, 2021 – Real-time IoT Analytics with Avi Bhargava and Riyad Parvez\nYou can also take part in demonstrations on microcontrollers such as the ESP32\, Raspberry Pi 3 Model B+ or Compute Module 4. Plus\, try out the commercial grade 5G testbed at the Communitech Data Hub after the session. There’s limited availability\, so sign up early! \nFeatured Presenters:\nGurminder Kandola:\nGurminder Kandola is the former CTO of Diply\, Audiobooks.com\, FanXchange and Viafoura where he gained a deep understanding of how to effectively merge internal governance and security with real-time data applications to create the ultimate end-user experience. By capturing customers with strategic content marketing\, real-time insights and predictive technology\, his clients are able to consistently stimulate growth and ROI\, while delivering an experience as unique as its user. \nAvi Bhargava:\nAvi Bhargava is the CTO at Ukko Agro\, an agriculture technology startup. He has 12+ years of collective experience in designing business and technology strategies\, leading complex technology solution implementations and managing scaling-up operations. Prior to Ukko Agro\, Avi was a technology strategy and implementation consultant with PwC and Deloitte. His engagements have exposed him to business and technical environments within agriculture\, healthcare\, banking\, insurance\, utilities\, high-tech and many public sector divisions \nRiyad Parvez\nRiyad Parvez is a Senior Software Engineer at Ukko Agro where he works on data infrastructure\, analytics and machine learning for IoT devices. His interests include sustainability and biodiversity of wildlife conservation. Riyad has a Masters in Applied Science from the University of Waterloo.
URL:https://www.austintechnologycouncil.org/event/communitech-data-hub-workshops-iot-workshop-series/
LOCATION:Online
CATEGORIES:Community Event
ATTACH;FMTTYPE=image/jpeg:https://www.austintechnologycouncil.org/wp-content/uploads/2021/05/e.jpeg
END:VEVENT
BEGIN:VEVENT
DTSTART;TZID=America/Chicago:20210616T173000
DTEND;TZID=America/Chicago:20210616T183000
DTSTAMP:20260420T164237
CREATED:20210513T141732Z
LAST-MODIFIED:20210513T141732Z
UID:10001937-1623864600-1623868200@www.austintechnologycouncil.org
SUMMARY:Using the Power of Mentorship in Technology Careers and Companies
DESCRIPTION:Technology has a fast rate of evolution and change\, and Austin has a rapidly growing tech sector. Together\, this means achieving and sustaining success and growth requires continuous\, effective personal and professional development and growth. Mentoring can play an important role in helping one grow\, recognizing important opportunities\, and pivoting/changing as necessary to excel in such rapidly evolving fields and times. Jospeh Kopser and Janice Omadeke\, proven innovators and leaders of technology companies and programs\, will lead a live online conversation about the power of mentorship in technology careers and companies. Please pull up a chair (and webcam\, mic\, and a drink if you like) and join this conversation to learn and share on this important topic!
URL:https://www.austintechnologycouncil.org/event/using-the-power-of-mentorship-in-technology-careers-and-companies/
LOCATION:Online
CATEGORIES:Community Event
ATTACH;FMTTYPE=image/png:https://www.austintechnologycouncil.org/wp-content/uploads/2021/05/Using-the-Power-of-Mentorship-in-Technology-Careers-and-Companies.png
END:VEVENT
BEGIN:VEVENT
DTSTART;TZID=America/Chicago:20210617T110000
DTEND;TZID=America/Chicago:20210617T114500
DTSTAMP:20260420T164237
CREATED:20210603T151254Z
LAST-MODIFIED:20210603T151254Z
UID:10001941-1623927600-1623930300@www.austintechnologycouncil.org
SUMMARY:Cherry Bekaert Answers – All Things Alteryx
DESCRIPTION:Need Alteryx help?\nJoin our Data Analysts and fellow Alteryx enthusiasts for the upcoming interactive webinar\, “Cherry Bekaert Answers on All Things Alteryx.” Get your most pressing Alteryx questions answered for free! \nCherry Bekaert Digital is comprised of strategists\, technologists and analysts who have broad industry experience and keen business acumen. We drive important change in productive and cost-effective ways by helping companies predict outcomes with data while adopting and applying relevant technologies to optimize performance.
URL:https://www.austintechnologycouncil.org/event/cherry-bekaert-answers-all-things-alteryx/
LOCATION:Online
CATEGORIES:Community Event
ATTACH;FMTTYPE=image/png:https://www.austintechnologycouncil.org/wp-content/uploads/2019/10/CherryBakaert.png
END:VEVENT
BEGIN:VEVENT
DTSTART;TZID=America/Chicago:20210624T120000
DTEND;TZID=America/Chicago:20210624T130000
DTSTAMP:20260420T164237
CREATED:20210603T151149Z
LAST-MODIFIED:20210603T151149Z
UID:10001940-1624536000-1624539600@www.austintechnologycouncil.org
SUMMARY:Wayfair Three Years Later: What’s Old\, New and Next for State & Local Taxes
DESCRIPTION:It’s been three years since the U.S. Supreme Court Justices issued their ruling in the case of Wayfair\, et al vs. South Dakota. The results of that case led to dramatic changes in laws for collecting\, reporting and remitting sales tax\, and opened the door for substantial changes to assessing state and local income and franchise taxes. To celebrate this anniversary\, leaders of Cherry Bekaert’s State and Local Tax (SALT) Practice will discuss how these changes are impacting businesses today\, and what to expect going forward.
URL:https://www.austintechnologycouncil.org/event/wayfair-three-years-later-whats-old-new-and-next-for-state-local-taxes/
LOCATION:Online
CATEGORIES:Community Event
ATTACH;FMTTYPE=image/png:https://www.austintechnologycouncil.org/wp-content/uploads/2019/10/CherryBakaert.png
END:VEVENT
END:VCALENDAR