BEGIN:VCALENDAR
VERSION:2.0
PRODID:-//Austin Technology Council - ECPv6.11.0.1//NONSGML v1.0//EN
CALSCALE:GREGORIAN
METHOD:PUBLISH
X-WR-CALNAME:Austin Technology Council
X-ORIGINAL-URL:https://www.austintechnologycouncil.org
X-WR-CALDESC:Events for Austin Technology Council
REFRESH-INTERVAL;VALUE=DURATION:PT1H
X-Robots-Tag:noindex
X-PUBLISHED-TTL:PT1H
BEGIN:VTIMEZONE
TZID:America/Chicago
BEGIN:DAYLIGHT
TZOFFSETFROM:-0600
TZOFFSETTO:-0500
TZNAME:CDT
DTSTART:20210314T080000
END:DAYLIGHT
BEGIN:STANDARD
TZOFFSETFROM:-0500
TZOFFSETTO:-0600
TZNAME:CST
DTSTART:20211107T070000
END:STANDARD
END:VTIMEZONE
BEGIN:VEVENT
DTSTART;TZID=America/Chicago:20210501T010000
DTEND;TZID=America/Chicago:20210601T000000
DTSTAMP:20260420T105723
CREATED:20210419T155607Z
LAST-MODIFIED:20210421T014904Z
UID:10001932-1619830800-1622505600@www.austintechnologycouncil.org
SUMMARY:Veterans Opportunity - Battle of the Branches - May Military Appreciation Month
DESCRIPTION:Do you have Veterans in your organization? Guard\, Reserve\, or military family members? \nIf so\, please share with them May’s Battle of the Branches; as we salute Military Appreciation Month! \nAbout 10 days ago\, Kelly\, HealthCode’s contact with the Air Force 517th TRG\, had an idea. Can HealthCode’s virtual activity events help support active duty\, guard\, reserve\, veterans\, and military families to be active and healthy? \nHealthCode said sign us up! Let’s roll up our sleeves and make this happen! \nSee details. \nIndividuals register here. \n2 for 1 \nMillion Mile Month – May \nBe active once – well throughout the month – as activity data entered will be applied to BOTH “Battle of the Branches” AND “May’s Million Mile Month”. \nRemind your employees to participate in May’s Million Mile Month as part of YOUR ORGANIZATION. \nTheir activity will be applied to both their military branch for the Battle of the Branches AND to your organization’s May’s Million Mile Month data. \nHow cool is that!!! \nPlease consider sharing HealthCode with your HR/wellness network. Organizations can sign up at https://healthcode.org/organizations; which includes communication materials for each event. \n“Million Mile Month” is a proven virtual global activity challenge to accomplish one million miles of activity; walk\, run\, swim\, bike\, even yoga to Zumba. \nSimple to implement\, the Million Mile Month delivers a fun\, safe\, and engaging way to connect and recognize your employees\, around the globe\, working from home or back in the office. \nSign up your organization. \nLet’s see which ATC’s members will be among the top 20 organizations on May’s global leaderboard! \nThere are no fees for individuals or organizations. HealthCode’s SaaS platform and communication materials make implementation a snap. Plus\, your organization will have its own private leaderboard. \nParticipants register\, select their organization\, set their personal activity goal\, and log miles or minutes on the HealthCode online activity tracker\, or sync up with a tracker. \nHealthCode is an Austin-based nonprofit with a global reach; whose mission is to empower people to live healthier happier lives free from preventable diseases.\nIn a time when millions are staying at home to stop the spread of COVID-19\, HealthCode is now providing monthly virtual activity challenges; helping motivate people to stay active and remain safely socially connected. \nFor any questions contact: Steve@HealthCode.org \nBuild Your Company’s Culture Through an Employee Activity Challenge that Works with HealthCode’s Monthly Virtual Events
URL:https://www.austintechnologycouncil.org/event/veterans-opportunity-battle-of-the-branches-may-military-appreciation-month/
LOCATION:Online
CATEGORIES:Community Event
ATTACH;FMTTYPE=image/png:https://www.austintechnologycouncil.org/wp-content/uploads/2021/04/Bob-BANNER-May-REV-1-1-31-728x90-01.png
END:VEVENT
BEGIN:VEVENT
DTSTART;TZID=America/Chicago:20210504T140000
DTEND;TZID=America/Chicago:20210504T153000
DTSTAMP:20260420T105723
CREATED:20210419T154115Z
LAST-MODIFIED:20210419T154115Z
UID:10001929-1620136800-1620142200@www.austintechnologycouncil.org
SUMMARY:Building a Public Company Infrastructure: Accounting and Financial Reporting Needs
DESCRIPTION:Going from a private to public company means entering a new world of accounting standards\, as well as additional financial reporting and audit requirements. Accurate and timely financials are a cornerstone to moving your organization to the next level and being compliant with onerous SEC reporting rules. \nJoin our presenters as they walk through the accounting and financial reporting details required for building a public company infrastructure. We will compare the differences in accounting standards for public companies and describe the requirements for financial statements needed for going public\, including the need for expanded disclosures and MD&A. This session will also cover the audit and review requirements for public companies. \nAttendees will walk away with a better understanding of the following: \n\nFinancial statement requirements for all registered offerings\nTiming requirements for the provision of financial statements\nTechnical accounting matters and how to report complex transactions under increased scrutiny\nPro forma financial information and other key content requirements\n\nSpeakers:\nPatrick Brown\, Partner\, Assurance Quality and Risk Management – Weaver\nZeeshan Khan\, Partner\, SPAC Practice Leader – Weaver
URL:https://www.austintechnologycouncil.org/event/building-a-public-company-infrastructure-accounting-and-financial-reporting-needs/
LOCATION:Online
CATEGORIES:Community Event
ATTACH;FMTTYPE=image/jpeg:https://www.austintechnologycouncil.org/wp-content/uploads/2021/04/Going-Public_Pt-3-scaled.jpg
END:VEVENT
BEGIN:VEVENT
DTSTART;TZID=America/Chicago:20210504T180000
DTEND;TZID=America/Chicago:20210504T200000
DTSTAMP:20260420T105723
CREATED:20210419T153404Z
LAST-MODIFIED:20210419T153404Z
UID:10001926-1620151200-1620158400@www.austintechnologycouncil.org
SUMMARY:Smarter(er) Cities: At the Intersection of People\, Data & Devices
DESCRIPTION:The topic of smart cities is characterized by complexity. From a technical perspective\, a smart city involves everything from devices to data to cloud and network infrastructure. Layered on top of this is the complexity of urban living and the mounting challenges of our modern society. Our city experience involves everything from how we get around\, to how we access city services\, to how we connect to the Internet\, to how we engage with our elected officials. Equity issues are highlighted when these services are accessible for some\, but not all. Smart cities have the potential to make amazing contributions\, but there are important issues to resolve including data privacy/ownership\, public-private partnerships and infrastructure resilience just to name a few. As overwhelming as this topic is\, one aspect is very simple – smart cities are about solving challenges for people\, not just about technology. Join us as we dive into the issues\, sort the complexity and showcase projects that are producing tangible results in this fascinating space.
URL:https://www.austintechnologycouncil.org/event/smarterer-cities-at-the-intersection-of-people-data-devices/
LOCATION:Online
CATEGORIES:Community Event
ATTACH;FMTTYPE=image/png:https://www.austintechnologycouncil.org/wp-content/uploads/2021/04/Smarterer-Cities_-At-the-Intersection-of-People-Data-Devices-.png
END:VEVENT
BEGIN:VEVENT
DTSTART;TZID=America/Chicago:20210505T120000
DTEND;TZID=America/Chicago:20210505T130000
DTSTAMP:20260420T105723
CREATED:20210430T151546Z
LAST-MODIFIED:20210430T155258Z
UID:10001934-1620216000-1620219600@www.austintechnologycouncil.org
SUMMARY:Executive MBA Information Session
DESCRIPTION:Join us on your lunch break to learn about an MBA program near you! Baylor’s Executive MBA program in Austin is just one night a week\, and does not require the GMAT. Join us to learn more!
URL:https://www.austintechnologycouncil.org/event/executive-mba-information-session-2/
LOCATION:Online
CATEGORIES:Community Event
ATTACH;FMTTYPE=image/jpeg:https://www.austintechnologycouncil.org/wp-content/uploads/2021/04/Jacqui.jpg
END:VEVENT
BEGIN:VEVENT
DTSTART;TZID=America/Chicago:20210511T140000
DTEND;TZID=America/Chicago:20210511T153000
DTSTAMP:20260420T105723
CREATED:20210419T155214Z
LAST-MODIFIED:20210419T155214Z
UID:10001931-1620741600-1620747000@www.austintechnologycouncil.org
SUMMARY:Building a Public Company Infrastructure: Governance\, Legal & Regulatory Requirements
DESCRIPTION:Financial and accounting issues aren’t the only matters to consider as you build a public company infrastructure. Going public will increase your company’s visibility and require a transformation of processes around governance\, as well as strong understanding of the tax\, legal and regulatory compliance requirements. \nOur presenters will discuss governance and look at the different exchange requirements of the NYSE and NASDAQ. Additionally\, Weaver’s professionals will cover the income tax and corporate structuring requirements in advance of a transaction\, general state and federal tax compliance issues\, as well as considerations for legal and regulatory compliance and other registration matters. Our session will cover the current regulatory landscape\, the rise of ESG\, diversity and inclusion and other HR considerations\, and the importance of governance and oversight. \nAttendees will walk away with a better understanding of the following: \n\nGovernance requirements for the NYSE and NASDAQ exchanges\nTax infrastructure\, accounting and compliance matters\nCorporate structuring needs in advance of a transaction\nCurrent regulatory landscape and governance best practices for public companies\n\nSpeakers: \nBruce Zaret\, Partner\, Risk Advisory Services – Weaver\nRobert Henry\, Partner-in-Charge\, Business Tax Services – Weaver\nAlyssa Martin\, National Strategy Leader\, Large Market and Public Entities – Weaver
URL:https://www.austintechnologycouncil.org/event/building-a-public-company-infrastructure-governance-legal-regulatory-requirements-2/
LOCATION:Online
CATEGORIES:Community Event
ATTACH;FMTTYPE=image/jpeg:https://www.austintechnologycouncil.org/wp-content/uploads/2021/04/Going-Public_Pt-4-scaled.jpg
END:VEVENT
BEGIN:VEVENT
DTSTART;TZID=America/Chicago:20210518T100000
DTEND;TZID=America/Chicago:20210518T103000
DTSTAMP:20260420T105723
CREATED:20210513T141911Z
LAST-MODIFIED:20210514T155947Z
UID:10001939-1621332000-1621333800@www.austintechnologycouncil.org
SUMMARY:From Telemedicine to O365\, Protecting Healthcare Mobile Initiatives (Zimperium/VMware)
DESCRIPTION:May 18\, 2021 (Tuesday)\n11:00am EDT / 4:00pm GTM+1\n30 Minutes \nFor years\, healthcare organizations have been using mobile devices to enable productivity and improve patient care. With the pandemic\, mobile devices have become even more critical for everything from telemedicine to providing distributed access to Microsoft O365. \nBut the shift to mobile has also created security and compliance risks that need to be addressed. \nPlease join experts from VMware and Zimperium as they outline: \n\nThe top threats that can undermine health care initiatives on mobile devices;\nHow to prevent attacks on both corporate and personal (BYO) devices; and\nHow to ensure that 100% of your endpoints meet HIPAA compliance requirements.\n\nMeet our Speakers: \nChris Logan- Executive Healthcare Advisor – Global Industries Group | VMware \nJT Keating– SVP of Product Strategy | Zimperium \nLocal Zimperium Account Executive- christina.angelone@zimperium.com
URL:https://www.austintechnologycouncil.org/event/from-telemedicine-to-o365-protecting-healthcare-mobile-initiatives-zimperium-vmware/
LOCATION:Online
CATEGORIES:Community Event
ATTACH;FMTTYPE=image/jpeg:https://www.austintechnologycouncil.org/wp-content/uploads/2021/05/From-Telemedicine-webinar.jpeg
END:VEVENT
BEGIN:VEVENT
DTSTART;TZID=America/Chicago:20210518T140000
DTEND;TZID=America/Chicago:20210518T153000
DTSTAMP:20260420T105723
CREATED:20210419T154857Z
LAST-MODIFIED:20210419T154857Z
UID:10001930-1621346400-1621351800@www.austintechnologycouncil.org
SUMMARY:Going Public: What I Wish I Had Known! Anomalies\, Surprises and Lessons Learned from the Inside
DESCRIPTION:The journey to going public is unique for every organization; often times including one-off situations and “other considerations” specific to your company. If you are considering taking your company public\, this is an opportunity to gain first-hand insights and lessons learned from others who have successfully made the journey. \nOur session will highlight the unplanned anomalies that can arise when going public\, from differences in independence rules to how best to coordinate with your growing team. Featuring a panel discussion with board members and C-Suite executives who have recently completed their journey to going public\, panelists will share their personal perspectives and highlight what they wish they had known in advance. \nAttendees will walk away with a better understanding of the following: \n\nBiggest surprises faced when taking a company public\nBest practices for building an internal infrastructure and choosing outside vendors\nHow to prioritize your efforts when deciding to go public\n\nSpeakers: \nPhil Ilgenstein\, Partner\, Public Company Practice Leader – Weaver\nPatrick Brown\, Partner\, Assurance Quality and Risk Management – Weaver\nZeeshan Khan\, Partner\, SPAC Practice Leader – Weaver\nKevin Riley\, President – Riley Exploration Permian\, Inc. (REPX)
URL:https://www.austintechnologycouncil.org/event/going-public-what-i-wish-i-had-known-anomalies-surprises-and-lessons-learned-from-the-inside/
LOCATION:Online
CATEGORIES:Community Event
ATTACH;FMTTYPE=image/jpeg:https://www.austintechnologycouncil.org/wp-content/uploads/2021/04/Going-Public_Pt-5-scaled.jpg
END:VEVENT
BEGIN:VEVENT
DTSTART;TZID=America/Chicago:20210518T180000
DTEND;TZID=America/Chicago:20210518T200000
DTSTAMP:20260420T105723
CREATED:20210419T153943Z
LAST-MODIFIED:20210419T153943Z
UID:10001928-1621360800-1621368000@www.austintechnologycouncil.org
SUMMARY:The Power and Potential of Immersive Experiences
DESCRIPTION:Technologies for creating immersive experiences have been around for a while\, but recently have exploded in popularity\, and not just due to the pandemic! Processing performance\, rendering and ray tracing techniques\, AI algorithms\, display resolutions and color accuracy\, AR and VR capabilities\, memory and storage speeds—all of the relevant technologies have recently reached levels that enable both more physical and visual realism in real-time\, dynamic\, multi-person environments. Gaming and entertainment provide a constant driver for integrating and advancing the capabilities of these technologies\, and now remote work and learning have also become a huge driving force. We are witnessing a revolution in the power of immersive experiences—and yet we’re only scratching the surface of the potential for bringing people together and entertaining\, teaching\, and more.\n​\nIn this talk with Amber Allen\, CEO & Founder of Austin-based Double A Labs\, and Russell Arons\, Chief Commercial Officer and formally GM of the digital network Machinima\, you will hear about the revolution that is happening in virtual worlds and how these are being applied to fan-based experiences\, sales enablement\, training and education and more. Come understand how video game platforms\, augmented reality\, 3D modeling\, AI\, and the metaverse are being brought together to change the way we watch\, play\, shop\, and relate in the very near future. During the talk\, we will be giving a tour through a live virtual world and inviting a select group to join us in a digital collaboration hub.
URL:https://www.austintechnologycouncil.org/event/the-power-and-potential-of-immersive-experiences/
LOCATION:Online
CATEGORIES:Community Event
ATTACH;FMTTYPE=image/png:https://www.austintechnologycouncil.org/wp-content/uploads/2021/04/Power-and-Potential-of-immersive-experiences.png
END:VEVENT
BEGIN:VEVENT
DTSTART;TZID=America/Chicago:20210521T080000
DTEND;TZID=America/Chicago:20210521T160000
DTSTAMP:20260420T105723
CREATED:20210513T133553Z
LAST-MODIFIED:20210513T134649Z
UID:10001935-1621584000-1621612800@www.austintechnologycouncil.org
SUMMARY:Technology-Enabled Disruption: Implications for Business\, Labor Markets and Monetary Policy
DESCRIPTION:This conference is designed to provide a better understanding of the phenomenon of technology-enabled disruption and explore its implications for the broader economy—in particular\, labor markets and the workforce. \nTechnology-enabled disruption means that workers are increasingly being replaced by technology. It also means that existing business models are being supplanted by new models\, often technology-enabled\, that bring more efficiency to the sale or distribution of goods and services. As part of this phenomenon\, consumers are increasingly able to use technology to shop for goods and services at lower prices with greater convenience—which has the impact of reducing the pricing power of businesses. This reduced pricing power\, in turn\, causes businesses to further intensify their focus on creating greater operational efficiencies. These trends appear to be accelerating. \nIt is likely that disruption is becoming a greater factor in the economic outcomes of workers. Increasingly\, workers with lower levels of educational attainment are seeing their jobs restructured or eliminated. Unless they have sufficient math and literacy skills\, or are retrained\, these workers may see their productivity and incomes decline as a result of disruption. Thus\, disruption may help explain the muted wage gains and overall labor productivity growth we have seen in the U.S. as well as in other advanced economies during much of the recovery from the global financial crisis. \nTechnology-enabled disruption’s impact on the workforce is likely not susceptible to monetary policy—it requires structural reforms. The reforms could include improving early-childhood literacy and overall college readiness in order to increase the percentage of students who graduate from college in six years or less (a share now estimated at 59 percent in the U.S.). The reforms could also include stepped-up efforts to increase middle-skills training in cities across the U.S. in order to increase employment\, close the skills gap (not enough workers to fill skilled jobs) and raise worker productivity. \nIt is also likely that disruption is a factor behind some business decisions made by companies that are facing one or more disruptive competitors. These companies may be more cautious about making capacity-expansion decisions and investing in major capital projects. \nTo deal with disruptive changes and lack of pricing power\, many companies are seeking greater economies of scale in order to maintain or improve profit margins. This may help explain the record merger-and-acquisition activity globally over the past few years.
URL:https://www.austintechnologycouncil.org/event/technology-enabled-disruption-implications-for-business-labor-markets-and-monetary-policy/
LOCATION:Online
CATEGORIES:Community Event
ATTACH;FMTTYPE=image/png:https://www.austintechnologycouncil.org/wp-content/uploads/2021/05/Screen-Shot-2021-05-13-at-8.35.26-AM.png
END:VEVENT
BEGIN:VEVENT
DTSTART;TZID=America/Chicago:20210524T180000
DTEND;TZID=America/Chicago:20210524T190000
DTSTAMP:20260420T105723
CREATED:20210430T151643Z
LAST-MODIFIED:20210430T151643Z
UID:10001936-1621879200-1621882800@www.austintechnologycouncil.org
SUMMARY:Executive MBA class visit - Managing Value Creation
DESCRIPTION:Interested in starting your own business\, but not sure where to start? Join Baylor in Austin’s Executive MBA class on Managing Value Creation\, where students conceive a business idea and build a business plan from start to finish.
URL:https://www.austintechnologycouncil.org/event/executive-mba-class-visit-managing-value-creation/
LOCATION:Baylor EMBA Austin campus\, 3107 Oak Creek Dr Ste 240\, Austin\, TX\, 78727\, United States
CATEGORIES:Community Event
ATTACH;FMTTYPE=image/jpeg:https://www.austintechnologycouncil.org/wp-content/uploads/2021/04/Austin-group.jpg
GEO:30.4257288;-97.7042864
X-APPLE-STRUCTURED-LOCATION;VALUE=URI;X-ADDRESS=Baylor EMBA Austin campus 3107 Oak Creek Dr Ste 240 Austin TX 78727 United States;X-APPLE-RADIUS=500;X-TITLE=3107 Oak Creek Dr Ste 240:geo:-97.7042864,30.4257288
END:VEVENT
BEGIN:VEVENT
DTSTART;TZID=America/Chicago:20210525T173000
DTEND;TZID=America/Chicago:20210525T193000
DTSTAMP:20260420T105723
CREATED:20210517T135532Z
LAST-MODIFIED:20210517T135532Z
UID:10001602-1621963800-1621971000@www.austintechnologycouncil.org
SUMMARY:Women Who Code Tech Talk: Data Science
DESCRIPTION:May’s Women Who Code tech talk is brought to you by Experis \nSpeaker\nLaura Oliver is a Delivery Specialist as Experis Solutions. She is a SAS developer\, administrator and trainer. She has supported multiple clients on both a project and daily support basis. The industries she has supported over her career range from a Nuclear Power Plant to the Department of Health and Human Resources to an Armored Military Vehicle Manufacturer. Her most interesting client dealt with insurance fraud committed by doctors. In her spare time\, she enjoys teaching\, coaching and spending time with her grandchildren. Laura’s Bachelor and Master degrees in Mathematics are from Emporia State University in Emporia\, Kansas. Her talk will cover the Data Science Process. It will also include any skills needed and what’s next. \nExperis Solutions provides IT and business services to accelerate business transformation. We focus on delivering value while mitigating risk for projects of all levels of complexity. Experis Solutions offers a breadth and depth of knowledge in Digital Transformation\, Data Science\, Agile Transformation\, DevSecOps\, Testing and Continuous Quality\, Software Engineering\, Infrastructure Modernization\, Cyber Security\, Technical Services\, and Integrated Workforce Solutions.
URL:https://www.austintechnologycouncil.org/event/women-who-code-tech-talk-data-science/
LOCATION:Online
CATEGORIES:Community Event
ATTACH;FMTTYPE=image/jpeg:https://www.austintechnologycouncil.org/wp-content/uploads/2021/05/data-science-image.jpg
END:VEVENT
BEGIN:VEVENT
DTSTART;TZID=America/Chicago:20210526T100000
DTEND;TZID=America/Chicago:20210526T103000
DTSTAMP:20260420T105723
CREATED:20210513T141556Z
LAST-MODIFIED:20210514T160013Z
UID:10001938-1622023200-1622025000@www.austintechnologycouncil.org
SUMMARY:#1 Way to Reduce Mobile Fraud (That You Have Never Heard About) ZIMPERIUM
DESCRIPTION:May 26\, 2021 (Wednesday)\n11:00am EDT / 4:00pm GMT+1\n30 Minutes \nTraditional approaches for fraud prevention rely heavily on user\, account\, and transaction data. But for transactions that originate from a mobile app\, very little is known about the health of the mobile device. This is the most important cause of mobile fraud… one that is a growing problem considering that a significant amount of mobile fraud occurs on the device via malware\, bots\, and emulators. \nThe only way to combat these sophisticated mobile fraud techniques is to embrace a “trust-based” approach by leveraging real-time device risk assessments and comprehensive run-time protection. \nJoin our mobile security experts for a webinar where we will discuss: \n\nThe fraud risks related to mobile app transactions\nThe framework for a “trust-based” approach to mobile app fraud prevention\nHow to integrate real-time device risk assessments and run-time protection into your fraud prevention workflows\n\nMeet our Speakers: \nMichiel Kemperman\, VP of Sales Engineering\, EMEA | Zimperium \nKrishna Vishnubhotla\, SVP of Product Strategy | Zimperium \nLocal Account Executive- christina.angelone@zimperium.com
URL:https://www.austintechnologycouncil.org/event/1-way-to-reduce-mobile-fraud-that-you-have-never-heard-about-zimperium/
LOCATION:Online
CATEGORIES:Community Event
ATTACH;FMTTYPE=image/jpeg:https://www.austintechnologycouncil.org/wp-content/uploads/2021/05/mobile-fraud-webinar.jpeg
END:VEVENT
END:VCALENDAR