BEGIN:VCALENDAR
VERSION:2.0
PRODID:-//Austin Technology Council - ECPv6.11.0.1//NONSGML v1.0//EN
CALSCALE:GREGORIAN
METHOD:PUBLISH
X-WR-CALNAME:Austin Technology Council
X-ORIGINAL-URL:https://www.austintechnologycouncil.org
X-WR-CALDESC:Events for Austin Technology Council
REFRESH-INTERVAL;VALUE=DURATION:PT1H
X-Robots-Tag:noindex
X-PUBLISHED-TTL:PT1H
BEGIN:VTIMEZONE
TZID:America/Chicago
BEGIN:DAYLIGHT
TZOFFSETFROM:-0600
TZOFFSETTO:-0500
TZNAME:CDT
DTSTART:20210314T080000
END:DAYLIGHT
BEGIN:STANDARD
TZOFFSETFROM:-0500
TZOFFSETTO:-0600
TZNAME:CST
DTSTART:20211107T070000
END:STANDARD
END:VTIMEZONE
BEGIN:VEVENT
DTSTART;TZID=America/Chicago:20210301T000000
DTEND;TZID=America/Chicago:20210406T000000
DTSTAMP:20260420T055716
CREATED:20210224T180955Z
LAST-MODIFIED:20210224T180955Z
UID:10001906-1614556800-1617667200@www.austintechnologycouncil.org
SUMMARY:“Spring Into Action” Virtual Employee Team Building … While Burning a Few Calories
DESCRIPTION:Build Your Company’s Culture Through an Employee Activity Challenge that Works! Let’s see which ATC’s members will be among the top 20 organizations on the event’s global leaderboard! \n“Spring Into Action” is a March employee virtual activity challenge that connects your employees globally or across the street\, in a fun safe way. \nIn a time when millions are staying at home to stop the spread of COVID-19\, HealthCode is now providing monthly virtual activity challenges; helping motivate people to stay active and remain safely socially connected. \nNo penalties for late starts. People can register at any time during March and enter all activity accomplished as of the 1st. \nSign up your organization. \nThere are no fees for individuals or organizations. HealthCode’s SaaS platform and communication materials make implementation a snap. Plus\, your organization will have its own private leaderboard. \nParticipants register\, select their organization\, set their personal activity goal\, and log miles or minutes on the HealthCode online activity tracker\, or sync up with a tracker. “Spring Into Action” is from the Austin-based nonprofit HealthCode\, whose mission is to empower people to live healthier happier lives free from preventable diseases. \nCheck out the blog post from April’s event with Mayor Adler’s quote. \nFor any questions contact: Steve@HealthCode.org
URL:https://www.austintechnologycouncil.org/event/spring-into-action-virtual-employee-team-building-while-burning-a-few-calories/
LOCATION:Online\, United States
CATEGORIES:Community Event
ATTACH;FMTTYPE=image/jpeg:https://www.austintechnologycouncil.org/wp-content/uploads/2021/02/HALF-BANNER-Mar_Apr-728x90-01-1-scaled.jpg
END:VEVENT
BEGIN:VEVENT
DTSTART;TZID=America/Chicago:20210401T010000
DTEND;TZID=America/Chicago:20210501T000000
DTSTAMP:20260420T055716
CREATED:20210323T202531Z
LAST-MODIFIED:20210323T202531Z
UID:10001915-1617238800-1619827200@www.austintechnologycouncil.org
SUMMARY:April’s “Million Mile Month” Global Virtual Employee Team Building … While Burning a Few Calories
DESCRIPTION:Build Your Company’s Culture Through an Employee Activity Challenge that Works! \nApril’s“Million Mile Month” is a proven virtual global activity challenge to accomplish one million miles of activity; walk\, run\, swim\, bike\, even yoga to Zomba. \nSimple to implement\, the Million Mile Month delivers a fun\, safe\, and engaging way to connect and recognize your employees and families\, around the globe. Working from home or back in the office. \nSign up your organization. \nLet’s see which ATC’s members will be among the top 20 organizations on the event’s global leaderboard! https://events.healthcode.org/leaderboards/46 \nThere are no fees for individuals or organizations. HealthCode’s SaaS platform and communication materials make implementation a snap. Plus\, your organization will have its own private leaderboard. \nParticipants register\, select their organization\, set their personal activity goal\, and log miles or minutes on the HealthCode online activity tracker\, or sync up with a tracker. \nNo penalties for late starts. People can register at any time during April and enter all activity accomplished as of the 1st. \n“Million Mile Month” is from the Austin-based nonprofit HealthCode\, whose mission is to empower people to live healthier happier lives free from preventable diseases. \nIn a time when millions are staying at home to stop the spread of COVID-19\, HealthCode is now providing monthly virtual activity challenges; helping motivate people to stay active and remain safely socially connected. \nCheck out the blog post from April’s event with Mayor Adler’s quote. \nFor any questions contact: Steve@HealthCode.org
URL:https://www.austintechnologycouncil.org/event/aprils-million-mile-month-global-virtual-employee-team-building-while-burning-a-few-calories/
LOCATION:Online
CATEGORIES:Community Event
ATTACH;FMTTYPE=image/jpeg:https://www.austintechnologycouncil.org/wp-content/uploads/2021/03/HALF-BANNER-Mar_Apr-728x90-01-scaled.jpg
END:VEVENT
BEGIN:VEVENT
DTSTART;TZID=America/Chicago:20210406T180000
DTEND;TZID=America/Chicago:20210406T200000
DTSTAMP:20260420T055716
CREATED:20210318T164610Z
LAST-MODIFIED:20210318T164610Z
UID:10001911-1617732000-1617739200@www.austintechnologycouncil.org
SUMMARY:"AI 101" - What It Is\, How It Works\, and Why It's So Important
DESCRIPTION:Artificial intelligence (AI) is one the most hyped technologies of our time–with very good reason. Machine learning approaches\, including deep learning\, enable us to train models that can inference–classify\, judge\, predict\, decide–better\, faster\, and/or cheaper than humans for an increasing number of increasingly complex tasks. Technology visionaries and leaders are proclaiming AI to be the most revolutionary capability of our time\, and that AI will change every industry\, every aspects of our lives\, everything. In this first presentation of our “AI April\,” we’ll explain what AI\, machine learning\, and deep learning\, are and how they work. We’ll focus on understanding how this is truly different\, and provide information on how to learn more–fast. \n​We welcome your participation! Please email us with your questions\, answers and prognostications in advance. \nAdmission to the Austin Forum is always free.\n​\nThe Austin Forum accepts donations of used smart phones and tablets at all our events. All devices will have a factory reset and be set up as new by the team at Austin Pathways’ nationally-recognized “Unlocking the Connection” initiative\, which will connect every public housing resident with a digital device\, digital literacy\, and a free or very low-cost internet connection. Your donated phone can change lives and help close Austin’s digital divide\, thanks to Austin Pathways.
URL:https://www.austintechnologycouncil.org/event/ai-101-what-it-is-how-it-works-and-why-its-so-important/
CATEGORIES:Community Event
ATTACH;FMTTYPE=image/jpeg:https://www.austintechnologycouncil.org/wp-content/uploads/2021/03/ai-image_orig.jpeg
LOCATION:https://www.austintechnologycouncil.org/event/ai-101-what-it-is-how-it-works-and-why-its-so-important/
END:VEVENT
BEGIN:VEVENT
DTSTART;TZID=America/Chicago:20210408T120000
DTEND;TZID=America/Chicago:20210408T130000
DTSTAMP:20260420T055716
CREATED:20210323T202350Z
LAST-MODIFIED:20210323T202350Z
UID:10001914-1617883200-1617886800@www.austintechnologycouncil.org
SUMMARY:Zimperium- Learn How to Defend Your Mobile Devices from O365 Attacks (Vertosoft)
DESCRIPTION:Learn How to Defend Your Mobile Devices from O365 Attacks\nThursday\, April 8\, 2021 12:00:00 PM CDT – 1:00:00 PM CDT \nMicrosoft Office 365 has been the primary enterprise productivity suite for years\, starting on traditional endpoints and moving to mobile devices.\nThen came the pandemic-driven tectonic shift to remote working. Making the Office suite – from Outlook to Teams – a requirement for mobile devices. But it also created risks that may not be immediately obvious. \nRegister to watch our live webinar\, in which our experts outline: \n* The top four threats that can undermine your O365 implementation on mobile devices;\n* How to prevent attacks on corporate devices; and\n* How to respond to attacks on personal (BYO) devices without impacting privacy. \nOur Speakers:\nJT Keating\, SVP of Product Strategy | Zimperium \nKern Smith\, VP of Solution Engineering | Zimperium
URL:https://www.austintechnologycouncil.org/event/zimperium-learn-how-to-defend-your-mobile-devices-from-o365-attacks-vertosoft/
LOCATION:Online
CATEGORIES:Community Event
ATTACH;FMTTYPE=image/png:https://www.austintechnologycouncil.org/wp-content/uploads/2021/03/0365-vertosoft.png
END:VEVENT
BEGIN:VEVENT
DTSTART;TZID=America/Chicago:20210409T100000
DTEND;TZID=America/Chicago:20210409T110000
DTSTAMP:20260420T055716
CREATED:20210408T163642Z
LAST-MODIFIED:20210408T163709Z
UID:10001919-1617962400-1617966000@www.austintechnologycouncil.org
SUMMARY:Rates\, Inflation\, and Stocks featuring Jeremy Siegel
DESCRIPTION:An exclusive virtual event titled “Rates\, Inflation and Stocks featuring The Wharton School’s Jeremy Siegel \nJoin Venturi and special guest\, Jeremy Siegel\, at 10:00 AM CST on Friday\, April 9th to discuss: \n\n Takeaways from recent conversations with Fed President Bullard\n What happens when stimulus ends?\n Are rising interest rates imminent?\n\nYour attendance will be anonymous and questions can be submitted via the chat feature. Please fill out the form and we will send you a link to the Virtual Event. Please be sure to check your promotions/spam folder if you do not see the email in your inbox.
URL:https://www.austintechnologycouncil.org/event/ratesinflation-and-stocks-featuring-jeremy-siegel/
LOCATION:Online
CATEGORIES:Community Event
ATTACH;FMTTYPE=image/jpeg:https://www.austintechnologycouncil.org/wp-content/uploads/2021/04/jeremy.jpg
END:VEVENT
BEGIN:VEVENT
DTSTART;TZID=America/Chicago:20210413T180000
DTEND;TZID=America/Chicago:20210413T200000
DTSTAMP:20260420T055716
CREATED:20210318T164841Z
LAST-MODIFIED:20210318T164841Z
UID:10001912-1618336800-1618344000@www.austintechnologycouncil.org
SUMMARY:AI Applications & Impact: How Everything Will Change
DESCRIPTION:AI is transforming our daily lives\, in ways both visible and transparent\, and also may of our businesses and industries\, research\, even entertainment… and the rate of change is growing. This presentation–part 2 of our “AI April”–will share many current\, diverse examples of AI’s impact in business and society\, and will close with how we can expect things to continue advancing and accelerating. We’re at the beginning of a transformation\, a revolution–and soon\, we’ll be surrounded with intelligent systems\, autonomous devices\, smart infrastructure\, and more. This is inevitable\, not fantasy–and we’ll help you and your company/organization embrace and leverage this revolution.
URL:https://www.austintechnologycouncil.org/event/ai-applications-impact-how-everything-will-change/
CATEGORIES:Community Event
ATTACH;FMTTYPE=image/jpeg:https://www.austintechnologycouncil.org/wp-content/uploads/2021/03/ai-image_orig.jpeg
LOCATION:https://www.austintechnologycouncil.org/event/ai-applications-impact-how-everything-will-change/
END:VEVENT
BEGIN:VEVENT
DTSTART;TZID=America/Chicago:20210414T080000
DTEND;TZID=America/Chicago:20210414T170000
DTSTAMP:20260420T055716
CREATED:20210408T164615Z
LAST-MODIFIED:20210408T164615Z
UID:10001920-1618387200-1618419600@www.austintechnologycouncil.org
SUMMARY:RWS Connect 2021
DESCRIPTION:Digital leadership this year will demand more from global brands. Now is the time to transform — to connect with audiences at any scale\, no matter what the language\, channel or touchpoint. \nAt Connect\, our one-day virtual event\, you’ll discover the latest trends in digital content and how some of the largest global organizations are responding. Join us to uncover the next-generation solutions that will help your business thrive in these difficult times. \nIf you create\, translate or deliver content\, then this event is for you. \nhttps://connect.rws.com/register-for-connect-2021
URL:https://www.austintechnologycouncil.org/event/rws-connect-2021/
LOCATION:Online
CATEGORIES:Community Event
ATTACH;FMTTYPE=image/jpeg:https://www.austintechnologycouncil.org/wp-content/uploads/2020/08/RWS-Moravia-Logo-RGB-HERO.jpg
END:VEVENT
BEGIN:VEVENT
DTSTART;TZID=America/Chicago:20210414T090000
DTEND;TZID=America/Chicago:20210414T110000
DTSTAMP:20260420T055716
CREATED:20210319T154528Z
LAST-MODIFIED:20210319T193837Z
UID:10001913-1618390800-1618398000@www.austintechnologycouncil.org
SUMMARY:Emerging Leader Program
DESCRIPTION:EWF’s 12 month Emerging Leaders Program is designed for early- and mid-career women ready to supercharge their careers and deliver better results for their companies. It is designed to help companies build their pipeline of women leaders ready to take on additional leadership roles. Packed with battle-tested tools\, strategies\, and insights to help participants figure out what they want and develop the skills they need to get there\, it’s practical\, immediately useful\, and proven to help women advance\, deliver results\, and find greater professional fulfillment. A dynamic combination of lecture\, discussion\, assessments\, and workshops\, the program goes beyond traditional management training to include strategies to overcome challenges and leverage strengths for women in business. Classes meet virtually on the 2nd Tuesday of each month from 9 to 11 CST from April 2021 through March 2022. \nRegistration is required for the program at the website link below.
URL:https://www.austintechnologycouncil.org/event/emerging-leader-program-2/
LOCATION:Online
CATEGORIES:Community Event
ATTACH;FMTTYPE=image/jpeg:https://www.austintechnologycouncil.org/wp-content/uploads/2021/03/BoldEntity-22-300x200-1.jpeg
END:VEVENT
BEGIN:VEVENT
DTSTART;TZID=America/Chicago:20210416T090000
DTEND;TZID=America/Chicago:20210416T100000
DTSTAMP:20260420T055716
CREATED:20210415T191440Z
LAST-MODIFIED:20210415T192858Z
UID:10001922-1618563600-1618567200@www.austintechnologycouncil.org
SUMMARY:Doing Business Overseas
DESCRIPTION:The UK’s Department for International Trade (DIT) will be hosting a series of fireside chats. Learn from successful entrepreneurs who have successfully\nexpanded their business to the UK and the US. Find out what worked well as they share their lessons and tips on how to make global expansion work for your business. The Fireside chat series is live and interactive; attendees will have the opportunity to ask questions. The series will be recorded as a podcast if you can’t attend each session. \nConsul General Richard Hyde will talk with Paul Kallee-Grover\, Group Planning Director for the Leith Group. He is a chartered city planner and economist who advises clients on all aspects of commercial development and real estate. Paul is also the CFO & VP of Investor Relations at the Barcelona based CREA IDEA LAB where he provides expertise in Smart Building & Urban Development globally for smart cities. Paul is a regular speaker on inward investment and exporting goods and services and has been an Export Champion for the UK government since 2013. In 2018 he was awarded an inaugural Board of Trade Award in recognition of his role in international trade with a specific focus on his work in North America and Asia. In 2019 Paul was invited to become an Export Champion for the Northern Powerhouse. Paul is also an expert in Foreign Direct Investment from overseas\nmarkets into British businesses and UK real estate. \nThe Leith Group is a fast moving and dynamic company\, built on a strong foundation of family values and providing exceptional client care. Leith Group provide a range of professional services across the UK\, to both national and international clients with a vision to become the most trusted and respected brand in the development industry.
URL:https://www.austintechnologycouncil.org/event/doing-business-overseas-2/
LOCATION:Online
CATEGORIES:Community Event
ATTACH;FMTTYPE=image/png:https://www.austintechnologycouncil.org/wp-content/uploads/2021/04/Screen-Shot-2021-04-15-at-2.14.01-PM.png
END:VEVENT
BEGIN:VEVENT
DTSTART;TZID=America/Chicago:20210419T100000
DTEND;TZID=America/Chicago:20210419T110000
DTSTAMP:20260420T055716
CREATED:20210407T133619Z
LAST-MODIFIED:20210407T133619Z
UID:10001918-1618826400-1618830000@www.austintechnologycouncil.org
SUMMARY:Leverage Artificial Intelligence and Machine Learning through Power BI
DESCRIPTION:Empower business users to leverage AI features and infuse them for business insights.\nYou will learn: \n\nHow Power BI is enabling business users to leverage AI without being a data scientist\nHow a data scientists can collaborate with end-users and deliver AI inside Power BI\nVarious options to use AI in Power BI\nDemocratize AI for the organization
URL:https://www.austintechnologycouncil.org/event/leverage-artificial-intelligence-and-machine-learning-through-power-bi/
LOCATION:Online
CATEGORIES:Community Event
ATTACH;FMTTYPE=image/png:https://www.austintechnologycouncil.org/wp-content/uploads/2021/04/Power-BI-Webinar.png
END:VEVENT
BEGIN:VEVENT
DTSTART;TZID=America/Chicago:20210420T090000
DTEND;TZID=America/Chicago:20210420T100000
DTSTAMP:20260420T055716
CREATED:20210415T154448Z
LAST-MODIFIED:20210415T154448Z
UID:10001921-1618909200-1618912800@www.austintechnologycouncil.org
SUMMARY:Going Global: International Spotlight Session - AUSTIN
DESCRIPTION:Manchester-Austin: International Spotlight Session. \nAbout this Event\nAs part of Digital Cities Festival\, we will be shining a light on major tech cities around the world\, exploring their links with Manchester and hearing from both sides about the current trends\, opportunities and incentives to consider when looking at expanding into the market. \nAgenda\n2 mins Introduction to Going Global international spotlight session by The Growth Company\n7 mins Overview of Manchester economy and tech ecosystem by MIDAS\, Manchester’s inward investment agency\n7 mins Overview of Austin economy and tech ecosystem by the Austin Chamber of Commerce\n20 mins Panel discussion looking at the strengths and opportunities between the two cities with the relevant inward investment agency and success stories from a business who has respectively expanded in those cities\n5 mins + Q&A \nWhy attend?\nYou will get to hear from both cities’ experts and directly from businesses who have successfully expanded in those two markets. You will benefit from getting direct insights on potential opportunities and how best to approach these new markets as you’re looking to expand internationally. \nPanellists\nJeff Bowcock\, International Trade Development Manager\, The Growth Company (Host)\nHannah Tracey\, Head of Business Development – Creative Digital & Tech\, MIDAS\nLeigh Christie\, Senior Vice President – Global Technology and Innovation\, Austin Chamber of Commerce\nAmber Gunst\, CEO\, Austin Technology Council\nLara Purser\, Vice Consul and Trade and Investment Officer for Tech/Creative Media Sectors\, Department for International Trade\nAlice Smith\, Principal Lead Consultant\, Oscar Technology
URL:https://www.austintechnologycouncil.org/event/going-global-international-spotlight-session-austin/
LOCATION:Online
CATEGORIES:Community Event,Featured Event
ATTACH;FMTTYPE=image/jpeg:https://www.austintechnologycouncil.org/wp-content/uploads/2021/04/Social-card-Austin-1-scaled.jpg
END:VEVENT
BEGIN:VEVENT
DTSTART;TZID=America/Chicago:20210420T170000
DTEND;TZID=America/Chicago:20210420T183000
DTSTAMP:20260420T055716
CREATED:20210416T001933Z
LAST-MODIFIED:20210416T005513Z
UID:10001925-1618938000-1618943400@www.austintechnologycouncil.org
SUMMARY:Taco Tuesday with nonPareil
DESCRIPTION:DE&I and DISABILITIES:\nWhile Diversity and Inclusion has been top of mind lately\, most people forget that it also includes adults with disabilities\, who can contribute to the work force but face barriers to find employment. \nPlease join me at the upcoming event on April 20th 5pm to 6:30 pm CT (in person or virtually) to learn more about the nonPareil Institute and how including neurodiversity in your human resource assets allows you to harness the full power of inclusion.
URL:https://www.austintechnologycouncil.org/event/taco-tuesday-with-nonpareil/
LOCATION:Online
CATEGORIES:Community Event
ATTACH;FMTTYPE=image/jpeg:https://www.austintechnologycouncil.org/wp-content/uploads/2021/04/1618263980185.jpeg
END:VEVENT
BEGIN:VEVENT
DTSTART;TZID=America/Chicago:20210421T100000
DTEND;TZID=America/Chicago:20210421T103000
DTSTAMP:20260420T055716
CREATED:20210406T012204Z
LAST-MODIFIED:20210406T012204Z
UID:10001917-1618999200-1619001000@www.austintechnologycouncil.org
SUMMARY:Malicious Apps are Attacking Your Mobile App. Here's How to Fight Back & Win! (Zimperium)
DESCRIPTION:Register for our Upcoming Webinar\nApril 21\, 2021 (Wednesday)\n11:00am EDT / 4:00pm BST\n30 Minutes \nMobile is now the most important digital channel for your business. Yet everyday we hear of another app breach that exposed PII\, enabled fraud or put the enterprise system at risk. The main culprit is mobile malware. \nAnubis\, Cerberus\, Blackrock\, Eventbot and the list goes on and on. The result\, fraud\, data theft\, reputation damage or financial losses. Whether it’s by abusing permissions\, impersonating brands or exploiting vulnerabilities\, malware is winning. And each new variant is more sophisticated and evasive. \nIf you need to protect your mobile apps against malware\, please join our experts to learn about: \n\nThe top 3 ways malware compromises mobile apps\nWhy these techniques are successful\nHow your apps can defend themselves\n\nMeet our Speakers: \nAazim Yaswant- Malware Researcher | Zimperium\nKrishna Vishnubhotla- VP of Product Strategy | Zimperium \nLocal Zimperium Account Executive- Christina.angelone@zimperium.com
URL:https://www.austintechnologycouncil.org/event/malicious-apps-are-attacking-your-mobile-app-heres-how-to-fight-back-win-zimperium/
LOCATION:Online
CATEGORIES:Community Event
ATTACH;FMTTYPE=image/jpeg:https://www.austintechnologycouncil.org/wp-content/uploads/2021/04/mobile-app.jpeg
END:VEVENT
BEGIN:VEVENT
DTSTART;TZID=America/Chicago:20210422T140000
DTEND;TZID=America/Chicago:20210422T160000
DTSTAMP:20260420T055716
CREATED:20210415T221056Z
LAST-MODIFIED:20210415T221056Z
UID:10001923-1619100000-1619107200@www.austintechnologycouncil.org
SUMMARY:Preparing to Go Public? Planning for the Journey Ahead
DESCRIPTION:Planning for the Journey Ahead Virtual Event Series \nJoin Weaver for an informative event series\, Planning for the Journey Ahead\, in which we focus on the key elements of taking high-growth companies public. Each week\, our presenters and guest speakers will walk through the strategic considerations and steps required for going public while identifying opportunities and pitfalls to consider at every stage. \nWhether a company is preparing to go public\, or a newly-public company\, it is imperative to have the right operational foundations in place. Join us for these informative discussions among professionals and industry leaders who can help you understand what to expect and walk you through the process to building a publicly fit infrastructure.
URL:https://www.austintechnologycouncil.org/event/preparing-to-go-public-planning-for-the-journey-ahead/
LOCATION:Online
CATEGORIES:Community Event
ATTACH;FMTTYPE=image/jpeg:https://www.austintechnologycouncil.org/wp-content/uploads/2021/04/Going-Public_Main-scaled.jpg
END:VEVENT
BEGIN:VEVENT
DTSTART;TZID=America/Chicago:20210427T140000
DTEND;TZID=America/Chicago:20210427T153000
DTSTAMP:20260420T055716
CREATED:20210419T153717Z
LAST-MODIFIED:20210419T153717Z
UID:10001927-1619532000-1619537400@www.austintechnologycouncil.org
SUMMARY:Building a Public Company Infrastructure: The Foundation
DESCRIPTION:From building the right team to developing processes and controls\, establishing a strong public company infrastructure begins with strategic planning and an understanding of the basics. Our presenters will look at the building blocks to establish a public company foundation\, including accounting\, audit\, governance\, and legal and regulatory compliance. We will dive deep into the processes and controls needed for going public\, including SOX readiness\, and uncover critical requirements related to IT systems and security. \nAttendees will walk away with a better understanding of the following: \n\nOrganizational functions and structures needed to go public\nProcesses and controls necessary to prepare quality financial statements\nCritical IT systems and security components to being publicly fit\n\nSpeakers:\nAlyssa Martin\, National Strategy Leader\, Large Market and Public Entities – Weaver\nGreg Englert\, Partner\, ESG Practice Leader – Weaver\nBrett Nabors\, Partner\, IT Advisory Services – Weaver
URL:https://www.austintechnologycouncil.org/event/building-a-public-company-infrastructure-the-foundation/
LOCATION:Online
CATEGORIES:Community Event
ATTACH;FMTTYPE=image/jpeg:https://www.austintechnologycouncil.org/wp-content/uploads/2021/04/Going-Public_Pt-2-scaled.jpg
END:VEVENT
BEGIN:VEVENT
DTSTART;TZID=America/Chicago:20210429T100000
DTEND;TZID=America/Chicago:20210429T103000
DTSTAMP:20260420T055716
CREATED:20210415T221240Z
LAST-MODIFIED:20210415T221240Z
UID:10001924-1619690400-1619692200@www.austintechnologycouncil.org
SUMMARY:Why Are Many Zero Trust Efforts Only 40% Effective? (Zimperium)
DESCRIPTION:Why Are Many Zero Trust Efforts Only 40% Effective?\nMobile Endpoints are Critical to ‘Always Verify\, Never Trust’ Security \nApril 29\, 2021 (Thursday)\n11:00am EDT / 4:00pm BST\n30 Minutes \nThe distributed workforce has changed the face of enterprise security\, bringing enhanced access controls like Zero Trust to the forefront\, enabling employees to be productive anywhere in the world. For enterprises to truly implement the ‘always verify\, never trust’ model of Zero Trust architecture\, they must gather accurate telemetry data from all endpoints\, including mobile\, and address major gaps in enterprise security and data access. \nWhether the device is solely used for 2FA identification\, e-mail communications\, or complete data access through enterprise tools\, each new endpoint accessing a corporate network is a risk if left unmanaged and unprotected. In order to securely enable employees to access the data they need on the devices they use the most\, Zero Trust is critical\, and mobile threat defense is a core component for that enablement. \nIf you have enabled your employees to use their mobile devices as extensions of their office\, please join our experts to: \n* Learn how mobile endpoints are disastrously under-protected\n* Understand why leading enterprises provide attestation on mobile endpoints\n* See live Zero Trust demonstrations of Zimperium’s integrations with Ping Identity and Microsoft \nMeet our Speakers: \nKern Smith\nVP of Solution Engineering | Zimperium \nRichard Melick\nDirector of Product Strategy\, Endpoint Security | Zimperium \nLocal Account Executive: christina.angelone@zimperium.com
URL:https://www.austintechnologycouncil.org/event/why-are-many-zero-trust-efforts-only-40-effective-zimperium/
LOCATION:Online
CATEGORIES:Community Event
ATTACH;FMTTYPE=image/png:https://www.austintechnologycouncil.org/wp-content/uploads/2021/04/zero.png
END:VEVENT
BEGIN:VEVENT
DTSTART;TZID=America/Chicago:20210430T110000
DTEND;TZID=America/Chicago:20210430T120000
DTSTAMP:20260420T055716
CREATED:20210329T130836Z
LAST-MODIFIED:20210329T130836Z
UID:10001916-1619780400-1619784000@www.austintechnologycouncil.org
SUMMARY:Movability Commuter Tax Benefits Webinar
DESCRIPTION:What are the current IRS rules for commute tax benefits and how can your organization build a commuter program that can take advantage? Learn all about it at Movability’s commuter tax benefit webinar! \nHear from our presenters:\n– Movability Board member Glenn Lewis of Maxwell Locke & Ritter\,\n– Philip L. Winters\, TDM-CP from the Center for Urban Transportation Research
URL:https://www.austintechnologycouncil.org/event/movability-commuter-tax-benefits-webinar/
LOCATION:Online
CATEGORIES:Community Event
ATTACH;FMTTYPE=image/jpeg:https://www.austintechnologycouncil.org/wp-content/uploads/2021/03/14d14eacb567714ccd45dc52ad97ac44.jpg
END:VEVENT
END:VCALENDAR