BEGIN:VCALENDAR
VERSION:2.0
PRODID:-//Austin Technology Council - ECPv6.11.0.1//NONSGML v1.0//EN
CALSCALE:GREGORIAN
METHOD:PUBLISH
X-WR-CALNAME:Austin Technology Council
X-ORIGINAL-URL:https://www.austintechnologycouncil.org
X-WR-CALDESC:Events for Austin Technology Council
REFRESH-INTERVAL;VALUE=DURATION:PT1H
X-Robots-Tag:noindex
X-PUBLISHED-TTL:PT1H
BEGIN:VTIMEZONE
TZID:America/Chicago
BEGIN:DAYLIGHT
TZOFFSETFROM:-0600
TZOFFSETTO:-0500
TZNAME:CDT
DTSTART:20210314T080000
END:DAYLIGHT
BEGIN:STANDARD
TZOFFSETFROM:-0500
TZOFFSETTO:-0600
TZNAME:CST
DTSTART:20211107T070000
END:STANDARD
END:VTIMEZONE
BEGIN:VEVENT
DTSTART;TZID=America/Chicago:20210101T000000
DTEND;TZID=America/Chicago:20210201T000000
DTSTAMP:20260419T094753
CREATED:20201228T164927Z
LAST-MODIFIED:20201228T165013Z
UID:10001544-1609459200-1612137600@www.austintechnologycouncil.org
SUMMARY:January’s “iResolve.” Employee Team Building … While Burning a Few Calories
DESCRIPTION:Kick-off the New Year Building Your Company’s Culture Through an Employee Activity Challenge that Works! \niResolve. is a January employee virtual activity challenge that connects your employees globally or across the street\, in a fun safe way. \nNo penalties for late starts. People can register at any time during January and enter all activity accomplished as of the 1st. \nEach participant receives their own “resolution bib” to write in a resolution. Delivering a fun way for employees to engage and a great team-building opportunity to start the year; on Zoom or even if in the same room. \nSign up your organization. There are no fees for individuals or organizations\, plus HealthCode’s SaaS platform and communication materials make implementation a snap. \nThe iResolve. communication materials help make implementation a snap. \nIn a time when millions are staying at home to stop the spread of COVID-19\, HealthCode is now providing monthly virtual activity challenges; helping motivate people in stay active and remain safely socially connected. \nThe January virtual challenge is a fun way to stay active during these colder winter days\, while staying safely connected. \niResolve. is from the Austin-based nonprofit HealthCode\, whose mission is to empower people to live healthier happier lives free from preventable diseases. There are no fees for organizations or individuals to participate. https://healthcode.org/ \nFor any questions contact: Steve@HealthCode.org
URL:https://www.austintechnologycouncil.org/event/januarys-iresolve-employee-team-building-while-burning-a-few-calories/
LOCATION:Online\, United States
CATEGORIES:Community Event
ATTACH;FMTTYPE=image/jpeg:https://www.austintechnologycouncil.org/wp-content/uploads/2020/12/iresolve_banners_700x275.jpg
END:VEVENT
BEGIN:VEVENT
DTSTART;TZID=America/Chicago:20210105T180000
DTEND;TZID=America/Chicago:20210105T200000
DTSTAMP:20260419T094753
CREATED:20201218T161013Z
LAST-MODIFIED:20201218T161013Z
UID:10001543-1609869600-1609876800@www.austintechnologycouncil.org
SUMMARY:Top Tech Trends for 2021 (and Beyond)
DESCRIPTION:Technology advances rapidly\, often exponentially\, and is enabling rapid increases in innovation and productivity\, shaping industries and education\, enhancing our personal and professional lives\, and changing–mostly for the better–our society and lives. \nWant to know what’s coming next?\nJoin us for our annual “Top Tech Trends” event as Jay Boisseau and Jay Williams again summarize what analysts are predicting for the year ahead and what technologies they think will have the most impact and influence in our lives and society in 2021 (and beyond). They’ll share data\, dive into a few examples\, and offer predictions–and some suggestions for what to pay attention to\, learn\, and adopt in 2021.
URL:https://www.austintechnologycouncil.org/event/top-tech-trends-for-2021-and-beyond/
LOCATION:Zoom\, Select a Country:
CATEGORIES:Community Event
ATTACH;FMTTYPE=image/jpeg:https://www.austintechnologycouncil.org/wp-content/uploads/2020/12/Technology-trends-for-2020.jpg
END:VEVENT
BEGIN:VEVENT
DTSTART;TZID=America/Chicago:20210105T180000
DTEND;TZID=America/Chicago:20210105T200000
DTSTAMP:20260419T094753
CREATED:20201228T172135Z
LAST-MODIFIED:20201228T172135Z
UID:10001545-1609869600-1609876800@www.austintechnologycouncil.org
SUMMARY:Top Tech Trends for 2021 (and Beyond)
DESCRIPTION:Technology advances rapidly\, often exponentially\, and is enabling rapid increases in innovation and productivity\, shaping industries and education\, enhancing our personal and professional lives\, and changing–mostly for the better–our society and lives. \nWant to know what’s coming next?\nJoin us for our annual “Top Tech Trends” event as Jay Boisseau and Jay Williams again summarize what analysts are predicting for the year ahead and what technologies they think will have the most impact and influence in our lives and society in 2021 (and beyond). They’ll share data\, dive into a few examples\, and offer predictions–and some suggestions for what to pay attention to\, learn\, and adopt in 2021.\n​ \nThis event is co-sponsored by the Invited MBA\nThe Invited MBA is designed and run by Abilitie\, a world leader in executive leadership and business education. The program provides tomorrow’s leaders the business\, management\, and leadership skills necessary to thrive in our fast-paced global business environment.
URL:https://www.austintechnologycouncil.org/event/top-tech-trends-for-2021-and-beyond-2/
LOCATION:Online\, United States
CATEGORIES:Community Event
ATTACH;FMTTYPE=image/jpeg:https://www.austintechnologycouncil.org/wp-content/uploads/2020/12/Technology-trends-for-2020-1.jpg
END:VEVENT
BEGIN:VEVENT
DTSTART;TZID=America/Chicago:20210116T100000
DTEND;TZID=America/Chicago:20210116T130000
DTSTAMP:20260419T094753
CREATED:20210108T175540Z
LAST-MODIFIED:20210108T181313Z
UID:10001547-1610791200-1610802000@www.austintechnologycouncil.org
SUMMARY:AUTM Tech Donation Drive- Jan 16
DESCRIPTION:Happy New Year AUTM Community! \nDON’T TOSS OUT YOUR OLD DEVICES\, YET!!!\nIn honor of MLK National Day of Service\, AUTM will be collecting monetary donations\, gently used laptops\, desktop computers\, monitors\, webcams\, and hotspots. \nThe proceeds will be used to help our AUTMites progress through our workforce development training program\, transforming them into more self-sufficient\, tech professionals and ultimately helping to eliminate poverty. \nSee the details below for Drop off information. \nSee you there!! \nAll the Best\, \nIsa White\, MBA | Program Director\nAustin Urban Technology Movement\nDirect: 512.766.0653\nisa@autmtx.org
URL:https://www.austintechnologycouncil.org/event/autm-tech-donation-drive-jan-16/
LOCATION:DeWitty Job Training &amp; Employment Center\, 2209 Rosewood Ave\, Austin\, TX\, 78702\, United States
CATEGORIES:Community Event
ATTACH;FMTTYPE=image/png:https://www.austintechnologycouncil.org/wp-content/uploads/2021/01/no-link-of-Jan-16-Tech-Donation-Drive.png
END:VEVENT
BEGIN:VEVENT
DTSTART;TZID=America/Chicago:20210120T100000
DTEND;TZID=America/Chicago:20210120T103000
DTSTAMP:20260419T094753
CREATED:20210106T212149Z
LAST-MODIFIED:20210106T212149Z
UID:10001546-1611136800-1611138600@www.austintechnologycouncil.org
SUMMARY:How NOT to Fall Victim to a Mobile Phishing Attack - Zimperium
DESCRIPTION:Phishing has been a threat for at least a quarter of a century\, but the COVID-19 pandemic has tripled frequency of phishing attacks. With mobile usage now surpassing desktop usage\, cybercriminals see mobile as a prime target for phishing attacks. \nAs the leader in mobile security and provider of the only on-device\, machine learning-based mobile phishing solution\, Zimperium has unique insights and first-hand data about mobile phishing trends. \nJoin us for a webinar on 11am EST on January 20th\, where we’ll share this information\, including: \n\nHow phishing attacks have changed since the pandemic began;\nWhat mobile phishing attacks are most commonly used; and\nHow to protect your organization from mobile phishing attacks.\n\nSpeakers:\nNicolás Chiaraviglio\nDirector of Security Intelligence\nZimperium \nJT Keating\nSVP of Product Strategy\nZimperium
URL:https://www.austintechnologycouncil.org/event/how-not-to-fall-victim-to-a-mobile-phishing-attack-zimperium/
LOCATION:Zimperium – Virtual Event\, 4055 Valley View\, Dallas\, TX\, 75244\, United States
CATEGORIES:Community Event
ATTACH;FMTTYPE=image/jpeg:https://www.austintechnologycouncil.org/wp-content/uploads/2021/01/webinar.jpeg
END:VEVENT
BEGIN:VEVENT
DTSTART;TZID=America/Chicago:20210122T090000
DTEND;TZID=America/Chicago:20210122T100000
DTSTAMP:20260419T094753
CREATED:20210114T162017Z
LAST-MODIFIED:20210114T162017Z
UID:10001548-1611306000-1611309600@www.austintechnologycouncil.org
SUMMARY:High Tech Entrepreneurs & Affordable Housing
DESCRIPTION:Join industry leaders in a virtual discussion on High-Tech’s role in solving Austin’s affordable housing crisis\n“Learn how you can be part of the solution” \nFriday\, January 22\, 2021\n9:00 a.m. – 10:00 a.m.\nKevin Cunningham Moderator\, Entrepreneur\, Austin Habitat Board Member \nMark McClain CEO & Co-founder\, SailPoint\nTyson Tuttle President & CEO\, Silicon Labs\nAmber Gunst CEO\, Austin Technology Council\nTim Hamilton CEO & Founder\, Praxent \nThis panel brings together some of Austin’s premier high-tech leaders to discuss the role that high tech can play in helping to solve Austin’s affordable housing crisis. High tech has been a major factor in Austin’s explosive growth over the past twenty years\, but an unwanted by-product of that growth is that affordable housing for low-income earners in Austin has all but vanished. Join us for a rich discussion on how some high-tech companies in Austin are leading by example and how you can join the effort in providing solutions and hope to those in need.
URL:https://www.austintechnologycouncil.org/event/high-tech-entrepreneurs-affordable-housing/
LOCATION:Online\, United States
CATEGORIES:Community Event
ATTACH;FMTTYPE=image/png:https://www.austintechnologycouncil.org/wp-content/uploads/2021/01/Promo_HighTech_SpeakerSeries.png
END:VEVENT
BEGIN:VEVENT
DTSTART;TZID=America/Chicago:20210126T080000
DTEND;TZID=America/Chicago:20210126T090000
DTSTAMP:20260419T094753
CREATED:20210125T162433Z
LAST-MODIFIED:20210125T162433Z
UID:10001549-1611648000-1611651600@www.austintechnologycouncil.org
SUMMARY:Leeds Digital Festival
DESCRIPTION:The UK’s Department for International Trade (DIT)\, in partnership with the Digital City Festival in Manchester and the Leeds Digital Festival\, would like to invite you to their joint webinar on 26 January 2021 to discover the opportunities available to inward investors this April \nBoth festivals take place over a 3-week period in April from 12 – 30 April. \nJoin Nigel Jones\, DIT Tech\, Digital and Creative Specialist with the Festival Directors of both the Digital City Festival in Manchester (Martyn Collins) and the Leeds Digital Festival (Stuart Clarke) to find out what is taking place and how to get involved. \nAs well as providing a preview to their upcoming events\, the Festival Directors will be able to answer any questions you have. \nThe Digital City Festival is the annual event series exploring what makes a leading digital city. After a hugely successful inaugural week of events in March 2020\, they’re ramping things up: DCF2021 will comprise two weeks of online events broadcast to a global audience. \nIt will be hosted on the Digital City Network – featuring an online exhibition and solutions showcase\, live-streamed keynotes\, on-demand masterclasses\, live Q&As\, roundtables\, seminars and more. Plus\, discover a diverse range of partner events hosted by the digital community\, all in one place on the network. \nThe Leeds Digital Festival is the largest tech event in the UK outside London\, celebrating digital expertise and innovation that is happening in the city on a regional\, national and international level. \nWhilst the Festival last year was split into two separate events\, it continued to grow on an international level. They held 428 online events welcoming over 45\,000 attendees\, from 6 different continents and over 60 countries across the globe. \nThese two Festivals will be relevant to inward investors from any tech sector\, including opportunities for tech companies in non-tech verticals like Energy\, Financial Services\, Health and Manufacturing. \nDo not miss out on this great opportunity and register today.
URL:https://www.austintechnologycouncil.org/event/leeds-digital-festival/
LOCATION:Online\, United States
CATEGORIES:Community Event
END:VEVENT
BEGIN:VEVENT
DTSTART;TZID=America/Chicago:20210127T100000
DTEND;TZID=America/Chicago:20210127T120000
DTSTAMP:20260419T094753
CREATED:20210114T183944Z
LAST-MODIFIED:20210114T183944Z
UID:10001886-1611741600-1611748800@www.austintechnologycouncil.org
SUMMARY:Climate Action Plans Part 3: A Discussion on Air Quality with Texas & UK Officials
DESCRIPTION:CleanTX and the UK Government will co-host a webinar addressing air quality\, a key issue identified by the Chief Sustainability Officers of the four major Texas cities. The webinar will take place on Wednesday\, January 27th from 10:00 AM CST until Noon CST with the last 20 – 30 minutes dedicated to questions and answers. \nPotential topics include the climate impacts of the transportation sector; transition to electrifying transport\, such as charging infrastructure for zero-emissions vehicles; air pollution in relation to climate equity; the green economic recovery from the coronavirus pandemic; and the 2021 United Nations Climate Change Conference (COP26). \nThere is no cost to attend\, but registration is required. To register for this webinar\, please visit https://event.on24.com/wcc/r/2934671/74C1D01920D031A66B0EFD089F302D74
URL:https://www.austintechnologycouncil.org/event/climate-action-plans-part-3-a-discussion-on-air-quality-with-texas-uk-officials/
LOCATION:Online\, United States
CATEGORIES:Community Event
ATTACH;FMTTYPE=image/png:https://www.austintechnologycouncil.org/wp-content/uploads/2021/01/ScreenShot2020-12-29at21.33.32.png
ORGANIZER;CN="CleanTX":MAILTO:brandon@cleantx.org
END:VEVENT
BEGIN:VEVENT
DTSTART;TZID=America/Chicago:20210128T100000
DTEND;TZID=America/Chicago:20210128T110000
DTSTAMP:20260419T094753
CREATED:20210120T211356Z
LAST-MODIFIED:20210120T211356Z
UID:10001893-1611828000-1611831600@www.austintechnologycouncil.org
SUMMARY:Insperity Business Resiliency Series Session 13 – Vaccines and the Workplace
DESCRIPTION:The public/private partnership between the US government and some of the world’s leading pharmaceutical manufacturers has resulted in multiple COVID-19 vaccinations\, each showing tremendous effectiveness in early clinical trials. Now\, with vaccine distribution plans being developed and rolling out\, questions now arise around the employer’s responsibilities when it comes to encouraging\, or even mandating\, employee vaccination. Is a mandate even possible? What about reasonable accommodations? How do we navigate a situation that is updating in a real time\, and do so in a way that protects your employees\, your customers and the long-term health of your business? \nJoin Insperity’s Fernanda Anzek\, Insperity’s Director of Human Resource Operations and Andy Ramzel\, Vice President\, Property and Casualty Services for an important session that will unpack the most recent governmental guidance and explore some of the potential pitfalls associated with this emerging topic.
URL:https://www.austintechnologycouncil.org/event/insperity-business-resiliency-series-session-13-vaccines-and-the-workplace/
LOCATION:Online\, United States
CATEGORIES:Community Event
ATTACH;FMTTYPE=image/png:https://www.austintechnologycouncil.org/wp-content/uploads/2021/01/BusinessResiliencySeries_Session13_CoverSlide.png
END:VEVENT
BEGIN:VEVENT
DTSTART;TZID=America/Chicago:20210129T100000
DTEND;TZID=America/Chicago:20210129T110000
DTSTAMP:20260419T094754
CREATED:20210121T145922Z
LAST-MODIFIED:20210121T145922Z
UID:10001895-1611914400-1611918000@www.austintechnologycouncil.org
SUMMARY:TexTalks: Bioinspired ideas for Sustainable Separations
DESCRIPTION:Membranes are rapidly becoming the fastest growing platform for many process applications in water treatment\, process industries\, pharmaceutical manufacturing and food processing. This talk will present ideas for bioinspired separations that could enable difficult separations while reducing the impact on the environment by reducing energy input\, both embedded and operational. All synthetic membranes (and indeed most separation processes) have selectivity-permeability tradeoffs\, i.e. if a membrane has high permeability\, it will have a lower selectivity between two solutes or between a solute and a solvent. In molecular separation dense membranes\, separation is due to the mechanism of solution-diffusion through a wide distribution of free volume elements which is responsible for the trade-off. A simple solution\, in concept\, to such a challenge is to do what nature does – design precise angstrom to micron scale pores or free volume elements with no polydispersity. We will discuss bioinspired ideas\, and its realization in our lab\, and possible applications of such an ideal membrane based on biological protein channels and artificial channels that mimic their structure. We will also describe an ongoing project in our lab to create interfacially polymerized channel-based membranes for highly selective gas separations and other applications.
URL:https://www.austintechnologycouncil.org/event/textalks-bioinspired-ideas-for-sustainable-separations/
LOCATION:Online\, United States
CATEGORIES:Community Event
ATTACH;FMTTYPE=image/jpeg:https://www.austintechnologycouncil.org/wp-content/uploads/2021/01/TexTalks-TexTalks-Logo.jpg
ORGANIZER;CN="University of Texas at Austin - Texas Engineering Executive Education":MAILTO:execed@engr.utexas.edu
END:VEVENT
BEGIN:VEVENT
DTSTART;TZID=America/Chicago:20210129T100000
DTEND;TZID=America/Chicago:20210129T110000
DTSTAMP:20260419T094754
CREATED:20210127T132143Z
LAST-MODIFIED:20210127T132143Z
UID:10001550-1611914400-1611918000@www.austintechnologycouncil.org
SUMMARY:Venturi Market Update
DESCRIPTION:We would like to invite you to join the Investment Team at Venturi Private Wealth for a January Market Update on Friday\, January 29th at 10:00 AM CT.\nA few of the topics to be discussed are:\n-Recent events and the expected impact on the financial markets.\n-Allocation decisions drive investment returns over time. A look at one of the tools Venturi uses to manage allocations.\n-Recent examples of data-driven allocation moves.
URL:https://www.austintechnologycouncil.org/event/venturi-market-update/
LOCATION:Online\, United States
CATEGORIES:Community Event
ATTACH;FMTTYPE=image/png:https://www.austintechnologycouncil.org/wp-content/uploads/2017/08/Venturi-Logo-Centered.png
END:VEVENT
END:VCALENDAR